From mboxrd@z Thu Jan 1 00:00:00 1970 Return-Path: Received: from mails.dpdk.org (mails.dpdk.org [217.70.189.124]) by inbox.dpdk.org (Postfix) with ESMTP id 44C7C48862 for ; Mon, 29 Sep 2025 13:34:49 +0200 (CEST) Received: from mails.dpdk.org (localhost [127.0.0.1]) by mails.dpdk.org (Postfix) with ESMTP id 3D8414028C; Mon, 29 Sep 2025 13:34:49 +0200 (CEST) Received: from mail-io1-f98.google.com (mail-io1-f98.google.com [209.85.166.98]) by mails.dpdk.org (Postfix) with ESMTP id EB45C4028C for ; Mon, 29 Sep 2025 13:34:47 +0200 (CEST) Received: by mail-io1-f98.google.com with SMTP id ca18e2360f4ac-92c4adc8bfeso44014539f.0 for ; Mon, 29 Sep 2025 04:34:47 -0700 (PDT) DKIM-Signature: v=1; a=rsa-sha256; c=relaxed/relaxed; d=iol.unh.edu; s=unh-iol; t=1759145687; x=1759750487; darn=dpdk.org; h=references:in-reply-to:cc:to:from:subject:message-id:date:from:to :cc:subject:date:message-id:reply-to; bh=r/A32nfjddySg/FhgO0Q06qv96K6323S4WQq1H592j0=; b=QDf6ZHKuzNXytnVcoz/a2A2AUo+iP9h2NhloQBpFEMKudTCOUA2KXU/EKkiDSTZa0F fG8jJbs6xPgbXw/A0v39MEiMOi9uyX3RDXn2cXiAi03SGbVfPXp/dm0wiK6pLG94QFee FflAnY6OSw7dGE7M8l702R4tDv6lAJh8xCHko= X-Google-DKIM-Signature: v=1; a=rsa-sha256; c=relaxed/relaxed; d=1e100.net; s=20230601; t=1759145687; x=1759750487; h=references:in-reply-to:cc:to:from:subject:message-id:date :x-gm-message-state:from:to:cc:subject:date:message-id:reply-to; bh=r/A32nfjddySg/FhgO0Q06qv96K6323S4WQq1H592j0=; b=aa5HE1m17B7lVETCgI71VSf9C/XrAWb9myP/DI6Am2oQPkDmacoASUkrjOKHUHb9Fr QMIiEzqg+IMz+j8TWggwMzWRFJ2wmGbs48h6FB/Qv7oocIyg5H0PtUd3+SD50ved7+5m 7/a3ZnOaiO4tNb8dILJRhla1EgxZ5GxwiwR4ZMs5JgqA9uAZ/nSYF9XEIcva1sggISfh Ha9rE6LWVW5/8YcoIBwVdMv6meGd+OqAeFYtWjHNzIR+kntbUUtgq0hRSFeF+CocxYn5 R7C6bu6PR0DPQ+ea5BYlloGGveejwa2RWWoKtbGhxHJ2rDaJfcIOgivVlnONHB4NoUjw mH7A== X-Gm-Message-State: AOJu0YyJ0PtQBTFrakJWbRO7G9mDYNBX3jAjKGZesVkSdXjrjtcr6bbt xzVslnS+kWtkDRvaxFgBbkUB9pYFfZJrrpBjc6TIowzShIwZFBF+0iLx0UGN5MOpwULEn0cF85L gVDYd4E8Sv4ABwxM5/S4r/Qz8q3TMvqzi0yB2L8k0W1ND X-Gm-Gg: ASbGncsJ8YLy8lmp8hRaASeeAHOGRuc8X2rBIaFBAlW+Duowxn26hLcgTwEyyFI4EXK 97CXjXuiiTR804lThO+TRk2OdW489wQdZRalzv/OkVaQBV7LKPlieIpfuXz+ZP/u732vP/64RV5 YN7/vMuooijlkGcraUDVoiJ/PcyQx6FGUGgQI/a+K6lod5dely/5Xy5Cwx+/WQ+w+fWehPW9Eyw BBBKC3U9g7PS5Xg0ufdM+rIY0nINwIqEJaVrhWJSVaTG7exZtZXASCZVKhp59UMFIKDspzANigm HXsKV8EggQdBRvl2VttFTeKzhobrzZBtGz1IsV8YSh0SHyGIaKd4SlvS5zmVlI3gBSyZ2Tqa X-Google-Smtp-Source: AGHT+IHUDVxWGY3IvQ4Gr78AK7K0ACR54XS7UC1ExRxhx+zwwbuE+TJ+Wn93BsDTSLvrx+aKOoB8aFKkiDDs X-Received: by 2002:a05:6602:140d:b0:92a:29fd:e9c0 with SMTP id ca18e2360f4ac-92c80aa8498mr229490139f.15.1759145687240; Mon, 29 Sep 2025 04:34:47 -0700 (PDT) Received: from postal.iol.unh.edu (postal.iol.unh.edu. [132.177.123.84]) by smtp-relay.gmail.com with ESMTPS id ca18e2360f4ac-913ed62db43sm25296639f.5.2025.09.29.04.34.47 (version=TLS1_2 cipher=ECDHE-ECDSA-AES128-GCM-SHA256 bits=128/128); Mon, 29 Sep 2025 04:34:47 -0700 (PDT) X-Relaying-Domain: iol.unh.edu Date: Mon, 29 Sep 2025 04:34:47 -0700 (PDT) Message-ID: <68da6ed7.050a0220.4a079.e986SMTPIN_ADDED_MISSING@mx.google.com> Received: from [172.21.0.8] (unknown [172.18.0.240]) by postal.iol.unh.edu (Postfix) with ESMTP id C564D6051830; Mon, 29 Sep 2025 07:34:46 -0400 (EDT) Subject: |SUCCESS| pw157016-157025 [PATCH] [v3,10/10] crypto/cnxk: fix tls mb From: dpdklab@iol.unh.edu To: Test Report Cc: dpdk-test-reports@iol.unh.edu In-Reply-To: <20250929094353.1027744-11-ktejasree@marvell.com> References: <20250929094353.1027744-11-ktejasree@marvell.com> Content-Type: text/plain X-BeenThere: test-report@dpdk.org X-Mailman-Version: 2.1.29 Precedence: list List-Id: automatic DPDK test reports List-Unsubscribe: , List-Archive: List-Post: List-Help: List-Subscribe: , Errors-To: test-report-bounces@dpdk.org Test-Label: iol-compile-amd64-testing Test-Status: SUCCESS http://dpdk.org/patch/157025 _Testing PASS_ Submitter: Tejasree Kondoj Date: Monday, September 29 2025 09:43:53 DPDK git baseline: Repo:dpdk Branch: master CommitID:1d627ea13aeec2bcccf27246e6be2508370d171e 157016-157025 --> testing pass Upstream job id: Generic-DPDK-Compile-Meson#429615 Test environment and result as below: +-------------------------------+--------------------+-------------------+------------------+-------------------------+-------------------+----------------------+ | Environment | dpdk_meson_compile | dpdk_compile_spdk | dpdk_compile_ovs | dpdk_llvm_clang_compile | dpdk_msvc_compile | dpdk_mingw64_compile | +===============================+====================+===================+==================+=========================+===================+======================+ | CentOS Stream 9 | PASS | PASS | SKIPPED | SKIPPED | SKIPPED | SKIPPED | +-------------------------------+--------------------+-------------------+------------------+-------------------------+-------------------+----------------------+ | Ubuntu 20.04 | PASS | SKIPPED | SKIPPED | SKIPPED | SKIPPED | SKIPPED | +-------------------------------+--------------------+-------------------+------------------+-------------------------+-------------------+----------------------+ | openSUSE Leap 15.6 | PASS | SKIPPED | SKIPPED | SKIPPED | SKIPPED | SKIPPED | +-------------------------------+--------------------+-------------------+------------------+-------------------------+-------------------+----------------------+ | CentOS Stream 10 | PASS | SKIPPED | SKIPPED | SKIPPED | SKIPPED | SKIPPED | +-------------------------------+--------------------+-------------------+------------------+-------------------------+-------------------+----------------------+ | Fedora Linux 42 | PASS | PASS | PASS | SKIPPED | SKIPPED | SKIPPED | +-------------------------------+--------------------+-------------------+------------------+-------------------------+-------------------+----------------------+ | Debian GNU/Linux 12 | PASS | PASS | SKIPPED | SKIPPED | SKIPPED | SKIPPED | +-------------------------------+--------------------+-------------------+------------------+-------------------------+-------------------+----------------------+ | Red Hat Enterprise Linux 8.10 | PASS | SKIPPED | SKIPPED | SKIPPED | SKIPPED | SKIPPED | +-------------------------------+--------------------+-------------------+------------------+-------------------------+-------------------+----------------------+ | Ubuntu 22.04 | PASS | PASS | SKIPPED | SKIPPED | SKIPPED | SKIPPED | +-------------------------------+--------------------+-------------------+------------------+-------------------------+-------------------+----------------------+ | Ubuntu 24.04 | PASS | PASS | PASS | SKIPPED | SKIPPED | SKIPPED | +-------------------------------+--------------------+-------------------+------------------+-------------------------+-------------------+----------------------+ | Alpine Linux 3.22.0 | PASS | SKIPPED | SKIPPED | SKIPPED | SKIPPED | SKIPPED | +-------------------------------+--------------------+-------------------+------------------+-------------------------+-------------------+----------------------+ | Red Hat Enterprise Linux 9.5 | PASS | SKIPPED | SKIPPED | SKIPPED | SKIPPED | SKIPPED | +-------------------------------+--------------------+-------------------+------------------+-------------------------+-------------------+----------------------+ | FreeBSD 14.2 | PASS | SKIPPED | SKIPPED | SKIPPED | SKIPPED | SKIPPED | +-------------------------------+--------------------+-------------------+------------------+-------------------------+-------------------+----------------------+ | Windows Server 2022 | SKIPPED | SKIPPED | SKIPPED | PASS | PASS | PASS | +-------------------------------+--------------------+-------------------+------------------+-------------------------+-------------------+----------------------+ CentOS Stream 9 Kernel: 5.15 Compiler: gcc gcc (GCC) 11.5.0 20240719 (Red Hat 11.5.0-11) Ubuntu 20.04 Kernel: 4.19 Compiler: gcc gcc (Ubuntu 9.4.0-1ubuntu1~20.04.2) 9.4.0 openSUSE Leap 15.6 Kernel: 5.15 Compiler: gcc gcc (SUSE Linux) 7.5.0 CentOS Stream 10 Kernel: 5.15 Compiler: gcc gcc (GCC) 14.2.1 20250110 (Red Hat 14.2.1-8) Fedora Linux 42 Kernel: 5.15 Compiler: clang gcc (GCC) 15.2.1 20250808 (Red Hat 15.2.1-1) Debian GNU/Linux 12 Kernel: 5.15 Compiler: gcc gcc (Debian 12.2.0-14+deb12u1) 12.2.0 Red Hat Enterprise Linux 8.10 Kernel: 5.15 Compiler: gcc gcc (GCC) 8.5.0 20210514 (Red Hat 8.5.0-22) Ubuntu 22.04 Kernel: 5.15 Compiler: gcc gcc (Ubuntu 11.4.0-1ubuntu1~22.04) 11.4.0 Ubuntu 24.04 Kernel: 5.15 Compiler: gcc gcc (Ubuntu 13.3.0-6ubuntu2~24.04) 13.3.0 Alpine Linux 3.22.0 Kernel: 5.15 Compiler: gcc gcc (Alpine 14.2.0) 14.2.0 Red Hat Enterprise Linux 9.5 Kernel: 5.15 Compiler: gcc gcc (GCC) 11.5.0 20240719 (Red Hat 11.5.0-2) FreeBSD 14.2 Kernel: 14.2-RELEASE Compiler: clang 18.1.6 Windows Server 2022 Kernel: 10.0.20348.2031 Compiler: clang 15.0.7, gcc 14.1.0 (MinGW), and MSVC VS 19.39.33521 To view detailed results, visit: https://lab.dpdk.org/results/dashboard/patchsets/34166/ UNH-IOL DPDK Community Lab To manage your email subscriptions, visit: https://lab.dpdk.org/results/dashboard/preferences/subscriptions/