From mboxrd@z Thu Jan 1 00:00:00 1970 Return-Path: Received: from mails.dpdk.org (mails.dpdk.org [217.70.189.124]) by inbox.dpdk.org (Postfix) with ESMTP id ADBF448862 for ; Mon, 29 Sep 2025 13:53:21 +0200 (CEST) Received: from mails.dpdk.org (localhost [127.0.0.1]) by mails.dpdk.org (Postfix) with ESMTP id 9338240673; Mon, 29 Sep 2025 13:53:21 +0200 (CEST) Received: from mail-qk1-f225.google.com (mail-qk1-f225.google.com [209.85.222.225]) by mails.dpdk.org (Postfix) with ESMTP id BD98340673 for ; Mon, 29 Sep 2025 13:53:19 +0200 (CEST) Received: by mail-qk1-f225.google.com with SMTP id af79cd13be357-85cee530df9so495101085a.3 for ; Mon, 29 Sep 2025 04:53:19 -0700 (PDT) DKIM-Signature: v=1; a=rsa-sha256; c=relaxed/relaxed; d=iol.unh.edu; s=unh-iol; t=1759146799; x=1759751599; darn=dpdk.org; h=references:in-reply-to:cc:to:from:subject:message-id:date:from:to :cc:subject:date:message-id:reply-to; bh=O7cfZYpWNhzPc61/RQUfppnbswQ3Z7Duq/9TLEa9ePE=; b=WOyUtF6GH49EdUc3iEZiLCNfAACvLsIgAhNoQAceYkRru95pkr8If2qYV1eHvyPOPV wMClJfKoemxcGkvtjnYkvJmCCFao979Z92hMrq58IOF1crZCywaP5fAjgrPmiqHHRYyV I9oVFtHxIfKyJbTjnCIF8Y3pBpoWDdR+kB6Uw= X-Google-DKIM-Signature: v=1; a=rsa-sha256; c=relaxed/relaxed; d=1e100.net; s=20230601; t=1759146799; x=1759751599; h=references:in-reply-to:cc:to:from:subject:message-id:date :x-gm-message-state:from:to:cc:subject:date:message-id:reply-to; bh=O7cfZYpWNhzPc61/RQUfppnbswQ3Z7Duq/9TLEa9ePE=; b=u2V04neQbd0vATD2Wnzsl7FmMR5hjZTHQaJJ2r8nAd/aIGe+fG5v2Mcu8O3nKposNk 8PMapk2LRCpeJHwxZyf20HkA4n8NmkCF8lMP1NCfePPmcbnhc7/eAe7hMkrq09uxII7H wrkN8f4Fgw/Etc8agNxMFkBL+BV6y33f2GfDigT+eEuXc+CaKKpSYnqM3b5+Vb7MUlKk kxlB8mlDW9Kizxg0+XoZrS/PJgLpKed1JfJjajSOuhuupWMhMad4giqHrP2uAFy1vTSh svesAj3fZw3/QAeykuJmap8DeRYlS5XzFVaEs4SN3QwxlupfSjwTaRgHmAMNrBXfKGcN rkXg== X-Gm-Message-State: AOJu0Yw12eDBOU7ULEzrSL6ZYHALC0dsCkbFc38B+vOcOkyiM6snPSZU LQvK7V2LeF8OIcuCoo/V3cU0aqsrbUOwBKQ3LhvNLtQUnFX5v5vxPrGo3Fm7q1mwQW+WBc0zDLT SNP8KHJ3osuYOFfHedgVRfcqGEeYncb5Ka1Oo+wzz/6GK X-Gm-Gg: ASbGncu0iqLo89NbVKHi6LOQhaSMaRxOPFf2cfS+YN10jaTGe3D/T/PxWhfMeN0kbkB xgKqKo5/yxIpyA0kB3BHqtefCG+o7du3/CiPr+zUHA3xMvhuv/RhbJvOFzQnQxYAZfOe8BGcsh0 oRhZfVp38Nk8LX+PajhfJrAJG+pzvOrZbUurO5rDqVkw2i4+uyf3/UY3hQ9G25cbKSNtSlZpJoT OWIJh3ZL7xdrsa2CQ8gI8cCCGyeT0k38LUtMYAhdqHKPfIJcLPyVb95slz5G7xaqucjTOGDIFtg V24EbltLdfA3dZ4GE5td37JFdLHOl49zjfeoYwttW7K6FDhaIzvs0Zc/NMm7xc8lfXxLcbbj X-Google-Smtp-Source: AGHT+IGt/Y2yw91j0njZ2fsYHduqVh+dHmoaySj5YinmfEkkhNwpFtmpnZaXfLkfqR/tA38NvQV6cldoFHSK X-Received: by 2002:a05:620a:7104:b0:85d:3c32:c412 with SMTP id af79cd13be357-85d3c32ca1dmr1774517785a.5.1759146799066; Mon, 29 Sep 2025 04:53:19 -0700 (PDT) Received: from postal.iol.unh.edu (postal.iol.unh.edu. [132.177.123.84]) by smtp-relay.gmail.com with ESMTPS id af79cd13be357-85c2f199368sm79415785a.8.2025.09.29.04.53.19 (version=TLS1_2 cipher=ECDHE-ECDSA-AES128-GCM-SHA256 bits=128/128); Mon, 29 Sep 2025 04:53:19 -0700 (PDT) X-Relaying-Domain: iol.unh.edu Date: Mon, 29 Sep 2025 04:53:19 -0700 (PDT) Message-ID: <68da732f.050a0220.132dac.f663SMTPIN_ADDED_MISSING@mx.google.com> Received: from [172.21.0.3] (unknown [172.18.0.240]) by postal.iol.unh.edu (Postfix) with ESMTP id BB5F96051830; Mon, 29 Sep 2025 07:53:18 -0400 (EDT) Subject: |SUCCESS| pw157026-157027 [PATCH] [v3,2/2] build: add backward compa From: dpdklab@iol.unh.edu To: Test Report Cc: dpdk-test-reports@iol.unh.edu In-Reply-To: <20250929100528.18365-3-ktraynor@redhat.com> References: <20250929100528.18365-3-ktraynor@redhat.com> Content-Type: text/plain X-BeenThere: test-report@dpdk.org X-Mailman-Version: 2.1.29 Precedence: list List-Id: automatic DPDK test reports List-Unsubscribe: , List-Archive: List-Post: List-Help: List-Subscribe: , Errors-To: test-report-bounces@dpdk.org Test-Label: iol-unit-amd64-testing Test-Status: SUCCESS http://dpdk.org/patch/157027 _Testing PASS_ Submitter: Kevin Traynor Date: Monday, September 29 2025 10:05:28 DPDK git baseline: Repo:dpdk Branch: master CommitID:1d627ea13aeec2bcccf27246e6be2508370d171e 157026-157027 --> testing pass Upstream job id: Generic-Unit-Test-DPDK#376171 Test environment and result as below: +-------------------------------+----------------+ | Environment | dpdk_unit_test | +===============================+================+ | Fedora Linux 42 | PASS | +-------------------------------+----------------+ | Debian GNU/Linux 12 | PASS | +-------------------------------+----------------+ | Ubuntu 22.04 | PASS | +-------------------------------+----------------+ | Fedora Linux 40 | PASS | +-------------------------------+----------------+ | CentOS Stream 9 | PASS | +-------------------------------+----------------+ | CentOS Stream 10 | PASS | +-------------------------------+----------------+ | Ubuntu 20.04 | PASS | +-------------------------------+----------------+ | Red Hat Enterprise Linux 8.10 | PASS | +-------------------------------+----------------+ | Fedora Linux 41 | PASS | +-------------------------------+----------------+ | Red Hat Enterprise Linux 9.5 | PASS | +-------------------------------+----------------+ | Ubuntu 24.04 | PASS | +-------------------------------+----------------+ | Windows Server 2022 | PASS | +-------------------------------+----------------+ Fedora Linux 42 Kernel: 5.15 Compiler: gcc gcc (GCC) 15.2.1 20250808 (Red Hat 15.2.1-1) Debian GNU/Linux 12 Kernel: 5.15 Compiler: gcc gcc (Debian 12.2.0-14+deb12u1) 12.2.0 Ubuntu 22.04 Kernel: 5.15 Compiler: gcc gcc (Ubuntu 11.4.0-1ubuntu1~22.04) 11.4.0 Fedora Linux 40 Kernel: 5.15 Compiler: clang gcc (GCC) 14.2.1 20240912 (Red Hat 14.2.1-3) CentOS Stream 9 Kernel: 5.15 Compiler: gcc gcc (GCC) 11.5.0 20240719 (Red Hat 11.5.0-11) CentOS Stream 10 Kernel: 5.15 Compiler: gcc gcc (GCC) 14.2.1 20250110 (Red Hat 14.2.1-8) Ubuntu 20.04 Kernel: 5.15 Compiler: gcc gcc (Ubuntu 9.4.0-1ubuntu1~20.04.2) 9.4.0 Red Hat Enterprise Linux 8.10 Kernel: 5.15 Compiler: gcc gcc (GCC) 8.5.0 20210514 (Red Hat 8.5.0-22) Fedora Linux 41 Kernel: 5.15 Compiler: clang gcc (GCC) 14.3.1 20250523 (Red Hat 14.3.1-1) Red Hat Enterprise Linux 9.5 Kernel: 5.15 Compiler: gcc gcc (GCC) 11.5.0 20240719 (Red Hat 11.5.0-2) Ubuntu 24.04 Kernel: 5.15 Compiler: gcc gcc (Ubuntu 13.3.0-6ubuntu2~24.04) 13.3.0 Windows Server 2022 Kernel: 10.0.20348.2031 Compiler: clang 15.0.7, gcc 14.1.0 (MinGW), and MSVC VS 19.39.33521 To view detailed results, visit: https://lab.dpdk.org/results/dashboard/patchsets/34167/ UNH-IOL DPDK Community Lab To manage your email subscriptions, visit: https://lab.dpdk.org/results/dashboard/preferences/subscriptions/