From mboxrd@z Thu Jan 1 00:00:00 1970 Return-Path: Received: from mails.dpdk.org (mails.dpdk.org [217.70.189.124]) by inbox.dpdk.org (Postfix) with ESMTP id 8EAA148863 for ; Mon, 29 Sep 2025 14:02:21 +0200 (CEST) Received: from mails.dpdk.org (localhost [127.0.0.1]) by mails.dpdk.org (Postfix) with ESMTP id 60A2340668; Mon, 29 Sep 2025 14:02:21 +0200 (CEST) Received: from mail-pj1-f98.google.com (mail-pj1-f98.google.com [209.85.216.98]) by mails.dpdk.org (Postfix) with ESMTP id BAE9540668 for ; Mon, 29 Sep 2025 14:02:19 +0200 (CEST) Received: by mail-pj1-f98.google.com with SMTP id 98e67ed59e1d1-3306d3ab2e4so5129524a91.3 for ; Mon, 29 Sep 2025 05:02:19 -0700 (PDT) DKIM-Signature: v=1; a=rsa-sha256; c=relaxed/relaxed; d=iol.unh.edu; s=unh-iol; t=1759147339; x=1759752139; darn=dpdk.org; h=references:in-reply-to:cc:to:from:subject:message-id:date:from:to :cc:subject:date:message-id:reply-to; bh=OkzQdTqaJ6+LVUCq4JVUypXIerLrzWWVciNC313SmtA=; b=RsL/KGbfRGyu52wBpU8CZlZniMpqhwMoB9szhh4VC8ZRPhJJDOEQqMz9flqAAoBIDs 5QsMwxxfweilf048GV2+6X4NAAcVUKMwRNU2IIP6CiAW5Kpppt4i0f44iiawkNQPCAob 1S2TJa1HK/FuW8fuSp7P8nqs/gjLxIdK6bi/4= X-Google-DKIM-Signature: v=1; a=rsa-sha256; c=relaxed/relaxed; d=1e100.net; s=20230601; t=1759147339; x=1759752139; h=references:in-reply-to:cc:to:from:subject:message-id:date :x-gm-message-state:from:to:cc:subject:date:message-id:reply-to; bh=OkzQdTqaJ6+LVUCq4JVUypXIerLrzWWVciNC313SmtA=; b=SOFpAFTWq6U/m64T7YzWJtPA9OkOUiFfwr9vQ2ZjN9GpPo/7FEGED9U3HVnRyEcLLX 0V37zPOdXrArRmiE8aUSs+l0ZsVVT8ZtellwexZsMxQcx48ddBDj60SlGewy32afgEiK UGWAgB9X1bOvkPN6vxEJohi9KpKRUfOTyecko1PZGcSBTaFTHvBwSgs4iVIJMSWvaO1/ 2k9KGg42rWyt0ww39x3e+tyTvL6TH2PsZzPrmn1XcXmhv5PxnrpQPHMFPTF2suSAlkYZ e8R68WdQTPDFoTS4XjbRvCWWns+QUtpCsL9TfwI7LSJj9S/kjq0QYK9vMtPLV5YJyYXa wdOw== X-Gm-Message-State: AOJu0Ywqioe15M9HBNjkKn4C/DIpK4IpjArBJq7EuQn8zC4iflTwN4LH zLvL2McgdyC5uotzDGhgA9/ieOO0Y4sFex421vxDPN17doLwBZL0prAYvvwkSzfJWYsphpeS+Al ++RHwIsBkimTlfECNAjXuLVgwN64OL8hYqTBj3Rgl5R57 X-Gm-Gg: ASbGncvxXMX/TcNIbn45QKw3EXv4Lv4MHlyG7ZvH8LVCw4SP2Bc/o0dtPpBbwkzuRGD 5zNJfdJIxgxBcUwvxcgxBagZpeTb5hZm35LXfiz+XKPYWX2HnxKocHqJI8Edkv9TWT8tISXzJTc h3hrFtUkXMrlagDuzY50vqN9OtDR9PzlFXD0C/LHXGtXNWtTUE2YBEqjalfO7oKp/cROfl994PH KG/kyH7AqCxXHoGroQ2qfpuPd+9iK29cvp79uqqTCldM6NlUIGiBP7oaa5WbNNqY/k5fGLA57zT 5SoG/4NDqVcGEjGpamOzNHfw9FMX04OqGZMOzXl937Huoa4DL6ypw0IP5qftOqXab2kGFq2W X-Google-Smtp-Source: AGHT+IG5Dn0utjgoLgwSdh6DgMtA3qv5UTY1ZZP53HL7Sg+r69s6YSMV+qRzwyAlHhNHj95rKvkJtYp0l8Ct X-Received: by 2002:a17:90b:3b87:b0:335:2a21:69d3 with SMTP id 98e67ed59e1d1-3352a216b61mr11692025a91.28.1759147338599; Mon, 29 Sep 2025 05:02:18 -0700 (PDT) Received: from postal.iol.unh.edu (postal.iol.unh.edu. [132.177.123.84]) by smtp-relay.gmail.com with ESMTPS id 98e67ed59e1d1-3341bdf72d8sm934146a91.3.2025.09.29.05.02.18 (version=TLS1_2 cipher=ECDHE-ECDSA-AES128-GCM-SHA256 bits=128/128); Mon, 29 Sep 2025 05:02:18 -0700 (PDT) X-Relaying-Domain: iol.unh.edu Date: Mon, 29 Sep 2025 05:02:18 -0700 (PDT) Message-ID: <68da754a.170a0220.2ee0e7.8299SMTPIN_ADDED_MISSING@mx.google.com> Received: from [172.21.0.3] (unknown [172.18.0.240]) by postal.iol.unh.edu (Postfix) with ESMTP id C38B560003EA; Mon, 29 Sep 2025 08:02:17 -0400 (EDT) Subject: |SUCCESS| pw157026-157027 [PATCH] [v3,2/2] build: add backward compa From: dpdklab@iol.unh.edu To: Test Report Cc: dpdk-test-reports@iol.unh.edu In-Reply-To: <20250929100528.18365-3-ktraynor@redhat.com> References: <20250929100528.18365-3-ktraynor@redhat.com> Content-Type: text/plain X-BeenThere: test-report@dpdk.org X-Mailman-Version: 2.1.29 Precedence: list List-Id: automatic DPDK test reports List-Unsubscribe: , List-Archive: List-Post: List-Help: List-Subscribe: , Errors-To: test-report-bounces@dpdk.org Test-Label: iol-compile-amd64-testing Test-Status: SUCCESS http://dpdk.org/patch/157027 _Testing PASS_ Submitter: Kevin Traynor Date: Monday, September 29 2025 10:05:28 DPDK git baseline: Repo:dpdk Branch: master CommitID:1d627ea13aeec2bcccf27246e6be2508370d171e 157026-157027 --> testing pass Upstream job id: Windows-Compile-DPDK-Native#31292 Test environment and result as below: +-------------------------------+--------------------+-------------------+------------------+-------------------+-------------------------+----------------------+ | Environment | dpdk_meson_compile | dpdk_compile_spdk | dpdk_compile_ovs | dpdk_msvc_compile | dpdk_llvm_clang_compile | dpdk_mingw64_compile | +===============================+====================+===================+==================+===================+=========================+======================+ | FreeBSD 14.2 | PASS | SKIPPED | SKIPPED | SKIPPED | SKIPPED | SKIPPED | +-------------------------------+--------------------+-------------------+------------------+-------------------+-------------------------+----------------------+ | CentOS Stream 9 | PASS | PASS | SKIPPED | SKIPPED | SKIPPED | SKIPPED | +-------------------------------+--------------------+-------------------+------------------+-------------------+-------------------------+----------------------+ | CentOS Stream 10 | PASS | SKIPPED | SKIPPED | SKIPPED | SKIPPED | SKIPPED | +-------------------------------+--------------------+-------------------+------------------+-------------------+-------------------------+----------------------+ | Fedora Linux 42 | PASS | PASS | PASS | SKIPPED | SKIPPED | SKIPPED | +-------------------------------+--------------------+-------------------+------------------+-------------------+-------------------------+----------------------+ | Red Hat Enterprise Linux 9.5 | PASS | SKIPPED | SKIPPED | SKIPPED | SKIPPED | SKIPPED | +-------------------------------+--------------------+-------------------+------------------+-------------------+-------------------------+----------------------+ | Ubuntu 20.04 | PASS | SKIPPED | SKIPPED | SKIPPED | SKIPPED | SKIPPED | +-------------------------------+--------------------+-------------------+------------------+-------------------+-------------------------+----------------------+ | Debian GNU/Linux 12 | PASS | PASS | SKIPPED | SKIPPED | SKIPPED | SKIPPED | +-------------------------------+--------------------+-------------------+------------------+-------------------+-------------------------+----------------------+ | Ubuntu 22.04 | PASS | PASS | SKIPPED | SKIPPED | SKIPPED | SKIPPED | +-------------------------------+--------------------+-------------------+------------------+-------------------+-------------------------+----------------------+ | Red Hat Enterprise Linux 8.10 | PASS | SKIPPED | SKIPPED | SKIPPED | SKIPPED | SKIPPED | +-------------------------------+--------------------+-------------------+------------------+-------------------+-------------------------+----------------------+ | Ubuntu 24.04 | PASS | PASS | PASS | SKIPPED | SKIPPED | SKIPPED | +-------------------------------+--------------------+-------------------+------------------+-------------------+-------------------------+----------------------+ | openSUSE Leap 15.6 | PASS | SKIPPED | SKIPPED | SKIPPED | SKIPPED | SKIPPED | +-------------------------------+--------------------+-------------------+------------------+-------------------+-------------------------+----------------------+ | Alpine Linux 3.22.0 | PASS | SKIPPED | SKIPPED | SKIPPED | SKIPPED | SKIPPED | +-------------------------------+--------------------+-------------------+------------------+-------------------+-------------------------+----------------------+ | Windows Server 2022 | SKIPPED | SKIPPED | SKIPPED | PASS | PASS | PASS | +-------------------------------+--------------------+-------------------+------------------+-------------------+-------------------------+----------------------+ FreeBSD 14.2 Kernel: 14.2-RELEASE Compiler: clang 18.1.6 CentOS Stream 9 Kernel: 5.15 Compiler: gcc gcc (GCC) 11.5.0 20240719 (Red Hat 11.5.0-11) CentOS Stream 10 Kernel: 5.15 Compiler: gcc gcc (GCC) 14.2.1 20250110 (Red Hat 14.2.1-8) Fedora Linux 42 Kernel: 5.15 Compiler: clang gcc (GCC) 15.2.1 20250808 (Red Hat 15.2.1-1) Red Hat Enterprise Linux 9.5 Kernel: 5.15 Compiler: gcc gcc (GCC) 11.5.0 20240719 (Red Hat 11.5.0-2) Ubuntu 20.04 Kernel: 4.19 Compiler: gcc gcc (Ubuntu 9.4.0-1ubuntu1~20.04.2) 9.4.0 Debian GNU/Linux 12 Kernel: 5.15 Compiler: gcc gcc (Debian 12.2.0-14+deb12u1) 12.2.0 Ubuntu 22.04 Kernel: 5.15 Compiler: gcc gcc (Ubuntu 11.4.0-1ubuntu1~22.04) 11.4.0 Red Hat Enterprise Linux 8.10 Kernel: 5.15 Compiler: gcc gcc (GCC) 8.5.0 20210514 (Red Hat 8.5.0-22) Ubuntu 24.04 Kernel: 5.15 Compiler: gcc gcc (Ubuntu 13.3.0-6ubuntu2~24.04) 13.3.0 openSUSE Leap 15.6 Kernel: 5.15 Compiler: gcc gcc (SUSE Linux) 7.5.0 Alpine Linux 3.22.0 Kernel: 5.15 Compiler: gcc gcc (Alpine 14.2.0) 14.2.0 Windows Server 2022 Kernel: 10.0.20348.2031 Compiler: clang 15.0.7, gcc 14.1.0 (MinGW), and MSVC VS 19.39.33521 To view detailed results, visit: https://lab.dpdk.org/results/dashboard/patchsets/34167/ UNH-IOL DPDK Community Lab To manage your email subscriptions, visit: https://lab.dpdk.org/results/dashboard/preferences/subscriptions/