From mboxrd@z Thu Jan 1 00:00:00 1970 Return-Path: Received: from mails.dpdk.org (mails.dpdk.org [217.70.189.124]) by inbox.dpdk.org (Postfix) with ESMTP id 7557348863 for ; Mon, 29 Sep 2025 14:34:02 +0200 (CEST) Received: from mails.dpdk.org (localhost [127.0.0.1]) by mails.dpdk.org (Postfix) with ESMTP id 6CA6740668; Mon, 29 Sep 2025 14:34:02 +0200 (CEST) Received: from mail-il1-f228.google.com (mail-il1-f228.google.com [209.85.166.228]) by mails.dpdk.org (Postfix) with ESMTP id E17C540668 for ; Mon, 29 Sep 2025 14:34:00 +0200 (CEST) Received: by mail-il1-f228.google.com with SMTP id e9e14a558f8ab-428551be643so21741385ab.3 for ; Mon, 29 Sep 2025 05:34:00 -0700 (PDT) DKIM-Signature: v=1; a=rsa-sha256; c=relaxed/relaxed; d=iol.unh.edu; s=unh-iol; t=1759149240; x=1759754040; darn=dpdk.org; h=references:in-reply-to:cc:to:from:subject:message-id:date:from:to :cc:subject:date:message-id:reply-to; bh=f9z0jyK4gjmM/M8qbrjQCqbgX0Km0PPV2aOIUSa4vas=; b=PWMgPU6uF82hT9BJe2x+Ba92jaG1JO8B3vf6IAstF9e9bMJkNT88A9e18sdxLnhi5s Qywa986ZNxklLtc7b+J98H4BMZsETUl7DyGnu4F9uJIJ/SujkzI7Im0ef/7qJ35tZ69l hTrQ1LvvuY2yGFy4feSKkkObB4Bc0CBUzC8Wc= X-Google-DKIM-Signature: v=1; a=rsa-sha256; c=relaxed/relaxed; d=1e100.net; s=20230601; t=1759149240; x=1759754040; h=references:in-reply-to:cc:to:from:subject:message-id:date :x-gm-message-state:from:to:cc:subject:date:message-id:reply-to; bh=f9z0jyK4gjmM/M8qbrjQCqbgX0Km0PPV2aOIUSa4vas=; b=a2Bt+DtNiLpAxIuE8yU0rHQJo25xr1c7OUKV4JzaoVpWythQ7tXui16pqfe6W5WBzb +saz/RgsUQhGIo4MoBCc6GOFhuPoe+i6NlSSL/VDzGon1BXrn7ES5qlSITNWvx06IffM TZfJ4QenNHBM4z2OtoQAVZ783fKeK1+6PblV3kXJrsBhcGEGqyyy5hlW3VtsI1qZAB47 x/vje4+WyWx6MQ1oDtFt7062zfzWtP3B1fHpqvXBR4PbrwU53PreTeoGYTeFgg44xDuU Ea4szL9RMKuEdK6N8+gFjgLGrvfqXBKSdGp6f9AI6a8MFLngjhGSXgnTatirgfIaai72 6KEg== X-Gm-Message-State: AOJu0YwzCY6DZRf+NsWlIL0Chd5LPaeWzHglSWpnthwYoq1jDdOGJtr+ Fwdj59TvuvWn7Fgq/B/n697bM9kWQHKBkbc67yURur05uElE+hpIrq/oAYkU3TyLpbzCsX4g6s7 9GG41AvA1y/K8aC8RXV7+eOF3vh7SzZob0XsdGTp3pFh1FqnTorEhCZaui4so X-Gm-Gg: ASbGnctDW50Q0kPabMjSg+g+cHK/21Ydutchsahm1C8KWIXhaG+kHjslbg+FHv2IzF5 sVVUF2qVf1am9H3QhRfYeiJAeTY/UpuVV2UUK2wCAHmcvRNT6EQ1Gr8D6W5w9YApmJ8xeZbVVB9 Ihi3aim9a7Dd+OdCR2pL5Tudgrkun0EJH5f9JuLJnFb2eHsDDKtQal5mu4WhkG4DCINh7sqom8I w4K8MPjkR0qIo+lfgPFS2hdF3oai+iDhkEzcw7P180jijz19xTeWPcJa0tp53P8dIUwiMUF6RB2 OUbrt14PfW8VgO2u97MbtwWHo7T43RvAwFFZwlUVz0PdZm+80A== X-Google-Smtp-Source: AGHT+IE2GC6tFfSLzDnnWqWLoBaA9SNDNGX0b0lYKaFfnD/s1RAYilZR7A8yT61FreF78xRRr7jH9Lb6c9tJ X-Received: by 2002:a92:cdad:0:b0:429:5f74:3bc4 with SMTP id e9e14a558f8ab-4295f83a2c6mr96633665ab.21.1759149240136; Mon, 29 Sep 2025 05:34:00 -0700 (PDT) Received: from postal.iol.unh.edu (postal.iol.unh.edu. [2606:4100:3880:1234::84]) by smtp-relay.gmail.com with ESMTPS id e9e14a558f8ab-425c02654efsm8189085ab.39.2025.09.29.05.34.00 (version=TLS1_2 cipher=ECDHE-ECDSA-AES128-GCM-SHA256 bits=128/128); Mon, 29 Sep 2025 05:34:00 -0700 (PDT) X-Relaying-Domain: iol.unh.edu Date: Mon, 29 Sep 2025 05:34:00 -0700 (PDT) Message-ID: <68da7cb8.050a0220.4f2f6.295bSMTPIN_ADDED_MISSING@mx.google.com> Received: from [172.21.0.2] (unknown [172.18.0.240]) by postal.iol.unh.edu (Postfix) with ESMTP id 82949604D420; Mon, 29 Sep 2025 08:33:59 -0400 (EDT) Subject: |SUCCESS| pw157028 [PATCH] event/cnxk: increase inflight buffer coun From: dpdklab@iol.unh.edu To: Test Report Cc: dpdk-test-reports@iol.unh.edu, Jerin Jacob In-Reply-To: <20250929102753.1036004-1-ktejasree@marvell.com> References: <20250929102753.1036004-1-ktejasree@marvell.com> Content-Type: text/plain X-BeenThere: test-report@dpdk.org X-Mailman-Version: 2.1.29 Precedence: list List-Id: automatic DPDK test reports List-Unsubscribe: , List-Archive: List-Post: List-Help: List-Subscribe: , Errors-To: test-report-bounces@dpdk.org Test-Label: iol-unit-amd64-testing Test-Status: SUCCESS http://dpdk.org/patch/157028 _Testing PASS_ Submitter: Tejasree Kondoj Date: Monday, September 29 2025 10:27:53 DPDK git baseline: Repo:dpdk-next-eventdev Branch: master CommitID:9e36adf88c49b437c4c5ffa46158e53d96bef82c 157028 --> testing pass Upstream job id: Generic-Unit-Test-DPDK#376217 Test environment and result as below: +-------------------------------+----------------+ | Environment | dpdk_unit_test | +===============================+================+ | Debian GNU/Linux 12 | PASS | +-------------------------------+----------------+ | Fedora Linux 42 | PASS | +-------------------------------+----------------+ | Fedora Linux 40 | PASS | +-------------------------------+----------------+ | CentOS Stream 9 | PASS | +-------------------------------+----------------+ | Ubuntu 20.04 | PASS | +-------------------------------+----------------+ | CentOS Stream 10 | PASS | +-------------------------------+----------------+ | Ubuntu 24.04 | PASS | +-------------------------------+----------------+ | Fedora Linux 41 | PASS | +-------------------------------+----------------+ | Red Hat Enterprise Linux 9.5 | PASS | +-------------------------------+----------------+ | Red Hat Enterprise Linux 8.10 | PASS | +-------------------------------+----------------+ | Ubuntu 22.04 | PASS | +-------------------------------+----------------+ | Windows Server 2022 | PASS | +-------------------------------+----------------+ Debian GNU/Linux 12 Kernel: 5.15 Compiler: gcc gcc (Debian 12.2.0-14+deb12u1) 12.2.0 Fedora Linux 42 Kernel: 5.15 Compiler: gcc gcc (GCC) 15.2.1 20250808 (Red Hat 15.2.1-1) Fedora Linux 40 Kernel: 5.15 Compiler: clang gcc (GCC) 14.2.1 20240912 (Red Hat 14.2.1-3) CentOS Stream 9 Kernel: 5.15 Compiler: gcc gcc (GCC) 11.5.0 20240719 (Red Hat 11.5.0-11) Ubuntu 20.04 Kernel: 5.15 Compiler: gcc gcc (Ubuntu 9.4.0-1ubuntu1~20.04.2) 9.4.0 CentOS Stream 10 Kernel: 5.15 Compiler: gcc gcc (GCC) 14.2.1 20250110 (Red Hat 14.2.1-8) Ubuntu 24.04 Kernel: 5.15 Compiler: gcc gcc (Ubuntu 13.3.0-6ubuntu2~24.04) 13.3.0 Fedora Linux 41 Kernel: 5.15 Compiler: gcc gcc (GCC) 14.3.1 20250523 (Red Hat 14.3.1-1) Red Hat Enterprise Linux 9.5 Kernel: 5.15 Compiler: gcc gcc (GCC) 11.5.0 20240719 (Red Hat 11.5.0-2) Red Hat Enterprise Linux 8.10 Kernel: 5.15 Compiler: gcc gcc (GCC) 8.5.0 20210514 (Red Hat 8.5.0-22) Ubuntu 22.04 Kernel: 5.15 Compiler: gcc gcc (Ubuntu 11.4.0-1ubuntu1~22.04) 11.4.0 Windows Server 2022 Kernel: 10.0.20348.2031 Compiler: clang 15.0.7, gcc 14.1.0 (MinGW), and MSVC VS 19.39.33521 To view detailed results, visit: https://lab.dpdk.org/results/dashboard/patchsets/34168/ UNH-IOL DPDK Community Lab To manage your email subscriptions, visit: https://lab.dpdk.org/results/dashboard/preferences/subscriptions/