From mboxrd@z Thu Jan 1 00:00:00 1970 Return-Path: Received: from mails.dpdk.org (mails.dpdk.org [217.70.189.124]) by inbox.dpdk.org (Postfix) with ESMTP id 81EE348863 for ; Mon, 29 Sep 2025 14:44:28 +0200 (CEST) Received: from mails.dpdk.org (localhost [127.0.0.1]) by mails.dpdk.org (Postfix) with ESMTP id 5AA5840668; Mon, 29 Sep 2025 14:44:28 +0200 (CEST) Received: from mail-qv1-f99.google.com (mail-qv1-f99.google.com [209.85.219.99]) by mails.dpdk.org (Postfix) with ESMTP id 215DA40668 for ; Mon, 29 Sep 2025 14:44:27 +0200 (CEST) Received: by mail-qv1-f99.google.com with SMTP id 6a1803df08f44-70ba7aa131fso50521846d6.2 for ; Mon, 29 Sep 2025 05:44:27 -0700 (PDT) DKIM-Signature: v=1; a=rsa-sha256; c=relaxed/relaxed; d=iol.unh.edu; s=unh-iol; t=1759149866; x=1759754666; darn=dpdk.org; h=references:in-reply-to:cc:to:from:subject:message-id:date:from:to :cc:subject:date:message-id:reply-to; bh=tc6UhgTI+LJ+2ybXUgewQOVYGX+3LvHHfB/JexjdMl0=; b=Y3+mbC2FsO9vDVUjPq+bam48TEbwPbsteyDwMBFW8VyURSHlX4+TzfsTkNE8KSngBk kvVG/vKzrmbU9VgzCB/he36Y3yvLOnUmOO7S7/fWe7sd9misnlDlFs0v0imut2anCNiO 3Pm2kiS/e0aT0wTQS7asSrI6G1lBIjaWQ8MWw= X-Google-DKIM-Signature: v=1; a=rsa-sha256; c=relaxed/relaxed; d=1e100.net; s=20230601; t=1759149866; x=1759754666; h=references:in-reply-to:cc:to:from:subject:message-id:date :x-gm-message-state:from:to:cc:subject:date:message-id:reply-to; bh=tc6UhgTI+LJ+2ybXUgewQOVYGX+3LvHHfB/JexjdMl0=; b=NuS02BaoAN0BXhNH3phaWWLvlKMNmjE6ClIfGQhejOXXWKqy24fdfbEGMiwqv+z9L5 a1F1hMdh8agEFgQpxO/u1BBwD5O66OeaMUr4/MuvuwdO/n70JtHyZkP0e9kIgFpRtY3i 9PRPtQ/73jNdRRl86FPKh1HY7Tz8QZNr2HdJE1Fu6xXee0T+a9RZYtmvma64PbhuF+s5 prlKe8V2hBEZxm8+V+c1qzbhpJTbRLdLml1fV4OEA1BJSCEteGMDRUf+4vs2x9GmquzE sFlAQ+vqPh1Ss1r9d/3eLGgncz3cVz1LpVyj+PFezZgROCVmonitRbfX3TylRTChEXcM R/qw== X-Gm-Message-State: AOJu0YzMXq6z9yf5n3MyM830n1XPYSyiV4KfyOeNqCx4GTDHcAtceWoT MJU15ugl9KR5dU2pQxH/83oUiaS3nU/hyoBY5dfesQ1wpbrMKer0otpaNExBX4si5YfC+0+6RA3 Buf+IuxxNgd8OMHyx/uaQH3ysyZahrAnYPP4mqX2gw0JCNhEFEG19bHenlRjv X-Gm-Gg: ASbGnctMgOAXZXT8Tb87O/yv7BxuN9igVZi4HYUsAcADKe286JMj24YldZJrzQFlBI9 QcMFOjPmmKxtRSRFVqhK8fwCz9y44FdO4Q2dL0BqF9O82XYZTfqIONhXxDv1324xriqi6Ju2TOe u7F6soymgMJmXhLmnN3mvlM8Uwxoh2w1hjKntihJvZZ2jneMit8DHZ4dxkufA89Ck/fTXJmY1YO bo0fZLACUGZi7DEiUHt+eQsUFMJQJ2IbmZ8Fv2ijPUtXxnFx1UEVWOzmkOPe4keNSh5IWr9NlzD DPITzZd+L4mvBO/HUHLZrausTIeXzHCfeZoyEUrIYjeTdBXRzw== X-Google-Smtp-Source: AGHT+IECTDjmpaRij6229MvtLflD4bHo4XgXVQRdwxyy6di+pmf9MvXOUcCTF1Ng88dnOOjk7o6I3ZXbP6tO X-Received: by 2002:a05:6214:1943:b0:81c:e8c:e804 with SMTP id 6a1803df08f44-81c0f536a61mr134713316d6.35.1759149866409; Mon, 29 Sep 2025 05:44:26 -0700 (PDT) Received: from postal.iol.unh.edu (postal.iol.unh.edu. [2606:4100:3880:1234::84]) by smtp-relay.gmail.com with ESMTPS id 6a1803df08f44-8013fad6b65sm8274296d6.20.2025.09.29.05.44.26 (version=TLS1_2 cipher=ECDHE-ECDSA-AES128-GCM-SHA256 bits=128/128); Mon, 29 Sep 2025 05:44:26 -0700 (PDT) X-Relaying-Domain: iol.unh.edu Date: Mon, 29 Sep 2025 05:44:26 -0700 (PDT) Message-ID: <68da7f2a.050a0220.30ce43.1282SMTPIN_ADDED_MISSING@mx.google.com> Received: from [172.21.0.2] (unknown [172.18.0.240]) by postal.iol.unh.edu (Postfix) with ESMTP id 13545604D420; Mon, 29 Sep 2025 08:44:26 -0400 (EDT) Subject: |SUCCESS| pw157028 [PATCH] event/cnxk: increase inflight buffer coun From: dpdklab@iol.unh.edu To: Test Report Cc: dpdk-test-reports@iol.unh.edu, Jerin Jacob In-Reply-To: <20250929102753.1036004-1-ktejasree@marvell.com> References: <20250929102753.1036004-1-ktejasree@marvell.com> Content-Type: text/plain X-BeenThere: test-report@dpdk.org X-Mailman-Version: 2.1.29 Precedence: list List-Id: automatic DPDK test reports List-Unsubscribe: , List-Archive: List-Post: List-Help: List-Subscribe: , Errors-To: test-report-bounces@dpdk.org Test-Label: iol-compile-amd64-testing Test-Status: SUCCESS http://dpdk.org/patch/157028 _Testing PASS_ Submitter: Tejasree Kondoj Date: Monday, September 29 2025 10:27:53 DPDK git baseline: Repo:dpdk-next-eventdev Branch: master CommitID:9e36adf88c49b437c4c5ffa46158e53d96bef82c 157028 --> testing pass Upstream job id: Windows-Compile-DPDK-Native#31293 Test environment and result as below: +-------------------------------+--------------------+-------------------+------------------+-------------------+-------------------------+ | Environment | dpdk_meson_compile | dpdk_compile_spdk | dpdk_compile_ovs | dpdk_msvc_compile | dpdk_llvm_clang_compile | +===============================+====================+===================+==================+===================+=========================+ | CentOS Stream 9 | PASS | PASS | SKIPPED | SKIPPED | SKIPPED | +-------------------------------+--------------------+-------------------+------------------+-------------------+-------------------------+ | CentOS Stream 10 | PASS | SKIPPED | SKIPPED | SKIPPED | SKIPPED | +-------------------------------+--------------------+-------------------+------------------+-------------------+-------------------------+ | FreeBSD 14.2 | PASS | SKIPPED | SKIPPED | SKIPPED | SKIPPED | +-------------------------------+--------------------+-------------------+------------------+-------------------+-------------------------+ | Fedora Linux 42 | PASS | PASS | PASS | SKIPPED | SKIPPED | +-------------------------------+--------------------+-------------------+------------------+-------------------+-------------------------+ | Debian GNU/Linux 12 | PASS | PASS | SKIPPED | SKIPPED | SKIPPED | +-------------------------------+--------------------+-------------------+------------------+-------------------+-------------------------+ | Red Hat Enterprise Linux 9.5 | PASS | SKIPPED | SKIPPED | SKIPPED | SKIPPED | +-------------------------------+--------------------+-------------------+------------------+-------------------+-------------------------+ | Red Hat Enterprise Linux 8.10 | PASS | SKIPPED | SKIPPED | SKIPPED | SKIPPED | +-------------------------------+--------------------+-------------------+------------------+-------------------+-------------------------+ | openSUSE Leap 15.6 | PASS | SKIPPED | SKIPPED | SKIPPED | SKIPPED | +-------------------------------+--------------------+-------------------+------------------+-------------------+-------------------------+ | Ubuntu 20.04 | PASS | SKIPPED | SKIPPED | SKIPPED | SKIPPED | +-------------------------------+--------------------+-------------------+------------------+-------------------+-------------------------+ | Ubuntu 22.04 | PASS | PASS | SKIPPED | SKIPPED | SKIPPED | +-------------------------------+--------------------+-------------------+------------------+-------------------+-------------------------+ | Ubuntu 24.04 | PASS | PASS | PASS | SKIPPED | SKIPPED | +-------------------------------+--------------------+-------------------+------------------+-------------------+-------------------------+ | Alpine Linux 3.22.0 | PASS | SKIPPED | SKIPPED | SKIPPED | SKIPPED | +-------------------------------+--------------------+-------------------+------------------+-------------------+-------------------------+ | Windows Server 2022 | SKIPPED | SKIPPED | SKIPPED | PASS | PASS | +-------------------------------+--------------------+-------------------+------------------+-------------------+-------------------------+ CentOS Stream 9 Kernel: 5.15 Compiler: gcc gcc (GCC) 11.5.0 20240719 (Red Hat 11.5.0-11) CentOS Stream 10 Kernel: 5.15 Compiler: gcc gcc (GCC) 14.2.1 20250110 (Red Hat 14.2.1-8) FreeBSD 14.2 Kernel: 14.2-RELEASE Compiler: clang 18.1.6 Fedora Linux 42 Kernel: 5.15 Compiler: clang gcc (GCC) 15.2.1 20250808 (Red Hat 15.2.1-1) Debian GNU/Linux 12 Kernel: 5.15 Compiler: gcc gcc (Debian 12.2.0-14+deb12u1) 12.2.0 Red Hat Enterprise Linux 9.5 Kernel: 5.15 Compiler: gcc gcc (GCC) 11.5.0 20240719 (Red Hat 11.5.0-2) Red Hat Enterprise Linux 8.10 Kernel: 5.15 Compiler: gcc gcc (GCC) 8.5.0 20210514 (Red Hat 8.5.0-22) openSUSE Leap 15.6 Kernel: 5.15 Compiler: gcc gcc (SUSE Linux) 7.5.0 Ubuntu 20.04 Kernel: 5.15 Compiler: gcc gcc (Ubuntu 9.4.0-1ubuntu1~20.04.2) 9.4.0 Ubuntu 22.04 Kernel: 5.15 Compiler: gcc gcc (Ubuntu 11.4.0-1ubuntu1~22.04) 11.4.0 Ubuntu 24.04 Kernel: 5.15 Compiler: gcc gcc (Ubuntu 13.3.0-6ubuntu2~24.04) 13.3.0 Alpine Linux 3.22.0 Kernel: 5.15 Compiler: gcc gcc (Alpine 14.2.0) 14.2.0 Windows Server 2022 Kernel: 10.0.20348.2031 Compiler: clang 15.0.7, gcc 14.1.0 (MinGW), and MSVC VS 19.39.33521 To view detailed results, visit: https://lab.dpdk.org/results/dashboard/patchsets/34168/ UNH-IOL DPDK Community Lab To manage your email subscriptions, visit: https://lab.dpdk.org/results/dashboard/preferences/subscriptions/