From mboxrd@z Thu Jan 1 00:00:00 1970 Return-Path: Received: from mails.dpdk.org (mails.dpdk.org [217.70.189.124]) by inbox.dpdk.org (Postfix) with ESMTP id DA28748863 for ; Mon, 29 Sep 2025 14:48:42 +0200 (CEST) Received: from mails.dpdk.org (localhost [127.0.0.1]) by mails.dpdk.org (Postfix) with ESMTP id B4F0340668; Mon, 29 Sep 2025 14:48:42 +0200 (CEST) Received: from mail-qv1-f100.google.com (mail-qv1-f100.google.com [209.85.219.100]) by mails.dpdk.org (Postfix) with ESMTP id 58F8040668 for ; Mon, 29 Sep 2025 14:48:41 +0200 (CEST) Received: by mail-qv1-f100.google.com with SMTP id 6a1803df08f44-71b9d805f2fso39996066d6.0 for ; Mon, 29 Sep 2025 05:48:41 -0700 (PDT) DKIM-Signature: v=1; a=rsa-sha256; c=relaxed/relaxed; d=iol.unh.edu; s=unh-iol; t=1759150120; x=1759754920; darn=dpdk.org; h=references:in-reply-to:cc:to:from:subject:message-id:date:from:to :cc:subject:date:message-id:reply-to; bh=pZ2tmPGO7X/AbvFiy9LsP/Q4lH4R7eycjGhiWo+GC1I=; b=gzEu1ux7TZM1IBIrasq4Jqv+oBCepEtYx7zysXY5vt6pOxfm0MCgYsNOmNBB33yyL4 1eP9UNyRewwYzjFB9mFew/5LndjTIwx48MQngBQ1JWgNo0Ujhls/4LQ1rpPWeKiTnFN0 4UtzBmU02rI15I3QnBl7/1GM5cJN5mL0Dkpx4= X-Google-DKIM-Signature: v=1; a=rsa-sha256; c=relaxed/relaxed; d=1e100.net; s=20230601; t=1759150120; x=1759754920; h=references:in-reply-to:cc:to:from:subject:message-id:date :x-gm-message-state:from:to:cc:subject:date:message-id:reply-to; bh=pZ2tmPGO7X/AbvFiy9LsP/Q4lH4R7eycjGhiWo+GC1I=; b=MWICz3511B9u8QyKUHcAhBpgXz6G9V07UIpjkODzHX0P4RAjDNjPJYqnrenOYrOfYZ W3TcofORh6APlDzCgt1va/D63s6Ueg5SeLK0sfLsjlRayV1mgdV44USGrFzx9rEMPUkG PWbQrBXTUu0NyBs1np0Lx3N8alXTznOfgB5Lj/e2zAvpDBly3rKhK/qKTOHisc6q1y3F DmM9TXTrlHPUOA2z0K8FfxtLA0sQhEfthHRK9l1KIq6kgQgAzPUL02fbzViBrjw72SFB xI4tignov3CxeUSer6tPpkOqdbBMfRE/2Aa9HFHuohhFnNsOxqeZWwAy9QpZEdVHpDRn f/Rg== X-Gm-Message-State: AOJu0YwDKXCU8yCtS11xDF38BK7JqFq33Y/RM6jLBiPTRhJhrS0/Eagv +5NxyKZ21h5ws0EliOyWGnwz/p6j1gvcXBc6PN2IPfTcUp1k0aoXEa21YGNCiLjejcyZ9mHSC9Y sjSu7fRuIfg7mBVnYGPgLXpzAbSHAh1Q2H5V0Hhhyc/DV X-Gm-Gg: ASbGncvbY6GgOnbOCvPCKMw+5Z2OmDj9wuADgH53+Vpm9P0PCtXDfMw/WexuNiSlQoi ojJJsg6d7mKGjQUB4G+4Zli5s4TutnR6ndpP2DVv7j26/LsexcNFncTl2fTXR3x5cmhtc41KNie kOpI2r76vOuyeQxfQfmzWo5Vn9loVw7jes61MUQHCw3dKe2hQX17VadGPHmAAnMkAvAxotRSxxa H4CgghSwmuOFDjWz2FBtCcTG1jeQmcIxghku2UfN/3Bp/xwpX9DomO4eiJQMTAd5aSzHZOtzaRF p9xePwNwgV/f445DBIGB156c1L9d5qYnR2Dz+oIvJQ787P77tjTT8hNU24m6SNikJGWynF2Y X-Google-Smtp-Source: AGHT+IHgSJJVQYNf2HFYD9LOCx0HyanS8P452nLkUNouRMsqvIAxe/Mj3nYpUb5i5ruUkuAX6e/v6su5pxsJ X-Received: by 2002:ad4:5ba8:0:b0:7ef:f440:2b40 with SMTP id 6a1803df08f44-7fc400b2becmr264409616d6.53.1759150120475; Mon, 29 Sep 2025 05:48:40 -0700 (PDT) Received: from postal.iol.unh.edu (postal.iol.unh.edu. [132.177.123.84]) by smtp-relay.gmail.com with ESMTPS id 6a1803df08f44-8016193d059sm8098326d6.24.2025.09.29.05.48.40 (version=TLS1_2 cipher=ECDHE-ECDSA-AES128-GCM-SHA256 bits=128/128); Mon, 29 Sep 2025 05:48:40 -0700 (PDT) X-Relaying-Domain: iol.unh.edu Date: Mon, 29 Sep 2025 05:48:40 -0700 (PDT) Message-ID: <68da8028.050a0220.2ae7a2.fdccSMTPIN_ADDED_MISSING@mx.google.com> Received: from [172.21.0.2] (unknown [172.18.0.240]) by postal.iol.unh.edu (Postfix) with ESMTP id 2C868604D420; Mon, 29 Sep 2025 08:48:40 -0400 (EDT) Subject: |SUCCESS| pw157030-157031 [PATCH] [2/2] net/hns3: print invalid MAC From: dpdklab@iol.unh.edu To: Test Report Cc: dpdk-test-reports@iol.unh.edu, Stephen Hemminger In-Reply-To: <20250929113554.2443832-3-yangxingui@huawei.com> References: <20250929113554.2443832-3-yangxingui@huawei.com> Content-Type: text/plain X-BeenThere: test-report@dpdk.org X-Mailman-Version: 2.1.29 Precedence: list List-Id: automatic DPDK test reports List-Unsubscribe: , List-Archive: List-Post: List-Help: List-Subscribe: , Errors-To: test-report-bounces@dpdk.org Test-Label: iol-compile-amd64-testing Test-Status: SUCCESS http://dpdk.org/patch/157031 _Testing PASS_ Submitter: Xingui Yang Date: Monday, September 29 2025 11:35:54 DPDK git baseline: Repo:dpdk-next-net Branch: master CommitID:c04bbd131b2c14b3049bf86d3ef367b34e6fdf1e 157030-157031 --> testing pass Upstream job id: Generic-DPDK-Compile-Meson#429719 Test environment and result as below: +-------------------------------+--------------------+------------------+-------------------+-------------------+ | Environment | dpdk_meson_compile | dpdk_compile_ovs | dpdk_compile_spdk | dpdk_msvc_compile | +===============================+====================+==================+===================+===================+ | Fedora Linux 42 | PASS | PASS | PASS | SKIPPED | +-------------------------------+--------------------+------------------+-------------------+-------------------+ | openSUSE Leap 15.6 | PASS | SKIPPED | SKIPPED | SKIPPED | +-------------------------------+--------------------+------------------+-------------------+-------------------+ | Ubuntu 20.04 | PASS | SKIPPED | SKIPPED | SKIPPED | +-------------------------------+--------------------+------------------+-------------------+-------------------+ | Ubuntu 22.04 | PASS | SKIPPED | PASS | SKIPPED | +-------------------------------+--------------------+------------------+-------------------+-------------------+ | Alpine Linux 3.22.0 | PASS | SKIPPED | SKIPPED | SKIPPED | +-------------------------------+--------------------+------------------+-------------------+-------------------+ | CentOS Stream 9 | PASS | SKIPPED | PASS | SKIPPED | +-------------------------------+--------------------+------------------+-------------------+-------------------+ | FreeBSD 14.2 | PASS | SKIPPED | SKIPPED | SKIPPED | +-------------------------------+--------------------+------------------+-------------------+-------------------+ | CentOS Stream 10 | PASS | SKIPPED | SKIPPED | SKIPPED | +-------------------------------+--------------------+------------------+-------------------+-------------------+ | Debian GNU/Linux 12 | PASS | SKIPPED | PASS | SKIPPED | +-------------------------------+--------------------+------------------+-------------------+-------------------+ | Red Hat Enterprise Linux 8.10 | PASS | SKIPPED | SKIPPED | SKIPPED | +-------------------------------+--------------------+------------------+-------------------+-------------------+ | Red Hat Enterprise Linux 9.5 | PASS | SKIPPED | SKIPPED | SKIPPED | +-------------------------------+--------------------+------------------+-------------------+-------------------+ | Ubuntu 24.04 | PASS | PASS | PASS | SKIPPED | +-------------------------------+--------------------+------------------+-------------------+-------------------+ | Windows Server 2022 | SKIPPED | SKIPPED | SKIPPED | PASS | +-------------------------------+--------------------+------------------+-------------------+-------------------+ Fedora Linux 42 Kernel: 5.15 Compiler: clang gcc (GCC) 15.2.1 20250808 (Red Hat 15.2.1-1) openSUSE Leap 15.6 Kernel: 5.15 Compiler: gcc gcc (SUSE Linux) 7.5.0 Ubuntu 20.04 Kernel: 5.15 Compiler: gcc gcc (Ubuntu 9.4.0-1ubuntu1~20.04.2) 9.4.0 Ubuntu 22.04 Kernel: 5.15 Compiler: gcc gcc (Ubuntu 11.4.0-1ubuntu1~22.04) 11.4.0 Alpine Linux 3.22.0 Kernel: 5.15 Compiler: gcc gcc (Alpine 14.2.0) 14.2.0 CentOS Stream 9 Kernel: 5.15 Compiler: gcc gcc (GCC) 11.5.0 20240719 (Red Hat 11.5.0-11) FreeBSD 14.2 Kernel: 14.2-RELEASE Compiler: clang 18.1.6 CentOS Stream 10 Kernel: 5.15 Compiler: gcc gcc (GCC) 14.2.1 20250110 (Red Hat 14.2.1-8) Debian GNU/Linux 12 Kernel: 5.15 Compiler: gcc gcc (Debian 12.2.0-14+deb12u1) 12.2.0 Red Hat Enterprise Linux 8.10 Kernel: 5.15 Compiler: gcc gcc (GCC) 8.5.0 20210514 (Red Hat 8.5.0-22) Red Hat Enterprise Linux 9.5 Kernel: 5.15 Compiler: gcc gcc (GCC) 11.5.0 20240719 (Red Hat 11.5.0-2) Ubuntu 24.04 Kernel: 5.15 Compiler: gcc gcc (Ubuntu 13.3.0-6ubuntu2~24.04) 13.3.0 Windows Server 2022 Kernel: 10.0.20348.2031 Compiler: clang 15.0.7, gcc 14.1.0 (MinGW), and MSVC VS 19.39.33521 To view detailed results, visit: https://lab.dpdk.org/results/dashboard/patchsets/34169/ UNH-IOL DPDK Community Lab To manage your email subscriptions, visit: https://lab.dpdk.org/results/dashboard/preferences/subscriptions/