From mboxrd@z Thu Jan 1 00:00:00 1970 Return-Path: Received: from mails.dpdk.org (mails.dpdk.org [217.70.189.124]) by inbox.dpdk.org (Postfix) with ESMTP id 6AE9E48863 for ; Mon, 29 Sep 2025 14:55:35 +0200 (CEST) Received: from mails.dpdk.org (localhost [127.0.0.1]) by mails.dpdk.org (Postfix) with ESMTP id 66CFA40668; Mon, 29 Sep 2025 14:55:35 +0200 (CEST) Received: from mail-io1-f100.google.com (mail-io1-f100.google.com [209.85.166.100]) by mails.dpdk.org (Postfix) with ESMTP id 1AEB540668 for ; Mon, 29 Sep 2025 14:55:33 +0200 (CEST) Received: by mail-io1-f100.google.com with SMTP id ca18e2360f4ac-8ca2e53c37bso427760439f.3 for ; Mon, 29 Sep 2025 05:55:33 -0700 (PDT) DKIM-Signature: v=1; a=rsa-sha256; c=relaxed/relaxed; d=iol.unh.edu; s=unh-iol; t=1759150532; x=1759755332; darn=dpdk.org; h=references:in-reply-to:cc:to:from:subject:message-id:date:from:to :cc:subject:date:message-id:reply-to; bh=RtWncR7jDupiFhVsTmqonmUGAEYezOjS3qZHEKBq1UE=; b=InDacMHD2Rvli2WmnwDdAPL420NQBhbSpS7JpCbgweBChmPLWm0/dy7/T1+nY4Mit/ 3fUlMC+LIeyLd6hW5dJfT5OkfpU91/BdYlqg0Grg6evgWmNgSram4B9NxmAl276bIqYY 0juoIp7AQaFpfTZtYfXAW6k5SYsUeWD+TwjVI= X-Google-DKIM-Signature: v=1; a=rsa-sha256; c=relaxed/relaxed; d=1e100.net; s=20230601; t=1759150532; x=1759755332; h=references:in-reply-to:cc:to:from:subject:message-id:date :x-gm-message-state:from:to:cc:subject:date:message-id:reply-to; bh=RtWncR7jDupiFhVsTmqonmUGAEYezOjS3qZHEKBq1UE=; b=WlBN+uM3bT8zQVytto3LNEXVk0nIu038fAqwr52MnE56K1Cy3rFTAQbVI13z24Zl+V suWZrYsummQVsnDevbRPycWWd3JzSKWrW3W6kcH7jKX9eSPioLmzFwhrHadZdz2z8AY8 /vMjCAY8zU3qCQtFp6BmqIuWJXP55nkkjlu4FZbwWszeRqyq051z9OwkQdMvNr++m0u+ xv/spxEqUr6MURgNXGip6S+rqfA23xVM3GIZeMuBwhh/7kD/Z1mr0oFQ0NDNyrnaBBwM oX/A0WfS0EuF3IMLX+5/OjkV2btqV2gEfA7k/ka2vF08yYXq0e252ScmdzE3aFwxFNgr xYIw== X-Gm-Message-State: AOJu0YxMs/6ekh+r1nE4ON+XwndHqAIuz87aW+WGFvlb/6167ILCVMrJ 3UGYsOdPw6ZR2wBu45wyT0pXhD4bnA3q386r618f7lKDvqnx/swF6amsXMSUYdy6KlYSlR5KqJi XEmi8kMT4hV91sC76/DWXS6GFstpBIWwIwsdw1fUiCpj4 X-Gm-Gg: ASbGncvLUF7qPYNdGHHnXWH7nlr1qfgrI9pcrzJJB25OWrHuPPpPhwrbQcJhH+i8rEs 55boieJ4RB5cXYRLSBAHrymELV6tmDn9hZrGFreF2IOGW+enldsqyQ9vaOW5GxpMw5uMv3J4Gkn iYtYka3fZ5SqpkFRLa4wIPC3samlQLlI8d0gufrtp55g7ihz6qeHh1L7yZSbSrnSAqDbA4331PU Bx5dVkAaCN6ChKxuigz0bESytxjEbnUXFJj4nuR/BnWgYM6kX2cwPnWGhbgWJRIngod5HXRYr2A apvxUc3JudJ8FkB2K1hdH9rKo6XwK0wjmoVUyd6luV0zKNXfg6GgEfXZ5nQgUcULjCQm9eZ2 X-Google-Smtp-Source: AGHT+IF3dmpiY7NCThrRws87Hsnq9Vsbxr037HecxH5AlDCN0f1VlBTaJr6A/cQmHtzFNYJp0ycXYZaEbB5f X-Received: by 2002:a05:6e02:1523:b0:427:5e1d:4200 with SMTP id e9e14a558f8ab-4275e1d4604mr231421585ab.29.1759150532338; Mon, 29 Sep 2025 05:55:32 -0700 (PDT) Received: from postal.iol.unh.edu (postal.iol.unh.edu. [132.177.123.84]) by smtp-relay.gmail.com with ESMTPS id 8926c6da1cb9f-572b49a45f7sm238335173.3.2025.09.29.05.55.32 (version=TLS1_2 cipher=ECDHE-ECDSA-AES128-GCM-SHA256 bits=128/128); Mon, 29 Sep 2025 05:55:32 -0700 (PDT) X-Relaying-Domain: iol.unh.edu Date: Mon, 29 Sep 2025 05:55:32 -0700 (PDT) Message-ID: <68da81c4.050a0220.64437.de44SMTPIN_ADDED_MISSING@mx.google.com> Received: from [172.21.0.2] (unknown [172.18.0.240]) by postal.iol.unh.edu (Postfix) with ESMTP id 02581604D420; Mon, 29 Sep 2025 08:55:32 -0400 (EDT) Subject: |SUCCESS| pw157028 [PATCH] event/cnxk: increase inflight buffer coun From: dpdklab@iol.unh.edu To: Test Report Cc: dpdk-test-reports@iol.unh.edu, Jerin Jacob In-Reply-To: <20250929102753.1036004-1-ktejasree@marvell.com> References: <20250929102753.1036004-1-ktejasree@marvell.com> Content-Type: text/plain X-BeenThere: test-report@dpdk.org X-Mailman-Version: 2.1.29 Precedence: list List-Id: automatic DPDK test reports List-Unsubscribe: , List-Archive: List-Post: List-Help: List-Subscribe: , Errors-To: test-report-bounces@dpdk.org Test-Label: iol-compile-amd64-testing Test-Status: SUCCESS http://dpdk.org/patch/157028 _Testing PASS_ Submitter: Tejasree Kondoj Date: Monday, September 29 2025 10:27:53 DPDK git baseline: Repo:dpdk-next-eventdev Branch: master CommitID:9e36adf88c49b437c4c5ffa46158e53d96bef82c 157028 --> testing pass Upstream job id: Windows-Compile-DPDK-Native#31294 Test environment and result as below: +-------------------------------+--------------------+-------------------+------------------+-------------------+-------------------------+----------------------+ | Environment | dpdk_meson_compile | dpdk_compile_spdk | dpdk_compile_ovs | dpdk_msvc_compile | dpdk_llvm_clang_compile | dpdk_mingw64_compile | +===============================+====================+===================+==================+===================+=========================+======================+ | CentOS Stream 9 | PASS | PASS | SKIPPED | SKIPPED | SKIPPED | SKIPPED | +-------------------------------+--------------------+-------------------+------------------+-------------------+-------------------------+----------------------+ | CentOS Stream 10 | PASS | SKIPPED | SKIPPED | SKIPPED | SKIPPED | SKIPPED | +-------------------------------+--------------------+-------------------+------------------+-------------------+-------------------------+----------------------+ | FreeBSD 14.2 | PASS | SKIPPED | SKIPPED | SKIPPED | SKIPPED | SKIPPED | +-------------------------------+--------------------+-------------------+------------------+-------------------+-------------------------+----------------------+ | Fedora Linux 42 | PASS | PASS | PASS | SKIPPED | SKIPPED | SKIPPED | +-------------------------------+--------------------+-------------------+------------------+-------------------+-------------------------+----------------------+ | Debian GNU/Linux 12 | PASS | PASS | SKIPPED | SKIPPED | SKIPPED | SKIPPED | +-------------------------------+--------------------+-------------------+------------------+-------------------+-------------------------+----------------------+ | Red Hat Enterprise Linux 9.5 | PASS | SKIPPED | SKIPPED | SKIPPED | SKIPPED | SKIPPED | +-------------------------------+--------------------+-------------------+------------------+-------------------+-------------------------+----------------------+ | Red Hat Enterprise Linux 8.10 | PASS | SKIPPED | SKIPPED | SKIPPED | SKIPPED | SKIPPED | +-------------------------------+--------------------+-------------------+------------------+-------------------+-------------------------+----------------------+ | openSUSE Leap 15.6 | PASS | SKIPPED | SKIPPED | SKIPPED | SKIPPED | SKIPPED | +-------------------------------+--------------------+-------------------+------------------+-------------------+-------------------------+----------------------+ | Ubuntu 20.04 | PASS | SKIPPED | SKIPPED | SKIPPED | SKIPPED | SKIPPED | +-------------------------------+--------------------+-------------------+------------------+-------------------+-------------------------+----------------------+ | Ubuntu 22.04 | PASS | PASS | SKIPPED | SKIPPED | SKIPPED | SKIPPED | +-------------------------------+--------------------+-------------------+------------------+-------------------+-------------------------+----------------------+ | Ubuntu 24.04 | PASS | PASS | PASS | SKIPPED | SKIPPED | SKIPPED | +-------------------------------+--------------------+-------------------+------------------+-------------------+-------------------------+----------------------+ | Alpine Linux 3.22.0 | PASS | SKIPPED | SKIPPED | SKIPPED | SKIPPED | SKIPPED | +-------------------------------+--------------------+-------------------+------------------+-------------------+-------------------------+----------------------+ | Windows Server 2022 | SKIPPED | SKIPPED | SKIPPED | PASS | PASS | PASS | +-------------------------------+--------------------+-------------------+------------------+-------------------+-------------------------+----------------------+ CentOS Stream 9 Kernel: 5.15 Compiler: gcc gcc (GCC) 11.5.0 20240719 (Red Hat 11.5.0-11) CentOS Stream 10 Kernel: 5.15 Compiler: gcc gcc (GCC) 14.2.1 20250110 (Red Hat 14.2.1-8) FreeBSD 14.2 Kernel: 14.2-RELEASE Compiler: clang 18.1.6 Fedora Linux 42 Kernel: 5.15 Compiler: clang gcc (GCC) 15.2.1 20250808 (Red Hat 15.2.1-1) Debian GNU/Linux 12 Kernel: 5.15 Compiler: gcc gcc (Debian 12.2.0-14+deb12u1) 12.2.0 Red Hat Enterprise Linux 9.5 Kernel: 5.15 Compiler: gcc gcc (GCC) 11.5.0 20240719 (Red Hat 11.5.0-2) Red Hat Enterprise Linux 8.10 Kernel: 5.15 Compiler: gcc gcc (GCC) 8.5.0 20210514 (Red Hat 8.5.0-22) openSUSE Leap 15.6 Kernel: 5.15 Compiler: gcc gcc (SUSE Linux) 7.5.0 Ubuntu 20.04 Kernel: 5.15 Compiler: gcc gcc (Ubuntu 9.4.0-1ubuntu1~20.04.2) 9.4.0 Ubuntu 22.04 Kernel: 5.15 Compiler: gcc gcc (Ubuntu 11.4.0-1ubuntu1~22.04) 11.4.0 Ubuntu 24.04 Kernel: 5.15 Compiler: gcc gcc (Ubuntu 13.3.0-6ubuntu2~24.04) 13.3.0 Alpine Linux 3.22.0 Kernel: 5.15 Compiler: gcc gcc (Alpine 14.2.0) 14.2.0 Windows Server 2022 Kernel: 10.0.20348.2031 Compiler: clang 15.0.7, gcc 14.1.0 (MinGW), and MSVC VS 19.39.33521 To view detailed results, visit: https://lab.dpdk.org/results/dashboard/patchsets/34168/ UNH-IOL DPDK Community Lab To manage your email subscriptions, visit: https://lab.dpdk.org/results/dashboard/preferences/subscriptions/