From mboxrd@z Thu Jan 1 00:00:00 1970 Return-Path: Received: from mails.dpdk.org (mails.dpdk.org [217.70.189.124]) by inbox.dpdk.org (Postfix) with ESMTP id DEF8148863 for ; Mon, 29 Sep 2025 14:59:16 +0200 (CEST) Received: from mails.dpdk.org (localhost [127.0.0.1]) by mails.dpdk.org (Postfix) with ESMTP id B7B8740668; Mon, 29 Sep 2025 14:59:16 +0200 (CEST) Received: from mail-io1-f100.google.com (mail-io1-f100.google.com [209.85.166.100]) by mails.dpdk.org (Postfix) with ESMTP id 09E1D40668 for ; Mon, 29 Sep 2025 14:59:16 +0200 (CEST) Received: by mail-io1-f100.google.com with SMTP id ca18e2360f4ac-91f6ccdbfc8so80094639f.1 for ; Mon, 29 Sep 2025 05:59:15 -0700 (PDT) DKIM-Signature: v=1; a=rsa-sha256; c=relaxed/relaxed; d=iol.unh.edu; s=unh-iol; t=1759150755; x=1759755555; darn=dpdk.org; h=references:in-reply-to:cc:to:from:subject:message-id:date:from:to :cc:subject:date:message-id:reply-to; bh=mhPApo9TGzBfnIRNaoFfN8JjMZIGfZDjeDiUHAa3VBE=; b=X0VXDW3vg+VdG25xLXr2PfirONKy4R5NHgAr5O0I11YqKR0zHgQ7/DSkef/wOI3xs8 l9pKGc98TALk+t8p4WtGo81HRcg3xxAyn7MhAW/+FpmYgvrNRsfUuJucHolq4LRACnpQ UWwb5WAWlNiFpOcsFKaB08QwT3GYS8IdTae8w= X-Google-DKIM-Signature: v=1; a=rsa-sha256; c=relaxed/relaxed; d=1e100.net; s=20230601; t=1759150755; x=1759755555; h=references:in-reply-to:cc:to:from:subject:message-id:date :x-gm-message-state:from:to:cc:subject:date:message-id:reply-to; bh=mhPApo9TGzBfnIRNaoFfN8JjMZIGfZDjeDiUHAa3VBE=; b=CgFFBz4o2hVTvGcHRqdWI6d3ygyHCuDGNs4W1zXJofPBPWjNIh1FNG/A4/07l5PVBP /ircs8Yteoo0WAzS2GjbufZM/jT/hSiOxpnx5vf1frQnYRbrfj45GD5k4zaEzxshcm0T YQRu9nZgEvVg44OGn1yk1r7l4bf/9O8OBCVd8bfc+WwoFwviCZMEywB7jAXiB332qNBi Os5OjJSIBoMHPNjraazBcXrj8cpwH3QRcI73k3fYML0U7tAXgUZX3GYH2vhXi+IvP/4e ZxHjOefFMZgMTJFyzwqj8+LM+3IFsFq4zV16pJs+cdTsu53lOq/kA6kUG82l3dMfqQ/0 NOYg== X-Gm-Message-State: AOJu0YxW2XapxcPxv4L+fY2EAEiBrjC3Wo1MB4DqSGqZxA7Q3oAFunJU X5AWH9B1GVxEc0GVnkv8+xqmUAmIag6htkKpGmoD/N1O+x558orqqf3AMOOnA0V8qrQxS3CM6Wk Jy7hk2MZwstGk3Y9jDa1qMksx9Tc4pra2iIVP/El9beweZ20VPA5a7IL28CF7 X-Gm-Gg: ASbGnctddJPP1uvPm8vIf6OK5cJlPTZgXoJfyMiUX/OU9+EMWxWCE1hwBD+Y7pw98xq tVQRsaX5CXs9Ve+tVBsQ+G9W/K7BBOhrD7Us7A+k0yT0Rova715rhSQrnt+jFAmPzreMrvTqEoj ywWuI7mGkKimNc7ukM8yPSDsZzS4nLpQol0ofEJp1i1u3pspch7spE9W2LmnsU9IFU5OfNavCKg iOUaSSEY+BKgjjuRkwDmwrxgviCjsb++VGMQg0PrEl1iqfoHMc8v5EnEuF1U25OlAsAy353KZ8h qbZyPczeLmbzEeArSNw53yW2eFhViQSLEJ5as+w67Catb7BnUw== X-Google-Smtp-Source: AGHT+IEY1ojuXSiWmKDhipzyD0NQ3gvx5I8011zh5LMBsvVJkeSeHqXIdK/aIac9hBwTWQCk0uQWKVSgelAv X-Received: by 2002:a05:6e02:17c6:b0:427:1841:666d with SMTP id e9e14a558f8ab-427184167e3mr179109045ab.30.1759150755243; Mon, 29 Sep 2025 05:59:15 -0700 (PDT) Received: from postal.iol.unh.edu (postal.iol.unh.edu. [2606:4100:3880:1234::84]) by smtp-relay.gmail.com with ESMTPS id 8926c6da1cb9f-575daa83cd2sm64148173.6.2025.09.29.05.59.15 (version=TLS1_2 cipher=ECDHE-ECDSA-AES128-GCM-SHA256 bits=128/128); Mon, 29 Sep 2025 05:59:15 -0700 (PDT) X-Relaying-Domain: iol.unh.edu Date: Mon, 29 Sep 2025 05:59:15 -0700 (PDT) Message-ID: <68da82a3.050a0220.22bb60.392aSMTPIN_ADDED_MISSING@mx.google.com> Received: from [172.21.0.2] (unknown [172.18.0.240]) by postal.iol.unh.edu (Postfix) with ESMTP id C19E160003EA; Mon, 29 Sep 2025 08:59:14 -0400 (EDT) Subject: |SUCCESS| pw157030-157031 [PATCH] [2/2] net/hns3: print invalid MAC From: dpdklab@iol.unh.edu To: Test Report Cc: dpdk-test-reports@iol.unh.edu, Stephen Hemminger In-Reply-To: <20250929113554.2443832-3-yangxingui@huawei.com> References: <20250929113554.2443832-3-yangxingui@huawei.com> Content-Type: text/plain X-BeenThere: test-report@dpdk.org X-Mailman-Version: 2.1.29 Precedence: list List-Id: automatic DPDK test reports List-Unsubscribe: , List-Archive: List-Post: List-Help: List-Subscribe: , Errors-To: test-report-bounces@dpdk.org Test-Label: iol-unit-amd64-testing Test-Status: SUCCESS http://dpdk.org/patch/157031 _Testing PASS_ Submitter: Xingui Yang Date: Monday, September 29 2025 11:35:54 DPDK git baseline: Repo:dpdk-next-net Branch: master CommitID:c04bbd131b2c14b3049bf86d3ef367b34e6fdf1e 157030-157031 --> testing pass Upstream job id: Generic-VM-Unit-Test-DPDK#31465 Test environment and result as below: +-------------------------------+----------------+ | Environment | dpdk_unit_test | +===============================+================+ | Fedora Linux 41 | PASS | +-------------------------------+----------------+ | CentOS Stream 9 | PASS | +-------------------------------+----------------+ | Ubuntu 22.04 | PASS | +-------------------------------+----------------+ | Red Hat Enterprise Linux 9.5 | PASS | +-------------------------------+----------------+ | CentOS Stream 10 | PASS | +-------------------------------+----------------+ | Fedora Linux 40 | PASS | +-------------------------------+----------------+ | Red Hat Enterprise Linux 8.10 | PASS | +-------------------------------+----------------+ | Ubuntu 20.04 | PASS | +-------------------------------+----------------+ | Debian GNU/Linux 12 | PASS | +-------------------------------+----------------+ | Fedora Linux 42 | PASS | +-------------------------------+----------------+ | Ubuntu 24.04 | PASS | +-------------------------------+----------------+ | Windows Server 2022 | PASS | +-------------------------------+----------------+ Fedora Linux 41 Kernel: 5.15 Compiler: gcc gcc (GCC) 14.3.1 20250523 (Red Hat 14.3.1-1) CentOS Stream 9 Kernel: 5.15 Compiler: gcc gcc (GCC) 11.5.0 20240719 (Red Hat 11.5.0-11) Ubuntu 22.04 Kernel: 5.15 Compiler: gcc gcc (Ubuntu 11.4.0-1ubuntu1~22.04) 11.4.0 Red Hat Enterprise Linux 9.5 Kernel: 5.15 Compiler: gcc gcc (GCC) 11.5.0 20240719 (Red Hat 11.5.0-2) CentOS Stream 10 Kernel: 5.15 Compiler: gcc gcc (GCC) 14.2.1 20250110 (Red Hat 14.2.1-8) Fedora Linux 40 Kernel: 5.15 Compiler: gcc gcc (GCC) 14.2.1 20240912 (Red Hat 14.2.1-3) Red Hat Enterprise Linux 8.10 Kernel: 5.15 Compiler: gcc gcc (GCC) 8.5.0 20210514 (Red Hat 8.5.0-22) Ubuntu 20.04 Kernel: 5.15 Compiler: gcc gcc (Ubuntu 9.4.0-1ubuntu1~20.04.2) 9.4.0 Debian GNU/Linux 12 Kernel: 5.15 Compiler: gcc gcc (Debian 12.2.0-14+deb12u1) 12.2.0 Fedora Linux 42 Kernel: 5.15 Compiler: gcc gcc (GCC) 15.2.1 20250808 (Red Hat 15.2.1-1) Ubuntu 24.04 Kernel: 5.15 Compiler: gcc gcc (Ubuntu 13.3.0-6ubuntu2~24.04) 13.3.0 Windows Server 2022 Kernel: 10.0.20348.2031 Compiler: clang 15.0.7, gcc 14.1.0 (MinGW), and MSVC VS 19.39.33521 To view detailed results, visit: https://lab.dpdk.org/results/dashboard/patchsets/34169/ UNH-IOL DPDK Community Lab To manage your email subscriptions, visit: https://lab.dpdk.org/results/dashboard/preferences/subscriptions/