From mboxrd@z Thu Jan 1 00:00:00 1970 Return-Path: Received: from mails.dpdk.org (mails.dpdk.org [217.70.189.124]) by inbox.dpdk.org (Postfix) with ESMTP id D653548863 for ; Mon, 29 Sep 2025 14:59:48 +0200 (CEST) Received: from mails.dpdk.org (localhost [127.0.0.1]) by mails.dpdk.org (Postfix) with ESMTP id D1B8D40668; Mon, 29 Sep 2025 14:59:48 +0200 (CEST) Received: from mail-ua1-f98.google.com (mail-ua1-f98.google.com [209.85.222.98]) by mails.dpdk.org (Postfix) with ESMTP id 03C4240668 for ; Mon, 29 Sep 2025 14:59:47 +0200 (CEST) Received: by mail-ua1-f98.google.com with SMTP id a1e0cc1a2514c-904d71faab6so3497365241.1 for ; Mon, 29 Sep 2025 05:59:47 -0700 (PDT) DKIM-Signature: v=1; a=rsa-sha256; c=relaxed/relaxed; d=iol.unh.edu; s=unh-iol; t=1759150787; x=1759755587; darn=dpdk.org; h=references:in-reply-to:cc:to:from:subject:message-id:date:from:to :cc:subject:date:message-id:reply-to; bh=+XtlI1WK1RKqX6cCb4Z5k2quSLtLqfMNvno4bitMU6g=; b=CbfXNppUAS61cbAKtgnkUDsX6pLu3P6+UXiQBoOfVjOkw7UaGFzk+4sOeCP5n2HdVK 8FLGHxYzAjsYynyPaQb2nPeMSqwR7eRY41GZroIMhuCGD/wk2PPn0OFeYeZTroLWDQj2 9EURNozlwcapyVgGRqmqyiu69v5w7oJpWOxgc= X-Google-DKIM-Signature: v=1; a=rsa-sha256; c=relaxed/relaxed; d=1e100.net; s=20230601; t=1759150787; x=1759755587; h=references:in-reply-to:cc:to:from:subject:message-id:date :x-gm-message-state:from:to:cc:subject:date:message-id:reply-to; bh=+XtlI1WK1RKqX6cCb4Z5k2quSLtLqfMNvno4bitMU6g=; b=agrUeCgNBlQNr5Yt9A/jlA3BZLNjCkVEUCoUSu6DwSlhfzAm86nQgdMTC1iqHpbUtB QK92ARny25NY1qnY7+DC6Y5jWKWigP+1Mopd0sxz2fuRjEk2LKwWxF6kZAmWnZDIX99b V824sVTQ+iJaQHTx6hWu6ArTLXlATERuW2pfpanHRjhlv/W1amEcg5pVrdS9dhGrAZ9N LXvvo12PVUXoChtih0imIFWxsIijVop4RBuKxNH/FcYSQr/9DQm6W2ZPvgMKJX8qeywe qFR9+hcoRPhDhKkkMBhm2ELYDNjYGEBHdBqFDNM9aGMx+2ubczbhSk2nGcT+/Kestp2u qyYw== X-Gm-Message-State: AOJu0Yw1SKZoHc4uhFjkAgYkOfDRH/EA+LbDhNSvJsq/+zyneHoleV7n YlHbj5go0DXu6Gva7wxVALFjEgfqbMJNEbpoGyeSoEItzLul563VvlWF1UmnVu4x0RLXFRwHCXI W7iDy4zDxuxWv99COowwj4/hzPYQSZXWQBVYa2ZIZt8R2O6roVnK2l6ov8a0a X-Gm-Gg: ASbGncsWGWLZr6fBLbu8CVy7UIvEWqAPrgFnnenbSWDJPQiAR5onfnD5SxJgG65UDyU wajyRAxyPJat6dzyxe+qnqdK5BWVSQYMkYQGUewQceQBJs54Fo+GTi1gxVoOTxjPvZ4JE2JJJFi S/APzk9pIKISRL6brnPSo/xbs+xZYLC4ELkc/kPKGz5zp/swRIEIZd9wP/l+FUylsqr1cGUsNgU K8LNgww+RJ2XePuPG6QH9tSbFPKZDgqNSOovOwKzXH+XtE3prQ0y0SuEPsQjg/TUkIRjtBE9tXb F8EUpWDzsI3e7vHGsFuqD/G5zHsp5J1oj/0HiGUkH04/tKRZow== X-Google-Smtp-Source: AGHT+IHeX3twhB9m+tAJt2cUCOcNLv/HDNl3n+byUoBUcj+GUvbqKBzTQPdUGn3KeeYyl/IsXzyQdJERTQtM X-Received: by 2002:a05:6102:d90:b0:4fc:1987:fc84 with SMTP id ada2fe7eead31-5accd4f6ce7mr6348621137.21.1759150787301; Mon, 29 Sep 2025 05:59:47 -0700 (PDT) Received: from postal.iol.unh.edu (postal.iol.unh.edu. [2606:4100:3880:1234::84]) by smtp-relay.gmail.com with ESMTPS id 71dfb90a1353d-54bedb8d684sm653422e0c.3.2025.09.29.05.59.47 (version=TLS1_2 cipher=ECDHE-ECDSA-AES128-GCM-SHA256 bits=128/128); Mon, 29 Sep 2025 05:59:47 -0700 (PDT) X-Relaying-Domain: iol.unh.edu Date: Mon, 29 Sep 2025 05:59:47 -0700 (PDT) Message-ID: <68da82c3.050a0220.1933c9.623dSMTPIN_ADDED_MISSING@mx.google.com> Received: from [172.21.0.2] (unknown [172.18.0.240]) by postal.iol.unh.edu (Postfix) with ESMTP id F31AC6051830; Mon, 29 Sep 2025 08:59:46 -0400 (EDT) Subject: |SUCCESS| pw157030-157031 [PATCH] [2/2] net/hns3: print invalid MAC From: dpdklab@iol.unh.edu To: Test Report Cc: dpdk-test-reports@iol.unh.edu, Stephen Hemminger In-Reply-To: <20250929113554.2443832-3-yangxingui@huawei.com> References: <20250929113554.2443832-3-yangxingui@huawei.com> Content-Type: text/plain X-BeenThere: test-report@dpdk.org X-Mailman-Version: 2.1.29 Precedence: list List-Id: automatic DPDK test reports List-Unsubscribe: , List-Archive: List-Post: List-Help: List-Subscribe: , Errors-To: test-report-bounces@dpdk.org Test-Label: iol-compile-amd64-testing Test-Status: SUCCESS http://dpdk.org/patch/157031 _Testing PASS_ Submitter: Xingui Yang Date: Monday, September 29 2025 11:35:54 DPDK git baseline: Repo:dpdk-next-net Branch: master CommitID:c04bbd131b2c14b3049bf86d3ef367b34e6fdf1e 157030-157031 --> testing pass Upstream job id: Windows-Compile-DPDK-Native#31295 Test environment and result as below: +-------------------------------+--------------------+------------------+-------------------+-------------------+-------------------------+ | Environment | dpdk_meson_compile | dpdk_compile_ovs | dpdk_compile_spdk | dpdk_msvc_compile | dpdk_llvm_clang_compile | +===============================+====================+==================+===================+===================+=========================+ | Fedora Linux 42 | PASS | PASS | PASS | SKIPPED | SKIPPED | +-------------------------------+--------------------+------------------+-------------------+-------------------+-------------------------+ | openSUSE Leap 15.6 | PASS | SKIPPED | SKIPPED | SKIPPED | SKIPPED | +-------------------------------+--------------------+------------------+-------------------+-------------------+-------------------------+ | Ubuntu 20.04 | PASS | SKIPPED | SKIPPED | SKIPPED | SKIPPED | +-------------------------------+--------------------+------------------+-------------------+-------------------+-------------------------+ | Ubuntu 22.04 | PASS | SKIPPED | PASS | SKIPPED | SKIPPED | +-------------------------------+--------------------+------------------+-------------------+-------------------+-------------------------+ | Alpine Linux 3.22.0 | PASS | SKIPPED | SKIPPED | SKIPPED | SKIPPED | +-------------------------------+--------------------+------------------+-------------------+-------------------+-------------------------+ | CentOS Stream 9 | PASS | SKIPPED | PASS | SKIPPED | SKIPPED | +-------------------------------+--------------------+------------------+-------------------+-------------------+-------------------------+ | FreeBSD 14.2 | PASS | SKIPPED | SKIPPED | SKIPPED | SKIPPED | +-------------------------------+--------------------+------------------+-------------------+-------------------+-------------------------+ | CentOS Stream 10 | PASS | SKIPPED | SKIPPED | SKIPPED | SKIPPED | +-------------------------------+--------------------+------------------+-------------------+-------------------+-------------------------+ | Debian GNU/Linux 12 | PASS | SKIPPED | PASS | SKIPPED | SKIPPED | +-------------------------------+--------------------+------------------+-------------------+-------------------+-------------------------+ | Red Hat Enterprise Linux 8.10 | PASS | SKIPPED | SKIPPED | SKIPPED | SKIPPED | +-------------------------------+--------------------+------------------+-------------------+-------------------+-------------------------+ | Red Hat Enterprise Linux 9.5 | PASS | SKIPPED | SKIPPED | SKIPPED | SKIPPED | +-------------------------------+--------------------+------------------+-------------------+-------------------+-------------------------+ | Ubuntu 24.04 | PASS | PASS | PASS | SKIPPED | SKIPPED | +-------------------------------+--------------------+------------------+-------------------+-------------------+-------------------------+ | Windows Server 2022 | SKIPPED | SKIPPED | SKIPPED | PASS | PASS | +-------------------------------+--------------------+------------------+-------------------+-------------------+-------------------------+ Fedora Linux 42 Kernel: 5.15 Compiler: clang gcc (GCC) 15.2.1 20250808 (Red Hat 15.2.1-1) openSUSE Leap 15.6 Kernel: 5.15 Compiler: gcc gcc (SUSE Linux) 7.5.0 Ubuntu 20.04 Kernel: 5.15 Compiler: gcc gcc (Ubuntu 9.4.0-1ubuntu1~20.04.2) 9.4.0 Ubuntu 22.04 Kernel: 5.15 Compiler: gcc gcc (Ubuntu 11.4.0-1ubuntu1~22.04) 11.4.0 Alpine Linux 3.22.0 Kernel: 5.15 Compiler: gcc gcc (Alpine 14.2.0) 14.2.0 CentOS Stream 9 Kernel: 5.15 Compiler: gcc gcc (GCC) 11.5.0 20240719 (Red Hat 11.5.0-11) FreeBSD 14.2 Kernel: 14.2-RELEASE Compiler: clang 18.1.6 CentOS Stream 10 Kernel: 5.15 Compiler: gcc gcc (GCC) 14.2.1 20250110 (Red Hat 14.2.1-8) Debian GNU/Linux 12 Kernel: 5.15 Compiler: gcc gcc (Debian 12.2.0-14+deb12u1) 12.2.0 Red Hat Enterprise Linux 8.10 Kernel: 5.15 Compiler: gcc gcc (GCC) 8.5.0 20210514 (Red Hat 8.5.0-22) Red Hat Enterprise Linux 9.5 Kernel: 5.15 Compiler: gcc gcc (GCC) 11.5.0 20240719 (Red Hat 11.5.0-2) Ubuntu 24.04 Kernel: 5.15 Compiler: gcc gcc (Ubuntu 13.3.0-6ubuntu2~24.04) 13.3.0 Windows Server 2022 Kernel: 10.0.20348.2031 Compiler: clang 15.0.7, gcc 14.1.0 (MinGW), and MSVC VS 19.39.33521 To view detailed results, visit: https://lab.dpdk.org/results/dashboard/patchsets/34169/ UNH-IOL DPDK Community Lab To manage your email subscriptions, visit: https://lab.dpdk.org/results/dashboard/preferences/subscriptions/