From mboxrd@z Thu Jan 1 00:00:00 1970 Return-Path: Received: from mails.dpdk.org (mails.dpdk.org [217.70.189.124]) by inbox.dpdk.org (Postfix) with ESMTP id 0D85448863 for ; Mon, 29 Sep 2025 15:01:25 +0200 (CEST) Received: from mails.dpdk.org (localhost [127.0.0.1]) by mails.dpdk.org (Postfix) with ESMTP id 07F5540668; Mon, 29 Sep 2025 15:01:25 +0200 (CEST) Received: from mail-il1-f227.google.com (mail-il1-f227.google.com [209.85.166.227]) by mails.dpdk.org (Postfix) with ESMTP id 4808E40668 for ; Mon, 29 Sep 2025 15:01:24 +0200 (CEST) Received: by mail-il1-f227.google.com with SMTP id e9e14a558f8ab-42571b8abbaso46948575ab.0 for ; Mon, 29 Sep 2025 06:01:24 -0700 (PDT) DKIM-Signature: v=1; a=rsa-sha256; c=relaxed/relaxed; d=iol.unh.edu; s=unh-iol; t=1759150883; x=1759755683; darn=dpdk.org; h=references:in-reply-to:cc:to:from:subject:message-id:date:from:to :cc:subject:date:message-id:reply-to; bh=8g0TTHMd7a2tO+oubTYovJf2jr4qm6UPjrx/dlkqgx0=; b=cbcWlgT03EJ35y6qPCEJAC4YsB2ae9M668jXLsPEX5nv44AeY/IOkEHS+4i0xB+BYf 9V5Vz+SGsybC/Q3roA+fLZmaIn1L6kaSLOIm9keML1aEgEmLIjLEu3IRUMtnTHpgHdDt aJ3J/GNUGTG5aEVcfrkXh66iAlMcEMDr9FhQE= X-Google-DKIM-Signature: v=1; a=rsa-sha256; c=relaxed/relaxed; d=1e100.net; s=20230601; t=1759150883; x=1759755683; h=references:in-reply-to:cc:to:from:subject:message-id:date :x-gm-message-state:from:to:cc:subject:date:message-id:reply-to; bh=8g0TTHMd7a2tO+oubTYovJf2jr4qm6UPjrx/dlkqgx0=; b=efEXhCWgv1fZPd83F6JbwqjNcgtwqIijpGFSzzMH/UsodTI7nNGOfLQmkP8Lrmzfo/ Q2ssi0Iy2JU4adnsn1ZM1I6DHT4f2bI4XZVG/TGWZKeUH9j9pRSYXMX2bcyDFNn4ClZ+ jlZftAxTmzB3HwjczjfqRUHE5Woj8OpROViaqSyQ61I0dxRWHRfYysAh5gXCD9aTDIMi Q/LpDkAV6ZpPd2sIvAY9Dc5PHqTYG5duwQC0LhNPyd5GU2+B7DOW6IwZ0W8kE1nHvmXx 8LxCMdgCoNJ9i+Qvo/uhrNutXdLIB4baEbXk/q2sgbTdPT6F3H52lwoH7m8PY7HCIi9V jbEg== X-Gm-Message-State: AOJu0YxFrrJqIpR2NYBz6HpIUsgqRJqnZNp3C/HpTXT9kHvJrj7GpzbT 5xjE/yUSMMNWA7ihlV143t51p8T18kle+SJBBybHW6e5pdktmldBn2rllINuSuI8nzVmhFPKMaQ sGr+DfWl9io75HkG1AJCYrT0QP3ojdW8wODPD/sNO4kgpE2e0BILlnACpNyeB X-Gm-Gg: ASbGncuPIwhS7MGP9TX/X3R8DR54jmXakTZKFzaUzzGnUTWpmHE1Yjdj6mT9U/0U0Vg kDFNzzLrST/UM55rE/a7WdvBenD/eu+3jzy4b2ONkgAKNITeUt/DzKBaegegZwNgbVZQxbd0AVF N2pTsEkhJCToTALi6DgJUwo1YhrwjQTpVTn8BTnvaG1jiuQNyPQSigO69PyhPo+PrDfeIzE44LQ aRZD8z34jterKb2vqRmxCjok/Huk6zBzOFdPJ/2AmH1OJ7mf/dIKZbqk1RaTiD3heHEttPb3Alk 61U0G4R47IxYDgltmRYyEnxs+T/58+w2BYatsj+eLxqFsoIaNg== X-Google-Smtp-Source: AGHT+IEa+E+jVVqOIkOhLiGaGF60YmxQ+gy2Q5X6P0caqFcNp4AVkZQ7AqxR0B9es+MFo/2mCdDbsnsexTCk X-Received: by 2002:a05:6e02:2293:b0:427:364b:2201 with SMTP id e9e14a558f8ab-427364b2240mr178186655ab.30.1759150883325; Mon, 29 Sep 2025 06:01:23 -0700 (PDT) Received: from postal.iol.unh.edu (postal.iol.unh.edu. [2606:4100:3880:1234::84]) by smtp-relay.gmail.com with ESMTPS id e9e14a558f8ab-425b8b67e7esm8512655ab.0.2025.09.29.06.01.23 (version=TLS1_2 cipher=ECDHE-ECDSA-AES128-GCM-SHA256 bits=128/128); Mon, 29 Sep 2025 06:01:23 -0700 (PDT) X-Relaying-Domain: iol.unh.edu Date: Mon, 29 Sep 2025 06:01:23 -0700 (PDT) Message-ID: <68da8323.050a0220.1108ab.3619SMTPIN_ADDED_MISSING@mx.google.com> Received: from [172.21.0.2] (unknown [172.18.0.240]) by postal.iol.unh.edu (Postfix) with ESMTP id D8C0F6051830; Mon, 29 Sep 2025 09:01:21 -0400 (EDT) Subject: |SUCCESS| pw157030-157031 [PATCH] [2/2] net/hns3: print invalid MAC From: dpdklab@iol.unh.edu To: Test Report Cc: dpdk-test-reports@iol.unh.edu, Stephen Hemminger In-Reply-To: <20250929113554.2443832-3-yangxingui@huawei.com> References: <20250929113554.2443832-3-yangxingui@huawei.com> Content-Type: text/plain X-BeenThere: test-report@dpdk.org X-Mailman-Version: 2.1.29 Precedence: list List-Id: automatic DPDK test reports List-Unsubscribe: , List-Archive: List-Post: List-Help: List-Subscribe: , Errors-To: test-report-bounces@dpdk.org Test-Label: iol-compile-amd64-testing Test-Status: SUCCESS http://dpdk.org/patch/157031 _Testing PASS_ Submitter: Xingui Yang Date: Monday, September 29 2025 11:35:54 DPDK git baseline: Repo:dpdk-next-net Branch: master CommitID:c04bbd131b2c14b3049bf86d3ef367b34e6fdf1e 157030-157031 --> testing pass Upstream job id: Windows-Compile-DPDK-Native#31296 Test environment and result as below: +-------------------------------+--------------------+------------------+-------------------+-------------------+-------------------------+----------------------+ | Environment | dpdk_meson_compile | dpdk_compile_ovs | dpdk_compile_spdk | dpdk_msvc_compile | dpdk_llvm_clang_compile | dpdk_mingw64_compile | +===============================+====================+==================+===================+===================+=========================+======================+ | Fedora Linux 42 | PASS | PASS | PASS | SKIPPED | SKIPPED | SKIPPED | +-------------------------------+--------------------+------------------+-------------------+-------------------+-------------------------+----------------------+ | openSUSE Leap 15.6 | PASS | SKIPPED | SKIPPED | SKIPPED | SKIPPED | SKIPPED | +-------------------------------+--------------------+------------------+-------------------+-------------------+-------------------------+----------------------+ | Ubuntu 20.04 | PASS | SKIPPED | SKIPPED | SKIPPED | SKIPPED | SKIPPED | +-------------------------------+--------------------+------------------+-------------------+-------------------+-------------------------+----------------------+ | Ubuntu 22.04 | PASS | SKIPPED | PASS | SKIPPED | SKIPPED | SKIPPED | +-------------------------------+--------------------+------------------+-------------------+-------------------+-------------------------+----------------------+ | Alpine Linux 3.22.0 | PASS | SKIPPED | SKIPPED | SKIPPED | SKIPPED | SKIPPED | +-------------------------------+--------------------+------------------+-------------------+-------------------+-------------------------+----------------------+ | CentOS Stream 9 | PASS | SKIPPED | PASS | SKIPPED | SKIPPED | SKIPPED | +-------------------------------+--------------------+------------------+-------------------+-------------------+-------------------------+----------------------+ | FreeBSD 14.2 | PASS | SKIPPED | SKIPPED | SKIPPED | SKIPPED | SKIPPED | +-------------------------------+--------------------+------------------+-------------------+-------------------+-------------------------+----------------------+ | CentOS Stream 10 | PASS | SKIPPED | SKIPPED | SKIPPED | SKIPPED | SKIPPED | +-------------------------------+--------------------+------------------+-------------------+-------------------+-------------------------+----------------------+ | Debian GNU/Linux 12 | PASS | SKIPPED | PASS | SKIPPED | SKIPPED | SKIPPED | +-------------------------------+--------------------+------------------+-------------------+-------------------+-------------------------+----------------------+ | Red Hat Enterprise Linux 8.10 | PASS | SKIPPED | SKIPPED | SKIPPED | SKIPPED | SKIPPED | +-------------------------------+--------------------+------------------+-------------------+-------------------+-------------------------+----------------------+ | Red Hat Enterprise Linux 9.5 | PASS | SKIPPED | SKIPPED | SKIPPED | SKIPPED | SKIPPED | +-------------------------------+--------------------+------------------+-------------------+-------------------+-------------------------+----------------------+ | Ubuntu 24.04 | PASS | PASS | PASS | SKIPPED | SKIPPED | SKIPPED | +-------------------------------+--------------------+------------------+-------------------+-------------------+-------------------------+----------------------+ | Windows Server 2022 | SKIPPED | SKIPPED | SKIPPED | PASS | PASS | PASS | +-------------------------------+--------------------+------------------+-------------------+-------------------+-------------------------+----------------------+ Fedora Linux 42 Kernel: 5.15 Compiler: clang gcc (GCC) 15.2.1 20250808 (Red Hat 15.2.1-1) openSUSE Leap 15.6 Kernel: 5.15 Compiler: gcc gcc (SUSE Linux) 7.5.0 Ubuntu 20.04 Kernel: 5.15 Compiler: gcc gcc (Ubuntu 9.4.0-1ubuntu1~20.04.2) 9.4.0 Ubuntu 22.04 Kernel: 5.15 Compiler: gcc gcc (Ubuntu 11.4.0-1ubuntu1~22.04) 11.4.0 Alpine Linux 3.22.0 Kernel: 5.15 Compiler: gcc gcc (Alpine 14.2.0) 14.2.0 CentOS Stream 9 Kernel: 5.15 Compiler: gcc gcc (GCC) 11.5.0 20240719 (Red Hat 11.5.0-11) FreeBSD 14.2 Kernel: 14.2-RELEASE Compiler: clang 18.1.6 CentOS Stream 10 Kernel: 5.15 Compiler: gcc gcc (GCC) 14.2.1 20250110 (Red Hat 14.2.1-8) Debian GNU/Linux 12 Kernel: 5.15 Compiler: gcc gcc (Debian 12.2.0-14+deb12u1) 12.2.0 Red Hat Enterprise Linux 8.10 Kernel: 5.15 Compiler: gcc gcc (GCC) 8.5.0 20210514 (Red Hat 8.5.0-22) Red Hat Enterprise Linux 9.5 Kernel: 5.15 Compiler: gcc gcc (GCC) 11.5.0 20240719 (Red Hat 11.5.0-2) Ubuntu 24.04 Kernel: 5.15 Compiler: gcc gcc (Ubuntu 13.3.0-6ubuntu2~24.04) 13.3.0 Windows Server 2022 Kernel: 10.0.20348.2031 Compiler: clang 15.0.7, gcc 14.1.0 (MinGW), and MSVC VS 19.39.33521 To view detailed results, visit: https://lab.dpdk.org/results/dashboard/patchsets/34169/ UNH-IOL DPDK Community Lab To manage your email subscriptions, visit: https://lab.dpdk.org/results/dashboard/preferences/subscriptions/