From mboxrd@z Thu Jan 1 00:00:00 1970 Return-Path: Received: from mails.dpdk.org (mails.dpdk.org [217.70.189.124]) by inbox.dpdk.org (Postfix) with ESMTP id 8307548864 for ; Mon, 29 Sep 2025 17:46:49 +0200 (CEST) Received: from mails.dpdk.org (localhost [127.0.0.1]) by mails.dpdk.org (Postfix) with ESMTP id 7DF814064E; Mon, 29 Sep 2025 17:46:49 +0200 (CEST) Received: from mail-oi1-f226.google.com (mail-oi1-f226.google.com [209.85.167.226]) by mails.dpdk.org (Postfix) with ESMTP id 232A04064E for ; Mon, 29 Sep 2025 17:46:48 +0200 (CEST) Received: by mail-oi1-f226.google.com with SMTP id 5614622812f47-43f494764a2so877105b6e.0 for ; Mon, 29 Sep 2025 08:46:48 -0700 (PDT) DKIM-Signature: v=1; a=rsa-sha256; c=relaxed/relaxed; d=iol.unh.edu; s=unh-iol; t=1759160807; x=1759765607; darn=dpdk.org; h=references:in-reply-to:cc:to:from:subject:message-id:date:from:to :cc:subject:date:message-id:reply-to; bh=ZKoNWvnGiv554PkMiKlp9GTmSKD+30pA4muzA+SXIDg=; b=JN0RKQr30EoAasysu2aPU9w1sVDUVKLqpMzhY6sVYmQos0t4EM3BOGFo0Hdy+077Ft Ytp+ktq/S4QMTvZPH/yx5T/Nk8/oRbJkRFPLhYKFuqhqry9Sh9TE6lcTXSdSNtI92Ip2 iWLSF42K0iUMdz0l0v/kL+XJtQRL2CXWkgXjQ= X-Google-DKIM-Signature: v=1; a=rsa-sha256; c=relaxed/relaxed; d=1e100.net; s=20230601; t=1759160807; x=1759765607; h=references:in-reply-to:cc:to:from:subject:message-id:date :x-gm-message-state:from:to:cc:subject:date:message-id:reply-to; bh=ZKoNWvnGiv554PkMiKlp9GTmSKD+30pA4muzA+SXIDg=; b=myhmo3UZMZmrcaJUgrfrIzfKx5av6jMg3W0FH0XWaVXYx7Zu+ZXlUKTfi8TmEmhDNi DDZ5iM7Arw/UA1gyzSGy42uRKaUXosCiSGD1v/JDjh9ZjZrJNoor5hJYnFEoBzoLEVIW CFGVtCXjmYJjkiXVsO0nwZrj9a9hbUUJNsHRNH1LgVPfHw4YN0dJkNTJzkrvtUPAMoNA cZ3IKGo1Ap+M++PVW9AuFfoZCi4shO9QG0jdH7Db10jebifU77DkBH6CsbIPsANvzalh egwZcgCBnEUPlnHAazBiCDSwa5W975uULtesmJnm40p7wR5JW0duqxKf5/pwh/UglnKk aYkw== X-Gm-Message-State: AOJu0Yx8IEYv8HVZSVbFIEF7QON/ajqEuva87Awif5L2UBKYs3Hrz8z7 AII9bibE437Xv5rWiQ3N25S/iT+Oo5N0evgGmVKkVREiLdVJ79WQJJ8hZJDYbQM2K0zVVjMfhIU UDT/pe93PB1xxXQq1R93TJDXlqVf9liCXXqmU6GT/UUSa X-Gm-Gg: ASbGnctwDH1WuUeZ0qOe8iPUW2BRWV6z3/9V6dz2KXJnW+nZApQMfcz9ack3DinmgYq 72DFDCDsEwB7W/ZfMdagpSeTS4HFnPgg4ufEV+CNIPsrb+wJIoGmhvz1fxpczjzSa6fzvkrtarB fjnwGb5PnGD+HBRWV0sVZwhwP4BGi7yY/GNxpbJk6cUARBhYKxmKXRzPPXqa4x12RvkLby4XJfI 0yJEALYGvGakbiAsSNw+YMOj/AJhujHbu4/u5i+JBMC6CLC4JHlF++vPdPs+4NvTG2ApIG32Mok tCgmv1U1anJY95qOB2pZdOldxQ8d8N84W51GzU8IwQ8nWOkovSlbtFfQ282iPBnP0K2DEQZZ X-Google-Smtp-Source: AGHT+IEsvNTwPqmvT8m22efLQZahPNsROnt5qszLmplomwGAI1Ehr/T9pkHmqqx1j/MOxhel/XGd59gVhJTs X-Received: by 2002:a05:6808:150c:b0:43f:76e6:871a with SMTP id 5614622812f47-43f76e698a5mr3409164b6e.24.1759160807387; Mon, 29 Sep 2025 08:46:47 -0700 (PDT) Received: from postal.iol.unh.edu (postal.iol.unh.edu. [132.177.123.84]) by smtp-relay.gmail.com with ESMTPS id 8926c6da1cb9f-5755ef083eesm116159173.34.2025.09.29.08.46.47 (version=TLS1_2 cipher=ECDHE-ECDSA-AES128-GCM-SHA256 bits=128/128); Mon, 29 Sep 2025 08:46:47 -0700 (PDT) X-Relaying-Domain: iol.unh.edu Date: Mon, 29 Sep 2025 08:46:47 -0700 (PDT) Message-ID: <68daa9e7.050a0220.23e6bb.6c5aSMTPIN_ADDED_MISSING@mx.google.com> Received: from [172.21.0.2] (unknown [172.18.0.240]) by postal.iol.unh.edu (Postfix) with ESMTP id F06AE6050A61; Mon, 29 Sep 2025 11:46:46 -0400 (EDT) Subject: |SUCCESS| pw157033-157032 [PATCH] [2/2] net/iavf: add reset VF comma From: dpdklab@iol.unh.edu To: Test Report Cc: dpdk-test-reports@iol.unh.edu, Bruce Richardson In-Reply-To: <20250929143039.547207-2-ciara.loftus@intel.com> References: <20250929143039.547207-2-ciara.loftus@intel.com> Content-Type: text/plain X-BeenThere: test-report@dpdk.org X-Mailman-Version: 2.1.29 Precedence: list List-Id: automatic DPDK test reports List-Unsubscribe: , List-Archive: List-Post: List-Help: List-Subscribe: , Errors-To: test-report-bounces@dpdk.org Test-Label: iol-unit-amd64-testing Test-Status: SUCCESS http://dpdk.org/patch/157032 _Testing PASS_ Submitter: Ciara Loftus Date: Monday, September 29 2025 14:30:39 DPDK git baseline: Repo:dpdk-next-net-intel Branch: master CommitID:9845e5848bbe337306fb6ae2a6b1ce5e6ab5b714 157033-157032 --> testing pass Upstream job id: Generic-VM-Unit-Test-DPDK#31466 Test environment and result as below: +-------------------------------+----------------+ | Environment | dpdk_unit_test | +===============================+================+ | Ubuntu 20.04 | PASS | +-------------------------------+----------------+ | Fedora Linux 40 | PASS | +-------------------------------+----------------+ | Debian GNU/Linux 12 | PASS | +-------------------------------+----------------+ | CentOS Stream 9 | PASS | +-------------------------------+----------------+ | Red Hat Enterprise Linux 8.10 | PASS | +-------------------------------+----------------+ | Ubuntu 24.04 | PASS | +-------------------------------+----------------+ | Fedora Linux 42 | PASS | +-------------------------------+----------------+ | Windows Server 2022 | PASS | +-------------------------------+----------------+ | Red Hat Enterprise Linux 9.5 | PASS | +-------------------------------+----------------+ | Fedora Linux 41 | PASS | +-------------------------------+----------------+ | Ubuntu 22.04 | PASS | +-------------------------------+----------------+ | CentOS Stream 10 | PASS | +-------------------------------+----------------+ Ubuntu 20.04 Kernel: 5.15 Compiler: gcc gcc (Ubuntu 9.4.0-1ubuntu1~20.04.2) 9.4.0 Fedora Linux 40 Kernel: 5.15 Compiler: clang gcc (GCC) 14.2.1 20240912 (Red Hat 14.2.1-3) Debian GNU/Linux 12 Kernel: 5.15 Compiler: gcc gcc (Debian 12.2.0-14+deb12u1) 12.2.0 CentOS Stream 9 Kernel: 5.15 Compiler: gcc gcc (GCC) 11.5.0 20240719 (Red Hat 11.5.0-11) Red Hat Enterprise Linux 8.10 Kernel: 5.15 Compiler: gcc gcc (GCC) 8.5.0 20210514 (Red Hat 8.5.0-22) Ubuntu 24.04 Kernel: 5.15 Compiler: gcc gcc (Ubuntu 13.3.0-6ubuntu2~24.04) 13.3.0 Fedora Linux 42 Kernel: 5.15 Compiler: clang gcc (GCC) 15.2.1 20250808 (Red Hat 15.2.1-1) Windows Server 2022 Kernel: 10.0.20348.2031 Compiler: clang 15.0.7, gcc 14.1.0 (MinGW), and MSVC VS 19.39.33521 Red Hat Enterprise Linux 9.5 Kernel: 5.15 Compiler: gcc gcc (GCC) 11.5.0 20240719 (Red Hat 11.5.0-2) Fedora Linux 41 Kernel: 5.15 Compiler: clang gcc (GCC) 14.3.1 20250523 (Red Hat 14.3.1-1) Ubuntu 22.04 Kernel: 5.15 Compiler: gcc gcc (Ubuntu 11.4.0-1ubuntu1~22.04) 11.4.0 CentOS Stream 10 Kernel: 5.15 Compiler: gcc gcc (GCC) 14.2.1 20250110 (Red Hat 14.2.1-8) To view detailed results, visit: https://lab.dpdk.org/results/dashboard/patchsets/34171/ UNH-IOL DPDK Community Lab To manage your email subscriptions, visit: https://lab.dpdk.org/results/dashboard/preferences/subscriptions/