From mboxrd@z Thu Jan 1 00:00:00 1970 Return-Path: Received: from mails.dpdk.org (mails.dpdk.org [217.70.189.124]) by inbox.dpdk.org (Postfix) with ESMTP id 2B63948865 for ; Mon, 29 Sep 2025 18:03:07 +0200 (CEST) Received: from mails.dpdk.org (localhost [127.0.0.1]) by mails.dpdk.org (Postfix) with ESMTP id 267774064E; Mon, 29 Sep 2025 18:03:07 +0200 (CEST) Received: from mail-yw1-f227.google.com (mail-yw1-f227.google.com [209.85.128.227]) by mails.dpdk.org (Postfix) with ESMTP id 7FD064064E for ; Mon, 29 Sep 2025 18:03:05 +0200 (CEST) Received: by mail-yw1-f227.google.com with SMTP id 00721157ae682-71d603b674aso51430677b3.1 for ; Mon, 29 Sep 2025 09:03:05 -0700 (PDT) DKIM-Signature: v=1; a=rsa-sha256; c=relaxed/relaxed; d=iol.unh.edu; s=unh-iol; t=1759161785; x=1759766585; darn=dpdk.org; h=references:in-reply-to:cc:to:from:subject:message-id:date:from:to :cc:subject:date:message-id:reply-to; bh=30LpK4P1FeMs/dyY810i2Y9DOjrZM4OBSHwZy6VJqb0=; b=JwKVIbwc0cNWdQr2AgZ/EEe4nu2477EaKr3G0OKxaYi29/qLCDQFBgTIf1SLqlpN+3 Bj+G293F0zpFqsY/e7y3v1asTSnl8F9JFCkEnrXbbhv/TRTtYY7A9XNMOnVsqUcbWArO 3Bl8ASGPeRigtIdSNSAR+7Nd+h0duil3D6ceY= X-Google-DKIM-Signature: v=1; a=rsa-sha256; c=relaxed/relaxed; d=1e100.net; s=20230601; t=1759161785; x=1759766585; h=references:in-reply-to:cc:to:from:subject:message-id:date :x-gm-message-state:from:to:cc:subject:date:message-id:reply-to; bh=30LpK4P1FeMs/dyY810i2Y9DOjrZM4OBSHwZy6VJqb0=; b=E1okLM8pIrFtIJtumfdBj2gWxJyrb/fzbSTiRzSMVHMhkMBNAbDwi/UxkPmMHcOsw6 AuoyM64zppMnzS2lbzs9YDfeKU2rlTQWRZJAq27oCHV7tLDZbgfsjWaWCTxcCTo1DDWF Xshhfx8W1XKksIamIRP4dre2HV3YQITosO3IghDo7z1su9x6pRLR9y6NKp5ug9oi0QM8 Z8d6WRi+m1u6op5ZAiSaxjg5jasRk12sRIoRbaehGI+9Tq/q9wJ48PFfUViGFlmr74iZ Q0WZxW/+RTEHWgzupnNPhcHJM3azLX9KJYXHn5kks36YS7pQYzVaTv2vPT/yyBMCAD8X zHWQ== X-Gm-Message-State: AOJu0YyYB4nhXPBWaRarlkxhmKbZSVFfvqz3cQSDvt5Eg9FnkCK7bXev mMf6yC6pNrcuyR1M72UY1FPdzH+VJJ+mgMbCj0eVxOPmdorIsJ+KTe3Cg8deGqmhmiP1BrdL72u 1V5iN3AobkkYlOThK36x6SXrEt+zjKY5vWYG7oG9oCLM6 X-Gm-Gg: ASbGnctR+RvDAXtJz7IR/+gARijzIFNiDNxeqUY6As+Py26x5CcOj/PyhqIPu+5k2Z4 KJIwOvTiTzHlE2sNil5KAfm8ZO4v4CCiPPnLzIddpXwZyHYVtI1XoKXuofWJEIqVgzRMK6D002l 1YjDEP/Mt7ffXeqSdbfOU7nKvYIO7gxfaCLf7PnTonAHYe4/PEeZkXONL+YfUN2U0amHyuHUkTW jxOa0x+ULyV9Ln9d8JBI176hAlXj6mre+plc1LUG1IKTM+oT56GF1QY56HoNFyEgxj8bOhV4KE2 5Nj+y4jOFyZPC8RJgafs2j8O/cHLUZJEiwct5XUyl8oN3iRTDf2EXJnKQLFaSFESlSvmTpmR X-Google-Smtp-Source: AGHT+IFfSP35GfNdogBUWL47BWMsxPiFoNftkYlS/IPBQ8lKgNc4d6oGQCmHH4emBIXI3mFFt8RxniwALuZy X-Received: by 2002:a05:690c:2d0a:b0:746:d1fa:cec6 with SMTP id 00721157ae682-763fabe0015mr175186607b3.20.1759161784601; Mon, 29 Sep 2025 09:03:04 -0700 (PDT) Received: from postal.iol.unh.edu (postal.iol.unh.edu. [132.177.123.84]) by smtp-relay.gmail.com with ESMTPS id 00721157ae682-765d9d1b4a0sm5538457b3.35.2025.09.29.09.03.04 (version=TLS1_2 cipher=ECDHE-ECDSA-AES128-GCM-SHA256 bits=128/128); Mon, 29 Sep 2025 09:03:04 -0700 (PDT) X-Relaying-Domain: iol.unh.edu Date: Mon, 29 Sep 2025 09:03:04 -0700 (PDT) Message-ID: <68daadb8.050a0220.28bc9d.102cSMTPIN_ADDED_MISSING@mx.google.com> Received: from [172.21.0.2] (unknown [172.18.0.240]) by postal.iol.unh.edu (Postfix) with ESMTP id 425D46051830; Mon, 29 Sep 2025 12:03:04 -0400 (EDT) Subject: |SUCCESS| pw157033-157032 [PATCH] [2/2] net/iavf: add reset VF comma From: dpdklab@iol.unh.edu To: Test Report Cc: dpdk-test-reports@iol.unh.edu, Bruce Richardson In-Reply-To: <20250929143039.547207-2-ciara.loftus@intel.com> References: <20250929143039.547207-2-ciara.loftus@intel.com> Content-Type: text/plain X-BeenThere: test-report@dpdk.org X-Mailman-Version: 2.1.29 Precedence: list List-Id: automatic DPDK test reports List-Unsubscribe: , List-Archive: List-Post: List-Help: List-Subscribe: , Errors-To: test-report-bounces@dpdk.org Test-Label: iol-unit-amd64-testing Test-Status: SUCCESS http://dpdk.org/patch/157032 _Testing PASS_ Submitter: Ciara Loftus Date: Monday, September 29 2025 14:30:39 DPDK git baseline: Repo:dpdk-next-net-intel Branch: master CommitID:9845e5848bbe337306fb6ae2a6b1ce5e6ab5b714 157033-157032 --> testing pass Upstream job id: Generic-VM-Unit-Test-DPDK#31467 Test environment and result as below: +-------------------------------+----------------+ | Environment | dpdk_unit_test | +===============================+================+ | Ubuntu 20.04 | PASS | +-------------------------------+----------------+ | Fedora Linux 40 | PASS | +-------------------------------+----------------+ | Debian GNU/Linux 12 | PASS | +-------------------------------+----------------+ | CentOS Stream 9 | PASS | +-------------------------------+----------------+ | Red Hat Enterprise Linux 8.10 | PASS | +-------------------------------+----------------+ | Ubuntu 24.04 | PASS | +-------------------------------+----------------+ | Fedora Linux 42 | PASS | +-------------------------------+----------------+ | Windows Server 2022 | PASS | +-------------------------------+----------------+ | Red Hat Enterprise Linux 9.5 | PASS | +-------------------------------+----------------+ | Fedora Linux 41 | PASS | +-------------------------------+----------------+ | Ubuntu 22.04 | PASS | +-------------------------------+----------------+ | CentOS Stream 10 | PASS | +-------------------------------+----------------+ Ubuntu 20.04 Kernel: 5.15 Compiler: gcc gcc (Ubuntu 9.4.0-1ubuntu1~20.04.2) 9.4.0 Fedora Linux 40 Kernel: 5.15 Compiler: clang gcc (GCC) 14.2.1 20240912 (Red Hat 14.2.1-3) Debian GNU/Linux 12 Kernel: 5.15 Compiler: gcc gcc (Debian 12.2.0-14+deb12u1) 12.2.0 CentOS Stream 9 Kernel: 5.15 Compiler: gcc gcc (GCC) 11.5.0 20240719 (Red Hat 11.5.0-11) Red Hat Enterprise Linux 8.10 Kernel: 5.15 Compiler: gcc gcc (GCC) 8.5.0 20210514 (Red Hat 8.5.0-22) Ubuntu 24.04 Kernel: 5.15 Compiler: gcc gcc (Ubuntu 13.3.0-6ubuntu2~24.04) 13.3.0 Fedora Linux 42 Kernel: 5.15 Compiler: clang gcc (GCC) 15.2.1 20250808 (Red Hat 15.2.1-1) Windows Server 2022 Kernel: 10.0.20348.2031 Compiler: clang 15.0.7, gcc 14.1.0 (MinGW), and MSVC VS 19.39.33521 Red Hat Enterprise Linux 9.5 Kernel: 5.15 Compiler: gcc gcc (GCC) 11.5.0 20240719 (Red Hat 11.5.0-2) Fedora Linux 41 Kernel: 5.15 Compiler: clang gcc (GCC) 14.3.1 20250523 (Red Hat 14.3.1-1) Ubuntu 22.04 Kernel: 5.15 Compiler: gcc gcc (Ubuntu 11.4.0-1ubuntu1~22.04) 11.4.0 CentOS Stream 10 Kernel: 5.15 Compiler: gcc gcc (GCC) 14.2.1 20250110 (Red Hat 14.2.1-8) To view detailed results, visit: https://lab.dpdk.org/results/dashboard/patchsets/34171/ UNH-IOL DPDK Community Lab To manage your email subscriptions, visit: https://lab.dpdk.org/results/dashboard/preferences/subscriptions/