From mboxrd@z Thu Jan 1 00:00:00 1970 Return-Path: Received: from mails.dpdk.org (mails.dpdk.org [217.70.189.124]) by inbox.dpdk.org (Postfix) with ESMTP id 7B16348865 for ; Mon, 29 Sep 2025 19:12:21 +0200 (CEST) Received: from mails.dpdk.org (localhost [127.0.0.1]) by mails.dpdk.org (Postfix) with ESMTP id 5788E402EB; Mon, 29 Sep 2025 19:12:21 +0200 (CEST) Received: from mail-io1-f99.google.com (mail-io1-f99.google.com [209.85.166.99]) by mails.dpdk.org (Postfix) with ESMTP id DFC2C402EB for ; Mon, 29 Sep 2025 19:12:19 +0200 (CEST) Received: by mail-io1-f99.google.com with SMTP id ca18e2360f4ac-92aee734485so42228339f.1 for ; Mon, 29 Sep 2025 10:12:19 -0700 (PDT) DKIM-Signature: v=1; a=rsa-sha256; c=relaxed/relaxed; d=iol.unh.edu; s=unh-iol; t=1759165939; x=1759770739; darn=dpdk.org; h=references:in-reply-to:cc:to:from:subject:message-id:date:from:to :cc:subject:date:message-id:reply-to; bh=5AwfsLT17PVwTiRT7MwjfM+OOsub8rWD+hHZVyExVCs=; b=Fa/GRsgQ8sr6djAj9q37Cv5C2fVmhTsJsvkeka0xDRnfZnzpy0y26TaN+lJz0Vz+py R8VxhI6jogfRmxjITg4Ems6LU/d/JDLL93u40ZzBQmThHT+VGGV2IybMmWylLBug2Bjb h+D/0FdxoEmVz1h5I2CozAgy1WKQXcn5hIIIY= X-Google-DKIM-Signature: v=1; a=rsa-sha256; c=relaxed/relaxed; d=1e100.net; s=20230601; t=1759165939; x=1759770739; h=references:in-reply-to:cc:to:from:subject:message-id:date :x-gm-message-state:from:to:cc:subject:date:message-id:reply-to; bh=5AwfsLT17PVwTiRT7MwjfM+OOsub8rWD+hHZVyExVCs=; b=T14sXyFnJRYEbXSKizR50ppEV77wLC6gP48PySyP3RQ17rMHmqHSZ11VczKjwCZbZw eDTdiqYrSjSyC4QDjH3BMUBTl5W8aBatlGd32RDhPys/Iv9zKJW/0FITsGDQ27Pi9/Wz TcVo44N5dAa3LZhir+OhYIgpnA5nEPlJnFczWm3w4/LRw4zoe+SWfwtmpJRly0jjvGLM mdwP2JcvaEzBeWtuT69BhLAS9j3sRuNIjlxoD9tolmwWAIeVaJVhO25P/hhLoVFMF1e1 3wo39AGZKHICUqSpGb5A6HMkVNX48xMC/OYsOuei8iiTe1X/P4xv+3gtlXCEuXz0oRQa gGmQ== X-Gm-Message-State: AOJu0Yyf3fbhSP9EzKceA84EoE7t0bmUu3Gs9t+se2WCoSL8MYH5eYtF /fa+SMY5ZCFK8kVPido3+6wqWSU4azkOMTTiH9lZ7WPWXmPaJkg4Q5ehrmLnk/2hwNw5mX0enBu 2fYa+bBWE/zqEGHZcJ7ITJ0p3aye6k8qEC3w489skDSvT X-Gm-Gg: ASbGncvWgbJJzwy0zYsA5qjRgXi5jBdnvJNF09Llnyg7ZtW3jE1B3lAvFRlNWxj77Hg 7AWvziv8v/oEuk5l/F6UiqlPmxrVzPi7bOMiDl5HmsuShjD5pY+ydIDg90eixXoaHc5/HS4ArUG B9nU93gOqOH1cv+cSsn8jMYmWfPe3eoJ5XtsqzhUXVuGPsRJG8Lo7mmQIvxyAgk+zhpUyhFOKPn P2cnX3RkVMJeActlRV2va/UtnWlXM12qC5g3zSsZ93qY/SoCkkn3/vJFHci0trlwCojBCjy3y1i vHMEJQJvAu9nlgjmakGFDyOpGCI6/fK7WlKEl4no9Qo9PGvgh3qZSj6ASm0/dNqYsfp2cRkc X-Google-Smtp-Source: AGHT+IG88lTxdPS+bsgszF4JeeKMOZ5XnWT1cSOpWbIte6gsR4EGFoDdiVySIadBnUmARKLEtQLlXLuuQ2uh X-Received: by 2002:a05:6602:48b:b0:90c:8a72:cfd0 with SMTP id ca18e2360f4ac-90c8a72d20amr2002577639f.18.1759165939102; Mon, 29 Sep 2025 10:12:19 -0700 (PDT) Received: from postal.iol.unh.edu (postal.iol.unh.edu. [132.177.123.84]) by smtp-relay.gmail.com with ESMTPS id ca18e2360f4ac-913ed62db43sm28560139f.5.2025.09.29.10.12.19 (version=TLS1_2 cipher=ECDHE-ECDSA-AES128-GCM-SHA256 bits=128/128); Mon, 29 Sep 2025 10:12:19 -0700 (PDT) X-Relaying-Domain: iol.unh.edu Date: Mon, 29 Sep 2025 10:12:19 -0700 (PDT) Message-ID: <68dabdf3.050a0220.4a079.0d6cSMTPIN_ADDED_MISSING@mx.google.com> Received: from [172.21.0.2] (unknown [172.18.0.240]) by postal.iol.unh.edu (Postfix) with ESMTP id 3E7E56050A61; Mon, 29 Sep 2025 13:12:18 -0400 (EDT) Subject: |SUCCESS| pw157033-157032 [PATCH] [2/2] net/iavf: add reset VF comma From: dpdklab@iol.unh.edu To: Test Report Cc: dpdk-test-reports@iol.unh.edu, Bruce Richardson In-Reply-To: <20250929143039.547207-2-ciara.loftus@intel.com> References: <20250929143039.547207-2-ciara.loftus@intel.com> Content-Type: text/plain X-BeenThere: test-report@dpdk.org X-Mailman-Version: 2.1.29 Precedence: list List-Id: automatic DPDK test reports List-Unsubscribe: , List-Archive: List-Post: List-Help: List-Subscribe: , Errors-To: test-report-bounces@dpdk.org Test-Label: iol-compile-amd64-testing Test-Status: SUCCESS http://dpdk.org/patch/157032 _Testing PASS_ Submitter: Ciara Loftus Date: Monday, September 29 2025 14:30:39 DPDK git baseline: Repo:dpdk-next-net-intel Branch: master CommitID:9845e5848bbe337306fb6ae2a6b1ce5e6ab5b714 157033-157032 --> testing pass Upstream job id: Generic-DPDK-Compile-Meson#429737 Test environment and result as below: +-------------------------------+--------------------+-------------------+-------------------------+------------------+-------------------+----------------------+ | Environment | dpdk_meson_compile | dpdk_compile_spdk | dpdk_llvm_clang_compile | dpdk_compile_ovs | dpdk_msvc_compile | dpdk_mingw64_compile | +===============================+====================+===================+=========================+==================+===================+======================+ | CentOS Stream 9 | PASS | PASS | SKIPPED | SKIPPED | SKIPPED | SKIPPED | +-------------------------------+--------------------+-------------------+-------------------------+------------------+-------------------+----------------------+ | CentOS Stream 10 | PASS | SKIPPED | SKIPPED | SKIPPED | SKIPPED | SKIPPED | +-------------------------------+--------------------+-------------------+-------------------------+------------------+-------------------+----------------------+ | Fedora Linux 42 | PASS | PASS | SKIPPED | PASS | SKIPPED | SKIPPED | +-------------------------------+--------------------+-------------------+-------------------------+------------------+-------------------+----------------------+ | Debian GNU/Linux 12 | PASS | PASS | SKIPPED | SKIPPED | SKIPPED | SKIPPED | +-------------------------------+--------------------+-------------------+-------------------------+------------------+-------------------+----------------------+ | openSUSE Leap 15.6 | PASS | SKIPPED | SKIPPED | SKIPPED | SKIPPED | SKIPPED | +-------------------------------+--------------------+-------------------+-------------------------+------------------+-------------------+----------------------+ | Red Hat Enterprise Linux 9.5 | PASS | SKIPPED | SKIPPED | SKIPPED | SKIPPED | SKIPPED | +-------------------------------+--------------------+-------------------+-------------------------+------------------+-------------------+----------------------+ | Red Hat Enterprise Linux 8.10 | PASS | SKIPPED | SKIPPED | SKIPPED | SKIPPED | SKIPPED | +-------------------------------+--------------------+-------------------+-------------------------+------------------+-------------------+----------------------+ | Ubuntu 20.04 | PASS | SKIPPED | SKIPPED | SKIPPED | SKIPPED | SKIPPED | +-------------------------------+--------------------+-------------------+-------------------------+------------------+-------------------+----------------------+ | Ubuntu 24.04 | PASS | PASS | SKIPPED | PASS | SKIPPED | SKIPPED | +-------------------------------+--------------------+-------------------+-------------------------+------------------+-------------------+----------------------+ | Ubuntu 22.04 | PASS | PASS | SKIPPED | SKIPPED | SKIPPED | SKIPPED | +-------------------------------+--------------------+-------------------+-------------------------+------------------+-------------------+----------------------+ | Alpine Linux 3.22.0 | PASS | SKIPPED | SKIPPED | SKIPPED | SKIPPED | SKIPPED | +-------------------------------+--------------------+-------------------+-------------------------+------------------+-------------------+----------------------+ | FreeBSD 14.2 | PASS | SKIPPED | SKIPPED | SKIPPED | SKIPPED | SKIPPED | +-------------------------------+--------------------+-------------------+-------------------------+------------------+-------------------+----------------------+ | Windows Server 2022 | SKIPPED | SKIPPED | PASS | SKIPPED | PASS | PASS | +-------------------------------+--------------------+-------------------+-------------------------+------------------+-------------------+----------------------+ CentOS Stream 9 Kernel: 5.15 Compiler: gcc gcc (GCC) 11.5.0 20240719 (Red Hat 11.5.0-11) CentOS Stream 10 Kernel: 5.15 Compiler: gcc gcc (GCC) 14.2.1 20250110 (Red Hat 14.2.1-8) Fedora Linux 42 Kernel: 5.15 Compiler: clang gcc (GCC) 15.2.1 20250808 (Red Hat 15.2.1-1) Debian GNU/Linux 12 Kernel: 5.15 Compiler: gcc gcc (Debian 12.2.0-14+deb12u1) 12.2.0 openSUSE Leap 15.6 Kernel: 5.15 Compiler: gcc gcc (SUSE Linux) 7.5.0 Red Hat Enterprise Linux 9.5 Kernel: 5.15 Compiler: gcc gcc (GCC) 11.5.0 20240719 (Red Hat 11.5.0-2) Red Hat Enterprise Linux 8.10 Kernel: 5.15 Compiler: gcc gcc (GCC) 8.5.0 20210514 (Red Hat 8.5.0-22) Ubuntu 20.04 Kernel: 5.15 Compiler: gcc gcc (Ubuntu 9.4.0-1ubuntu1~20.04.2) 9.4.0 Ubuntu 24.04 Kernel: 5.15 Compiler: gcc gcc (Ubuntu 13.3.0-6ubuntu2~24.04) 13.3.0 Ubuntu 22.04 Kernel: 5.15 Compiler: gcc gcc (Ubuntu 11.4.0-1ubuntu1~22.04) 11.4.0 Alpine Linux 3.22.0 Kernel: 5.15 Compiler: gcc gcc (Alpine 14.2.0) 14.2.0 FreeBSD 14.2 Kernel: 14.2-RELEASE Compiler: clang 18.1.6 Windows Server 2022 Kernel: 10.0.20348.2031 Compiler: clang 15.0.7, gcc 14.1.0 (MinGW), and MSVC VS 19.39.33521 To view detailed results, visit: https://lab.dpdk.org/results/dashboard/patchsets/34171/ UNH-IOL DPDK Community Lab To manage your email subscriptions, visit: https://lab.dpdk.org/results/dashboard/preferences/subscriptions/