From mboxrd@z Thu Jan 1 00:00:00 1970 Return-Path: Received: from mails.dpdk.org (mails.dpdk.org [217.70.189.124]) by inbox.dpdk.org (Postfix) with ESMTP id 385BF48865 for ; Mon, 29 Sep 2025 19:19:56 +0200 (CEST) Received: from mails.dpdk.org (localhost [127.0.0.1]) by mails.dpdk.org (Postfix) with ESMTP id 14FA8402EE; Mon, 29 Sep 2025 19:19:56 +0200 (CEST) Received: from mail-pf1-f225.google.com (mail-pf1-f225.google.com [209.85.210.225]) by mails.dpdk.org (Postfix) with ESMTP id 58CC5402EE for ; Mon, 29 Sep 2025 19:19:54 +0200 (CEST) Received: by mail-pf1-f225.google.com with SMTP id d2e1a72fcca58-780292fcf62so3762727b3a.0 for ; Mon, 29 Sep 2025 10:19:54 -0700 (PDT) DKIM-Signature: v=1; a=rsa-sha256; c=relaxed/relaxed; d=iol.unh.edu; s=unh-iol; t=1759166393; x=1759771193; darn=dpdk.org; h=references:in-reply-to:cc:to:from:subject:message-id:date:from:to :cc:subject:date:message-id:reply-to; bh=VjSuHZ68ZvIngEdij5pXSZoFhfTWV6zTFSqPSHr/p24=; b=OAyT+evlNNj+C44gw2i2PIaNpv1p8RVqvtezakbc94Vqkm74MuRdC8H0gAjUaZxDrA twXBEFs6WWHcmLBNOhjLqlxCRY501budIgeHynwD1i9k5/tzRnQboRCqO/v7b4h3tQf0 RK6YCj+yJpKvLSAj9tJ/9trs9WNeRWl0lrQT8= X-Google-DKIM-Signature: v=1; a=rsa-sha256; c=relaxed/relaxed; d=1e100.net; s=20230601; t=1759166393; x=1759771193; h=references:in-reply-to:cc:to:from:subject:message-id:date :x-gm-message-state:from:to:cc:subject:date:message-id:reply-to; bh=VjSuHZ68ZvIngEdij5pXSZoFhfTWV6zTFSqPSHr/p24=; b=ez75TmqA8IhKT8kD8s9sjLmgKY4D0e7coONV7lsBYhrjQVvwTOHxqAdEqLwwLIqBG4 1ze6s9u/NDpl4uw4LYxjuW5BETPsMxo7Zi7nfjjZk9WzU2T/iNQibk9SbYLW0jsYPAes xRUIXcROSyBKu3tQ07qUsoKREr25zSptDC4+7bPffxon2Nnm/8yZzw2HOVMM9+keUDHH V7YXLJ2WJvfW8t5uSf942MuQwjj0Kr9/45DXzhAMMemvBD3e7uMdShPHc7Bjfb1ZUOnk KB9DTJ/U8qsQ3d8363foiqCJ1RVBJJI5WeoKnXm+Yqi9K7ncC6Ajn9Mj80rNF5rSUIHu h54w== X-Gm-Message-State: AOJu0YxCTHvKYMp/AimgXkGSppNgq72q5cFAd987rgSUDQ2f7d2qOVGM NN+EDHN6pr6AffiZkd2VS13Melb2mmznr6lQAFyoKFnGPqxM673onCunRLv5Ej4zcQcNNLg9GDt Dd1+OByxwlWGOicXwCzVGirkF5PvZXLp8pQ6vbQjUExmFnD0XCspz2OBZNLFb X-Gm-Gg: ASbGncvrbD1u5lHw0BV0+VPd0Ro34n3Z0oqpm0Fs3lD3Yxn1TPIgJgWExgok2Tlhxe9 wkXZ3ZcFVt1+iq4elO0xRElDKe5FkR3UiyFKLl3KPH9BuSx2r0BdK8FP0+l/5fwEjfOVPOc8Euf RXpbXF6RmAtNIqCCgjx0914b8hmeodvqJJvnnY26EXQC7VDF19H8W8+2ToWHbOVTuGcUuWNSYko IB08eKrmqCn0qC3sp3smvp+mB7o4FbbTP6hc2LqNsGKhEmlj/LPBp3PYe6tbLF9Xb1n5JL3ZAc4 Ih+20Ak/tGUfLNGnO4aYAwtgVD9Vk9rrvDt4yTN/O88itUCa5Q== X-Google-Smtp-Source: AGHT+IFY+4Tg+p4ATJHlwWZ35Y7RpsMq0GkKl54lZD0xlxtausl79KAAdHrvqcpI0snXzuhjCRluGVnfdFZB X-Received: by 2002:a05:6a21:3d85:b0:2ea:12b9:2dfa with SMTP id adf61e73a8af0-2ea12b93165mr17171108637.40.1759166393445; Mon, 29 Sep 2025 10:19:53 -0700 (PDT) Received: from postal.iol.unh.edu (postal.iol.unh.edu. [2606:4100:3880:1234::84]) by smtp-relay.gmail.com with ESMTPS id 41be03b00d2f7-b57c53c0aafsm572518a12.1.2025.09.29.10.19.53 (version=TLS1_2 cipher=ECDHE-ECDSA-AES128-GCM-SHA256 bits=128/128); Mon, 29 Sep 2025 10:19:53 -0700 (PDT) X-Relaying-Domain: iol.unh.edu Date: Mon, 29 Sep 2025 10:19:53 -0700 (PDT) Message-ID: <68dabfb9.630a0220.2199b9.1e98SMTPIN_ADDED_MISSING@mx.google.com> Received: from [172.21.0.8] (unknown [172.18.0.240]) by postal.iol.unh.edu (Postfix) with ESMTP id A98E96050A61; Mon, 29 Sep 2025 13:19:52 -0400 (EDT) Subject: |SUCCESS| pw157034-157035 [PATCH] [v4,2/2] crypto/ipsec-mb: use cons From: dpdklab@iol.unh.edu To: Test Report Cc: dpdk-test-reports@iol.unh.edu In-Reply-To: <20250929145049.153078-2-kai.ji@intel.com> References: <20250929145049.153078-2-kai.ji@intel.com> Content-Type: text/plain X-BeenThere: test-report@dpdk.org X-Mailman-Version: 2.1.29 Precedence: list List-Id: automatic DPDK test reports List-Unsubscribe: , List-Archive: List-Post: List-Help: List-Subscribe: , Errors-To: test-report-bounces@dpdk.org Test-Label: iol-compile-amd64-testing Test-Status: SUCCESS http://dpdk.org/patch/157035 _Testing PASS_ Submitter: Kai Ji Date: Monday, September 29 2025 14:50:49 DPDK git baseline: Repo:dpdk Branch: master CommitID:1d627ea13aeec2bcccf27246e6be2508370d171e 157034-157035 --> testing pass Upstream job id: Generic-DPDK-Compile-Meson#429759 Test environment and result as below: +-------------------------------+--------------------+-------------------+------------------+-------------------+-------------------------+----------------------+ | Environment | dpdk_meson_compile | dpdk_compile_spdk | dpdk_compile_ovs | dpdk_msvc_compile | dpdk_llvm_clang_compile | dpdk_mingw64_compile | +===============================+====================+===================+==================+===================+=========================+======================+ | CentOS Stream 9 | PASS | PASS | SKIPPED | SKIPPED | SKIPPED | SKIPPED | +-------------------------------+--------------------+-------------------+------------------+-------------------+-------------------------+----------------------+ | CentOS Stream 10 | PASS | SKIPPED | SKIPPED | SKIPPED | SKIPPED | SKIPPED | +-------------------------------+--------------------+-------------------+------------------+-------------------+-------------------------+----------------------+ | Fedora Linux 42 | PASS | PASS | PASS | SKIPPED | SKIPPED | SKIPPED | +-------------------------------+--------------------+-------------------+------------------+-------------------+-------------------------+----------------------+ | Ubuntu 20.04 | PASS | SKIPPED | SKIPPED | SKIPPED | SKIPPED | SKIPPED | +-------------------------------+--------------------+-------------------+------------------+-------------------+-------------------------+----------------------+ | Ubuntu 22.04 | PASS | PASS | SKIPPED | SKIPPED | SKIPPED | SKIPPED | +-------------------------------+--------------------+-------------------+------------------+-------------------+-------------------------+----------------------+ | Debian GNU/Linux 12 | PASS | PASS | SKIPPED | SKIPPED | SKIPPED | SKIPPED | +-------------------------------+--------------------+-------------------+------------------+-------------------+-------------------------+----------------------+ | openSUSE Leap 15.6 | PASS | SKIPPED | SKIPPED | SKIPPED | SKIPPED | SKIPPED | +-------------------------------+--------------------+-------------------+------------------+-------------------+-------------------------+----------------------+ | Red Hat Enterprise Linux 9.5 | PASS | SKIPPED | SKIPPED | SKIPPED | SKIPPED | SKIPPED | +-------------------------------+--------------------+-------------------+------------------+-------------------+-------------------------+----------------------+ | Ubuntu 24.04 | PASS | PASS | PASS | SKIPPED | SKIPPED | SKIPPED | +-------------------------------+--------------------+-------------------+------------------+-------------------+-------------------------+----------------------+ | Red Hat Enterprise Linux 8.10 | PASS | SKIPPED | SKIPPED | SKIPPED | SKIPPED | SKIPPED | +-------------------------------+--------------------+-------------------+------------------+-------------------+-------------------------+----------------------+ | FreeBSD 14.2 | PASS | SKIPPED | SKIPPED | SKIPPED | SKIPPED | SKIPPED | +-------------------------------+--------------------+-------------------+------------------+-------------------+-------------------------+----------------------+ | Alpine Linux 3.22.0 | PASS | SKIPPED | SKIPPED | SKIPPED | SKIPPED | SKIPPED | +-------------------------------+--------------------+-------------------+------------------+-------------------+-------------------------+----------------------+ | Windows Server 2022 | SKIPPED | SKIPPED | SKIPPED | PASS | PASS | PASS | +-------------------------------+--------------------+-------------------+------------------+-------------------+-------------------------+----------------------+ CentOS Stream 9 Kernel: 5.15 Compiler: gcc gcc (GCC) 11.5.0 20240719 (Red Hat 11.5.0-11) CentOS Stream 10 Kernel: 5.15 Compiler: gcc gcc (GCC) 14.2.1 20250110 (Red Hat 14.2.1-8) Fedora Linux 42 Kernel: 5.15 Compiler: clang gcc (GCC) 15.2.1 20250808 (Red Hat 15.2.1-1) Ubuntu 20.04 Kernel: 4.19 Compiler: gcc gcc (Ubuntu 9.4.0-1ubuntu1~20.04.2) 9.4.0 Ubuntu 22.04 Kernel: 5.15 Compiler: gcc gcc (Ubuntu 11.4.0-1ubuntu1~22.04) 11.4.0 Debian GNU/Linux 12 Kernel: 5.15 Compiler: gcc gcc (Debian 12.2.0-14+deb12u1) 12.2.0 openSUSE Leap 15.6 Kernel: 5.15 Compiler: gcc gcc (SUSE Linux) 7.5.0 Red Hat Enterprise Linux 9.5 Kernel: 5.15 Compiler: gcc gcc (GCC) 11.5.0 20240719 (Red Hat 11.5.0-2) Ubuntu 24.04 Kernel: 5.15 Compiler: gcc gcc (Ubuntu 13.3.0-6ubuntu2~24.04) 13.3.0 Red Hat Enterprise Linux 8.10 Kernel: 5.15 Compiler: gcc gcc (GCC) 8.5.0 20210514 (Red Hat 8.5.0-22) FreeBSD 14.2 Kernel: 14.2-RELEASE Compiler: clang 18.1.6 Alpine Linux 3.22.0 Kernel: 5.15 Compiler: gcc gcc (Alpine 14.2.0) 14.2.0 Windows Server 2022 Kernel: 10.0.20348.2031 Compiler: clang 15.0.7, gcc 14.1.0 (MinGW), and MSVC VS 19.39.33521 To view detailed results, visit: https://lab.dpdk.org/results/dashboard/patchsets/34172/ UNH-IOL DPDK Community Lab To manage your email subscriptions, visit: https://lab.dpdk.org/results/dashboard/preferences/subscriptions/