From mboxrd@z Thu Jan 1 00:00:00 1970 Return-Path: Received: from mails.dpdk.org (mails.dpdk.org [217.70.189.124]) by inbox.dpdk.org (Postfix) with ESMTP id 2851448865 for ; Mon, 29 Sep 2025 19:20:08 +0200 (CEST) Received: from mails.dpdk.org (localhost [127.0.0.1]) by mails.dpdk.org (Postfix) with ESMTP id 2383A402EE; Mon, 29 Sep 2025 19:20:08 +0200 (CEST) Received: from mail-oa1-f99.google.com (mail-oa1-f99.google.com [209.85.160.99]) by mails.dpdk.org (Postfix) with ESMTP id 4F3CC402EE for ; Mon, 29 Sep 2025 19:20:06 +0200 (CEST) Received: by mail-oa1-f99.google.com with SMTP id 586e51a60fabf-353f965c048so3660015fac.2 for ; Mon, 29 Sep 2025 10:20:06 -0700 (PDT) DKIM-Signature: v=1; a=rsa-sha256; c=relaxed/relaxed; d=iol.unh.edu; s=unh-iol; t=1759166405; x=1759771205; darn=dpdk.org; h=references:in-reply-to:cc:to:from:subject:message-id:date:from:to :cc:subject:date:message-id:reply-to; bh=OvXOkz3fIfrDzNNJGuVMmkWORR4I6cYoqALyE1CkSAA=; b=IH/LqUUUv41natzxxu9uEuYQ+a0uNUDwF1Nwrb1tobbXbZpcwFX628/2zYarCSkDRH GCvDUePLV7p1fDcG8fpDaxmgCTfL1Nq/Ef67qhM4sRrrnKXo83EQEQ15CxV3lmTttmka RuNuxhsYCjXh4Vk5n9RRlbcY845fQdnxj/2kY= X-Google-DKIM-Signature: v=1; a=rsa-sha256; c=relaxed/relaxed; d=1e100.net; s=20230601; t=1759166405; x=1759771205; h=references:in-reply-to:cc:to:from:subject:message-id:date :x-gm-message-state:from:to:cc:subject:date:message-id:reply-to; bh=OvXOkz3fIfrDzNNJGuVMmkWORR4I6cYoqALyE1CkSAA=; b=geMxteH/ZN1Mg6+UCVwtHC8fWTrcda7riksOFRtXMLTB8/1vVLs8yaimRaLPRcNZ7M uievY1nbmvC4rmLdtYPQvkpX2JkhfkmXoi1rCAQOhSj+EshPV9FIgx2KS/sVcDXOL82F bi40K/IIwI0v1hcTQtkO5qJK+IoroMTa8Z2lATLhfsAu6FDbReH4iCuKOSZkQrz+R3sm bHIFz2l7LyZSUWMzIeJtMyFBWuFl7yatgYLYm8qEgsAVCe50Dr3DL654kKRzbtHaK7Ka Qc+DiJbN6Dst6jkbljbU5whDoJmdSYmEacOn5iGWDoN9ijzfdHDJCm50SO4JWAPwqSJM jDVQ== X-Gm-Message-State: AOJu0Yz7kvAYi7jDNuxUptfJnjWkPWhd0YMEFpMQAnkqvb5Qs0ihUqda UybjPl2vlP55DP9juNLzbx1rLGlTdB4um0Q9Yw+MViCSaYubQRVxjh1K+XNak3ppU6fegcVJmLm 0YEK+9EhIVkt6gCaukVHvYBT82Kd0WK4fQasPVSfL30us5rx5fBz7gsuK9du+ X-Gm-Gg: ASbGncs6IMh5v0uq+WGNFjJhDyKZSIhMHEJ9ejOp+24r3K1SvPPpMtD2xJl1+TqJeLi 35dL2P6Psb4wLmAZKZHqQv0a13Zc0PLZ1ZUCxaIE9xqOP2HIRHbTLtnpsso0GWhXnw3y8VBBduL /aZSIUepKzBaXpSCJ7RfNxRQE4OTmgpbqoJEaiTU6wrH//rtUr/N39rveQ+JIBjZuJ9u85iPxpl KQKVG4XyerMAArilBpijtVmE6C+32FX3bGPFNSNFGO51Nl95cCeYLH6mokOEFkUd1X3U7iRztaF zWq9S3sOLsNE8AHp5JGEx9QdA4WEszNDATb/M1EZ9SvqFb85JQ== X-Google-Smtp-Source: AGHT+IEy8yTlCamVMt43gBAvlm4kwblw5l22Pjl0EXCHIltvf71SRdTnvHp7u6ysg75Lt5/QvMqsJ/aZ53nc X-Received: by 2002:a05:6870:51cb:b0:332:75df:ab8e with SMTP id 586e51a60fabf-35ebd4fa68cmr7336488fac.7.1759166405531; Mon, 29 Sep 2025 10:20:05 -0700 (PDT) Received: from postal.iol.unh.edu (postal.iol.unh.edu. [2606:4100:3880:1234::84]) by smtp-relay.gmail.com with ESMTPS id 586e51a60fabf-370eb14d746sm767867fac.10.2025.09.29.10.20.05 (version=TLS1_2 cipher=ECDHE-ECDSA-AES128-GCM-SHA256 bits=128/128); Mon, 29 Sep 2025 10:20:05 -0700 (PDT) X-Relaying-Domain: iol.unh.edu Date: Mon, 29 Sep 2025 10:20:05 -0700 (PDT) Message-ID: <68dabfc5.050a0220.1878.e5c3SMTPIN_ADDED_MISSING@mx.google.com> Received: from [172.21.0.6] (unknown [172.18.0.240]) by postal.iol.unh.edu (Postfix) with ESMTP id D70F96050A61; Mon, 29 Sep 2025 13:20:04 -0400 (EDT) Subject: |SUCCESS| pw157034-157035 [PATCH] [v4,2/2] crypto/ipsec-mb: use cons From: dpdklab@iol.unh.edu To: Test Report Cc: dpdk-test-reports@iol.unh.edu In-Reply-To: <20250929145049.153078-2-kai.ji@intel.com> References: <20250929145049.153078-2-kai.ji@intel.com> Content-Type: text/plain X-BeenThere: test-report@dpdk.org X-Mailman-Version: 2.1.29 Precedence: list List-Id: automatic DPDK test reports List-Unsubscribe: , List-Archive: List-Post: List-Help: List-Subscribe: , Errors-To: test-report-bounces@dpdk.org Test-Label: iol-compile-amd64-testing Test-Status: SUCCESS http://dpdk.org/patch/157035 _Testing PASS_ Submitter: Kai Ji Date: Monday, September 29 2025 14:50:49 DPDK git baseline: Repo:dpdk Branch: master CommitID:1d627ea13aeec2bcccf27246e6be2508370d171e 157034-157035 --> testing pass Upstream job id: Generic-DPDK-Compile-Meson#429751 Test environment and result as below: +-------------------------------+--------------------+-------------------+------------------+-------------------+-------------------------+----------------------+ | Environment | dpdk_meson_compile | dpdk_compile_spdk | dpdk_compile_ovs | dpdk_msvc_compile | dpdk_llvm_clang_compile | dpdk_mingw64_compile | +===============================+====================+===================+==================+===================+=========================+======================+ | CentOS Stream 9 | PASS | PASS | SKIPPED | SKIPPED | SKIPPED | SKIPPED | +-------------------------------+--------------------+-------------------+------------------+-------------------+-------------------------+----------------------+ | CentOS Stream 10 | PASS | SKIPPED | SKIPPED | SKIPPED | SKIPPED | SKIPPED | +-------------------------------+--------------------+-------------------+------------------+-------------------+-------------------------+----------------------+ | Fedora Linux 42 | PASS | PASS | PASS | SKIPPED | SKIPPED | SKIPPED | +-------------------------------+--------------------+-------------------+------------------+-------------------+-------------------------+----------------------+ | Ubuntu 20.04 | PASS | SKIPPED | SKIPPED | SKIPPED | SKIPPED | SKIPPED | +-------------------------------+--------------------+-------------------+------------------+-------------------+-------------------------+----------------------+ | Ubuntu 22.04 | PASS | PASS | SKIPPED | SKIPPED | SKIPPED | SKIPPED | +-------------------------------+--------------------+-------------------+------------------+-------------------+-------------------------+----------------------+ | Debian GNU/Linux 12 | PASS | PASS | SKIPPED | SKIPPED | SKIPPED | SKIPPED | +-------------------------------+--------------------+-------------------+------------------+-------------------+-------------------------+----------------------+ | openSUSE Leap 15.6 | PASS | SKIPPED | SKIPPED | SKIPPED | SKIPPED | SKIPPED | +-------------------------------+--------------------+-------------------+------------------+-------------------+-------------------------+----------------------+ | Red Hat Enterprise Linux 9.5 | PASS | SKIPPED | SKIPPED | SKIPPED | SKIPPED | SKIPPED | +-------------------------------+--------------------+-------------------+------------------+-------------------+-------------------------+----------------------+ | Ubuntu 24.04 | PASS | PASS | PASS | SKIPPED | SKIPPED | SKIPPED | +-------------------------------+--------------------+-------------------+------------------+-------------------+-------------------------+----------------------+ | Red Hat Enterprise Linux 8.10 | PASS | SKIPPED | SKIPPED | SKIPPED | SKIPPED | SKIPPED | +-------------------------------+--------------------+-------------------+------------------+-------------------+-------------------------+----------------------+ | FreeBSD 14.2 | PASS | SKIPPED | SKIPPED | SKIPPED | SKIPPED | SKIPPED | +-------------------------------+--------------------+-------------------+------------------+-------------------+-------------------------+----------------------+ | Alpine Linux 3.22.0 | PASS | SKIPPED | SKIPPED | SKIPPED | SKIPPED | SKIPPED | +-------------------------------+--------------------+-------------------+------------------+-------------------+-------------------------+----------------------+ | Windows Server 2022 | SKIPPED | SKIPPED | SKIPPED | PASS | PASS | PASS | +-------------------------------+--------------------+-------------------+------------------+-------------------+-------------------------+----------------------+ CentOS Stream 9 Kernel: 5.15 Compiler: gcc gcc (GCC) 11.5.0 20240719 (Red Hat 11.5.0-11) CentOS Stream 10 Kernel: 5.15 Compiler: gcc gcc (GCC) 14.2.1 20250110 (Red Hat 14.2.1-8) Fedora Linux 42 Kernel: 5.15 Compiler: clang gcc (GCC) 15.2.1 20250808 (Red Hat 15.2.1-1) Ubuntu 20.04 Kernel: 4.19 Compiler: gcc gcc (Ubuntu 9.4.0-1ubuntu1~20.04.2) 9.4.0 Ubuntu 22.04 Kernel: 5.15 Compiler: gcc gcc (Ubuntu 11.4.0-1ubuntu1~22.04) 11.4.0 Debian GNU/Linux 12 Kernel: 5.15 Compiler: gcc gcc (Debian 12.2.0-14+deb12u1) 12.2.0 openSUSE Leap 15.6 Kernel: 5.15 Compiler: gcc gcc (SUSE Linux) 7.5.0 Red Hat Enterprise Linux 9.5 Kernel: 5.15 Compiler: gcc gcc (GCC) 11.5.0 20240719 (Red Hat 11.5.0-2) Ubuntu 24.04 Kernel: 5.15 Compiler: gcc gcc (Ubuntu 13.3.0-6ubuntu2~24.04) 13.3.0 Red Hat Enterprise Linux 8.10 Kernel: 5.15 Compiler: gcc gcc (GCC) 8.5.0 20210514 (Red Hat 8.5.0-22) FreeBSD 14.2 Kernel: 14.2-RELEASE Compiler: clang 18.1.6 Alpine Linux 3.22.0 Kernel: 5.15 Compiler: gcc gcc (Alpine 14.2.0) 14.2.0 Windows Server 2022 Kernel: 10.0.20348.2031 Compiler: clang 15.0.7, gcc 14.1.0 (MinGW), and MSVC VS 19.39.33521 To view detailed results, visit: https://lab.dpdk.org/results/dashboard/patchsets/34172/ UNH-IOL DPDK Community Lab To manage your email subscriptions, visit: https://lab.dpdk.org/results/dashboard/preferences/subscriptions/