From mboxrd@z Thu Jan 1 00:00:00 1970 Return-Path: Received: from mails.dpdk.org (mails.dpdk.org [217.70.189.124]) by inbox.dpdk.org (Postfix) with ESMTP id 3A58148865 for ; Mon, 29 Sep 2025 19:20:16 +0200 (CEST) Received: from mails.dpdk.org (localhost [127.0.0.1]) by mails.dpdk.org (Postfix) with ESMTP id 3609D402EE; Mon, 29 Sep 2025 19:20:16 +0200 (CEST) Received: from mail-pg1-f225.google.com (mail-pg1-f225.google.com [209.85.215.225]) by mails.dpdk.org (Postfix) with ESMTP id D2419402EE for ; Mon, 29 Sep 2025 19:20:12 +0200 (CEST) Received: by mail-pg1-f225.google.com with SMTP id 41be03b00d2f7-b55640a2e33so3883083a12.2 for ; Mon, 29 Sep 2025 10:20:12 -0700 (PDT) DKIM-Signature: v=1; a=rsa-sha256; c=relaxed/relaxed; d=iol.unh.edu; s=unh-iol; t=1759166412; x=1759771212; darn=dpdk.org; h=references:in-reply-to:cc:to:from:subject:message-id:date:from:to :cc:subject:date:message-id:reply-to; bh=JBP46rrogqpXND/UvRnQKQqW4UDhmB9I3sjCajwOvJ0=; b=fV340RBzVs7zAHQV5agZVijV30bH13xevk1FzChj8VWFU9wBA5RJuCAs3kBNXtFqz7 7AkoyPmAIuCf9ltA37vP8RzdfFfIEcbvOJzTvyjlQTxAVL/pVcFGNARjDm/IRYg0yIzi FCxTdDaNA8S/UFi9pElRnSY3GISUIk9MI//bg= X-Google-DKIM-Signature: v=1; a=rsa-sha256; c=relaxed/relaxed; d=1e100.net; s=20230601; t=1759166412; x=1759771212; h=references:in-reply-to:cc:to:from:subject:message-id:date :x-gm-message-state:from:to:cc:subject:date:message-id:reply-to; bh=JBP46rrogqpXND/UvRnQKQqW4UDhmB9I3sjCajwOvJ0=; b=JXcFz/H4p07g6EpeqhNT1ZKfk7Gi1eHt0LsvotWrpbp0Oz8Evqv8kk/5UxbpdcczJw K2VTFU1wYX490GDHfeIZuWZ4+IqEJwho7XquS/TDxN8MVOvOkqW6rKIiD88vMvRvn+CE BndGinpdMuGhguGHOUpOpYrIZYfNeuL1LxPD03x23IYndrGl0RTjwYZ7UWhHieAaZZ7r GFA0e3vqTdWVzmQs3TxQXsCOLZOM1ltcHpnip04Lpu9e6k3xZMVJUd213DLgw0HtVNVx tSKqrx1r0fkba9PVZFwQ6OAxbZKFShHlvswdK4r5CLwi5T+glrOsaOY8QyOLHLkqda3P 8whQ== X-Gm-Message-State: AOJu0Yx0akHctID1HjORuLLvGKzV2o4IfUgO9H2bht1TX2634aynNgLR 50/X8jaK75sNTqHAfm2ddXCVo9ULikLvHf+irpy+WMky7g/evzzsHNbNYBdpM8J+ZvGoKLFUoW2 f76F6glqZrRQjFkkQfmqC9+p5Uk8L7Sw8Z+uzxhzy9JTe X-Gm-Gg: ASbGncvi6QtCkqbTwWMTOUsgryGNana6KIWsfkSgl8LXlCEQWpFCiwob0EzBaODODWV ww2Y4tsySdoo2fpu7KCmPlV8EDAyIAxKtGQYIyp3s8eTHYvRPKjPvXWP2QD1JkiSJiuSK8dot0k i0/9XGBJj0gLq2fVI7Xi/OK06Pw/EflgfzMaHBkpvs5aMDyQUupQIhv7RDP1iDRv/cxa9CmolIJ 59x0FODTvG4XAQnhqfSGw7VQQGRizHfN+OmFvTi/dOyVaZLhJWNv4/4qthebQU+grtcq0IvoEP3 B8A2usBOIh0OXOPRKR4l1XgxlVo4azx3C7p07Ca4YElnfuP+LXo+jGVIgKfz69uAC21Hv1Zr X-Google-Smtp-Source: AGHT+IGQLl+nPM5kUa3Q7KPTNjmrjK0ytjO/lB5iDcPap0oR1+DInXm1yR65etd3yYtcvF/YKNyJDxQmX19Z X-Received: by 2002:a17:903:b47:b0:25c:ae94:f49e with SMTP id d9443c01a7336-27ed4a91f06mr180475165ad.37.1759166411980; Mon, 29 Sep 2025 10:20:11 -0700 (PDT) Received: from postal.iol.unh.edu (postal.iol.unh.edu. [132.177.123.84]) by smtp-relay.gmail.com with ESMTPS id d9443c01a7336-27ed6700a4csm10557985ad.32.2025.09.29.10.20.11 (version=TLS1_2 cipher=ECDHE-ECDSA-AES128-GCM-SHA256 bits=128/128); Mon, 29 Sep 2025 10:20:11 -0700 (PDT) X-Relaying-Domain: iol.unh.edu Date: Mon, 29 Sep 2025 10:20:11 -0700 (PDT) Message-ID: <68dabfcb.170a0220.1407da.fe44SMTPIN_ADDED_MISSING@mx.google.com> Received: from [172.21.0.11] (unknown [172.18.0.240]) by postal.iol.unh.edu (Postfix) with ESMTP id 7BFAC6050A61; Mon, 29 Sep 2025 13:20:11 -0400 (EDT) Subject: |SUCCESS| pw157034-157035 [PATCH] [v4,2/2] crypto/ipsec-mb: use cons From: dpdklab@iol.unh.edu To: Test Report Cc: dpdk-test-reports@iol.unh.edu In-Reply-To: <20250929145049.153078-2-kai.ji@intel.com> References: <20250929145049.153078-2-kai.ji@intel.com> Content-Type: text/plain X-BeenThere: test-report@dpdk.org X-Mailman-Version: 2.1.29 Precedence: list List-Id: automatic DPDK test reports List-Unsubscribe: , List-Archive: List-Post: List-Help: List-Subscribe: , Errors-To: test-report-bounces@dpdk.org Test-Label: iol-unit-amd64-testing Test-Status: SUCCESS http://dpdk.org/patch/157035 _Testing PASS_ Submitter: Kai Ji Date: Monday, September 29 2025 14:50:49 DPDK git baseline: Repo:dpdk Branch: master CommitID:1d627ea13aeec2bcccf27246e6be2508370d171e 157034-157035 --> testing pass Upstream job id: Generic-Unit-Test-DPDK#376298 Test environment and result as below: +-------------------------------+----------------+ | Environment | dpdk_unit_test | +===============================+================+ | CentOS Stream 9 | PASS | +-------------------------------+----------------+ | Debian GNU/Linux 12 | PASS | +-------------------------------+----------------+ | Fedora Linux 40 | PASS | +-------------------------------+----------------+ | CentOS Stream 10 | PASS | +-------------------------------+----------------+ | Fedora Linux 41 | PASS | +-------------------------------+----------------+ | Ubuntu 24.04 | PASS | +-------------------------------+----------------+ | Ubuntu 22.04 | PASS | +-------------------------------+----------------+ | Fedora Linux 42 | PASS | +-------------------------------+----------------+ | Ubuntu 20.04 | PASS | +-------------------------------+----------------+ | Red Hat Enterprise Linux 8.10 | PASS | +-------------------------------+----------------+ | Red Hat Enterprise Linux 9.5 | PASS | +-------------------------------+----------------+ | Windows Server 2022 | PASS | +-------------------------------+----------------+ CentOS Stream 9 Kernel: 5.15 Compiler: gcc gcc (GCC) 11.5.0 20240719 (Red Hat 11.5.0-11) Debian GNU/Linux 12 Kernel: 5.15 Compiler: gcc gcc (Debian 12.2.0-14+deb12u1) 12.2.0 Fedora Linux 40 Kernel: 5.15 Compiler: clang gcc (GCC) 14.2.1 20240912 (Red Hat 14.2.1-3) CentOS Stream 10 Kernel: 5.15 Compiler: gcc gcc (GCC) 14.2.1 20250110 (Red Hat 14.2.1-8) Fedora Linux 41 Kernel: 5.15 Compiler: clang gcc (GCC) 14.3.1 20250523 (Red Hat 14.3.1-1) Ubuntu 24.04 Kernel: 5.15 Compiler: gcc gcc (Ubuntu 13.3.0-6ubuntu2~24.04) 13.3.0 Ubuntu 22.04 Kernel: 5.15 Compiler: gcc gcc (Ubuntu 11.4.0-1ubuntu1~22.04) 11.4.0 Fedora Linux 42 Kernel: 5.15 Compiler: clang gcc (GCC) 15.2.1 20250808 (Red Hat 15.2.1-1) Ubuntu 20.04 Kernel: 5.15 Compiler: gcc gcc (Ubuntu 9.4.0-1ubuntu1~20.04.2) 9.4.0 Red Hat Enterprise Linux 8.10 Kernel: 5.15 Compiler: gcc gcc (GCC) 8.5.0 20210514 (Red Hat 8.5.0-22) Red Hat Enterprise Linux 9.5 Kernel: 5.15 Compiler: gcc gcc (GCC) 11.5.0 20240719 (Red Hat 11.5.0-2) Windows Server 2022 Kernel: 10.0.20348.2031 Compiler: clang 15.0.7, gcc 14.1.0 (MinGW), and MSVC VS 19.39.33521 To view detailed results, visit: https://lab.dpdk.org/results/dashboard/patchsets/34172/ UNH-IOL DPDK Community Lab To manage your email subscriptions, visit: https://lab.dpdk.org/results/dashboard/preferences/subscriptions/