From mboxrd@z Thu Jan 1 00:00:00 1970 Return-Path: Received: from mails.dpdk.org (mails.dpdk.org [217.70.189.124]) by inbox.dpdk.org (Postfix) with ESMTP id 3EF2448865 for ; Mon, 29 Sep 2025 19:20:16 +0200 (CEST) Received: from mails.dpdk.org (localhost [127.0.0.1]) by mails.dpdk.org (Postfix) with ESMTP id 3CE0A40673; Mon, 29 Sep 2025 19:20:16 +0200 (CEST) Received: from mail-io1-f97.google.com (mail-io1-f97.google.com [209.85.166.97]) by mails.dpdk.org (Postfix) with ESMTP id 86C83402EE for ; Mon, 29 Sep 2025 19:20:14 +0200 (CEST) Received: by mail-io1-f97.google.com with SMTP id ca18e2360f4ac-91122373653so139656139f.1 for ; Mon, 29 Sep 2025 10:20:14 -0700 (PDT) DKIM-Signature: v=1; a=rsa-sha256; c=relaxed/relaxed; d=iol.unh.edu; s=unh-iol; t=1759166414; x=1759771214; darn=dpdk.org; h=references:in-reply-to:cc:to:from:subject:message-id:date:from:to :cc:subject:date:message-id:reply-to; bh=yxJjam02Mc8RKmllaU80KbK7VlL1nN1HYMAo6l+GTzA=; b=UUE+ID6XZJfT+GlRsRKVTPg4nVRlQ+gRBgVEl+r/5sS/LNyYmiP+A32Jbg4ExdE55p +2WqKlLWDjOxoQkkB/LnrX8jORg48pMqwTt+/LBkn4NBT+yyWam2mxWq9292o9IoYGRH CDsVYz0pNaYQaziX7rlYtPn0AKq7yRjz8KpGY= X-Google-DKIM-Signature: v=1; a=rsa-sha256; c=relaxed/relaxed; d=1e100.net; s=20230601; t=1759166414; x=1759771214; h=references:in-reply-to:cc:to:from:subject:message-id:date :x-gm-message-state:from:to:cc:subject:date:message-id:reply-to; bh=yxJjam02Mc8RKmllaU80KbK7VlL1nN1HYMAo6l+GTzA=; b=cyzIiN+Tv0FE4XjPHgreeXEHIc50Eth6H3f92kYJpL4WPUP0EF9HHOg38CuOZxmLho xWqF2Em6CExVy1UonTLxmHJAP1DBy3g0XOVY4AjNY6csxJ1F6pEnxpVCuaAPvX87dsId qIX9yRIzIIJls9Kk3ERDcfLjZBVN7h3kOMi30Evd3eyPs/rFIW07ZB3+8Z7G7PYqIhLL TIbohT7v7VYVOxx8266A1pSUHeY2WSeOqIUtSkM97zzsVKXnATHGHHJ3L0YPMks1mYT+ 2TeeENzREh+372kMFgXOj6FngYSmfJhEC9KqE0vEb8ZSZXE53GBIkQoSsjqsZk+wA5zh 1jZg== X-Gm-Message-State: AOJu0YymLM+lTPB66bRAgk106En21h+3VRfxxvAuAxKBoChpYYrMDxF8 6ZteBcnEZZaG+Ykj6I7KGfMPDBdpyuKfSa/oGN/fPIe9oamihgzvk3e3gGXjNRzLkz6o4oOvtPP g8ouYNJJ96sUlxaOiq0ikPcnKtdn3QcAf4lNYpO+EjEWr X-Gm-Gg: ASbGncvXWPq3L5xhikZIJaPQLuOmMnGtVbVPuSRg308/cxOCsDnaWYMZdPBr8VDJITd Fn/G4+66dQ9XPEp8CB1mP8FLhqeCbx/U5M0yfsIU1sN9iwFKZVHU/UDXn+ok8QDMnWAfsukxocU Tw+MxEGheiez4n6Q8my9KaTIr2AcbrElbiV5WxCYQ6LtMkbf0vQ6r82szS0qfRTBUXCwpP6CAfD QjTp8qmz9wME3bQtuscYKt/5PSKIZ0q8tSTudalwQIKrEEtbmS/Ije6VUXJFwOKu2VZqcLlDPqT GfAo8iym6kXbqzD/ULVFfIpvZozkVDKxqCTI35CaZ6gsrCD0M823nY2yMBKHbJdAxPGEEvEv X-Google-Smtp-Source: AGHT+IENpyAT47F3H5va6pU7+psZEuFMImG1UpAWGaWjl/nVUMh6l1ZmJv0dCd0rg3kC8tB04W2tF6K4mez9 X-Received: by 2002:a05:6e02:184e:b0:425:e850:b2e3 with SMTP id e9e14a558f8ab-425e850b550mr238357865ab.32.1759166413680; Mon, 29 Sep 2025 10:20:13 -0700 (PDT) Received: from postal.iol.unh.edu (postal.iol.unh.edu. [132.177.123.84]) by smtp-relay.gmail.com with ESMTPS id e9e14a558f8ab-425bfd9231dsm8439105ab.30.2025.09.29.10.20.13 (version=TLS1_2 cipher=ECDHE-ECDSA-AES128-GCM-SHA256 bits=128/128); Mon, 29 Sep 2025 10:20:13 -0700 (PDT) X-Relaying-Domain: iol.unh.edu Date: Mon, 29 Sep 2025 10:20:13 -0700 (PDT) Message-ID: <68dabfcd.050a0220.aec5d.2a54SMTPIN_ADDED_MISSING@mx.google.com> Received: from [172.21.0.4] (unknown [172.18.0.240]) by postal.iol.unh.edu (Postfix) with ESMTP id 3DA3F6050A61; Mon, 29 Sep 2025 13:20:13 -0400 (EDT) Subject: |SUCCESS| pw157034-157035 [PATCH] [v4,2/2] crypto/ipsec-mb: use cons From: dpdklab@iol.unh.edu To: Test Report Cc: dpdk-test-reports@iol.unh.edu In-Reply-To: <20250929145049.153078-2-kai.ji@intel.com> References: <20250929145049.153078-2-kai.ji@intel.com> Content-Type: text/plain X-BeenThere: test-report@dpdk.org X-Mailman-Version: 2.1.29 Precedence: list List-Id: automatic DPDK test reports List-Unsubscribe: , List-Archive: List-Post: List-Help: List-Subscribe: , Errors-To: test-report-bounces@dpdk.org Test-Label: iol-compile-amd64-testing Test-Status: SUCCESS http://dpdk.org/patch/157035 _Testing PASS_ Submitter: Kai Ji Date: Monday, September 29 2025 14:50:49 DPDK git baseline: Repo:dpdk Branch: master CommitID:1d627ea13aeec2bcccf27246e6be2508370d171e 157034-157035 --> testing pass Upstream job id: Generic-DPDK-Compile-Meson#429749 Test environment and result as below: +-------------------------------+--------------------+-------------------+------------------+-------------------+-------------------------+----------------------+ | Environment | dpdk_meson_compile | dpdk_compile_spdk | dpdk_compile_ovs | dpdk_msvc_compile | dpdk_llvm_clang_compile | dpdk_mingw64_compile | +===============================+====================+===================+==================+===================+=========================+======================+ | CentOS Stream 9 | PASS | PASS | SKIPPED | SKIPPED | SKIPPED | SKIPPED | +-------------------------------+--------------------+-------------------+------------------+-------------------+-------------------------+----------------------+ | CentOS Stream 10 | PASS | SKIPPED | SKIPPED | SKIPPED | SKIPPED | SKIPPED | +-------------------------------+--------------------+-------------------+------------------+-------------------+-------------------------+----------------------+ | Fedora Linux 42 | PASS | PASS | PASS | SKIPPED | SKIPPED | SKIPPED | +-------------------------------+--------------------+-------------------+------------------+-------------------+-------------------------+----------------------+ | Ubuntu 20.04 | PASS | SKIPPED | SKIPPED | SKIPPED | SKIPPED | SKIPPED | +-------------------------------+--------------------+-------------------+------------------+-------------------+-------------------------+----------------------+ | Ubuntu 22.04 | PASS | PASS | SKIPPED | SKIPPED | SKIPPED | SKIPPED | +-------------------------------+--------------------+-------------------+------------------+-------------------+-------------------------+----------------------+ | Debian GNU/Linux 12 | PASS | PASS | SKIPPED | SKIPPED | SKIPPED | SKIPPED | +-------------------------------+--------------------+-------------------+------------------+-------------------+-------------------------+----------------------+ | openSUSE Leap 15.6 | PASS | SKIPPED | SKIPPED | SKIPPED | SKIPPED | SKIPPED | +-------------------------------+--------------------+-------------------+------------------+-------------------+-------------------------+----------------------+ | Red Hat Enterprise Linux 9.5 | PASS | SKIPPED | SKIPPED | SKIPPED | SKIPPED | SKIPPED | +-------------------------------+--------------------+-------------------+------------------+-------------------+-------------------------+----------------------+ | Ubuntu 24.04 | PASS | PASS | PASS | SKIPPED | SKIPPED | SKIPPED | +-------------------------------+--------------------+-------------------+------------------+-------------------+-------------------------+----------------------+ | Red Hat Enterprise Linux 8.10 | PASS | SKIPPED | SKIPPED | SKIPPED | SKIPPED | SKIPPED | +-------------------------------+--------------------+-------------------+------------------+-------------------+-------------------------+----------------------+ | FreeBSD 14.2 | PASS | SKIPPED | SKIPPED | SKIPPED | SKIPPED | SKIPPED | +-------------------------------+--------------------+-------------------+------------------+-------------------+-------------------------+----------------------+ | Alpine Linux 3.22.0 | PASS | SKIPPED | SKIPPED | SKIPPED | SKIPPED | SKIPPED | +-------------------------------+--------------------+-------------------+------------------+-------------------+-------------------------+----------------------+ | Windows Server 2022 | SKIPPED | SKIPPED | SKIPPED | PASS | PASS | PASS | +-------------------------------+--------------------+-------------------+------------------+-------------------+-------------------------+----------------------+ CentOS Stream 9 Kernel: 5.15 Compiler: gcc gcc (GCC) 11.5.0 20240719 (Red Hat 11.5.0-11) CentOS Stream 10 Kernel: 5.15 Compiler: gcc gcc (GCC) 14.2.1 20250110 (Red Hat 14.2.1-8) Fedora Linux 42 Kernel: 5.15 Compiler: clang gcc (GCC) 15.2.1 20250808 (Red Hat 15.2.1-1) Ubuntu 20.04 Kernel: 4.19 Compiler: gcc gcc (Ubuntu 9.4.0-1ubuntu1~20.04.2) 9.4.0 Ubuntu 22.04 Kernel: 5.15 Compiler: gcc gcc (Ubuntu 11.4.0-1ubuntu1~22.04) 11.4.0 Debian GNU/Linux 12 Kernel: 5.15 Compiler: gcc gcc (Debian 12.2.0-14+deb12u1) 12.2.0 openSUSE Leap 15.6 Kernel: 5.15 Compiler: gcc gcc (SUSE Linux) 7.5.0 Red Hat Enterprise Linux 9.5 Kernel: 5.15 Compiler: gcc gcc (GCC) 11.5.0 20240719 (Red Hat 11.5.0-2) Ubuntu 24.04 Kernel: 5.15 Compiler: gcc gcc (Ubuntu 13.3.0-6ubuntu2~24.04) 13.3.0 Red Hat Enterprise Linux 8.10 Kernel: 5.15 Compiler: gcc gcc (GCC) 8.5.0 20210514 (Red Hat 8.5.0-22) FreeBSD 14.2 Kernel: 14.2-RELEASE Compiler: clang 18.1.6 Alpine Linux 3.22.0 Kernel: 5.15 Compiler: gcc gcc (Alpine 14.2.0) 14.2.0 Windows Server 2022 Kernel: 10.0.20348.2031 Compiler: clang 15.0.7, gcc 14.1.0 (MinGW), and MSVC VS 19.39.33521 To view detailed results, visit: https://lab.dpdk.org/results/dashboard/patchsets/34172/ UNH-IOL DPDK Community Lab To manage your email subscriptions, visit: https://lab.dpdk.org/results/dashboard/preferences/subscriptions/