From mboxrd@z Thu Jan 1 00:00:00 1970 Return-Path: Received: from mails.dpdk.org (mails.dpdk.org [217.70.189.124]) by inbox.dpdk.org (Postfix) with ESMTP id 747D248865 for ; Mon, 29 Sep 2025 19:42:18 +0200 (CEST) Received: from mails.dpdk.org (localhost [127.0.0.1]) by mails.dpdk.org (Postfix) with ESMTP id 519D94066C; Mon, 29 Sep 2025 19:42:18 +0200 (CEST) Received: from mail-il1-f228.google.com (mail-il1-f228.google.com [209.85.166.228]) by mails.dpdk.org (Postfix) with ESMTP id DFEA44066C for ; Mon, 29 Sep 2025 19:42:17 +0200 (CEST) Received: by mail-il1-f228.google.com with SMTP id e9e14a558f8ab-4242bb22132so48655145ab.3 for ; Mon, 29 Sep 2025 10:42:17 -0700 (PDT) DKIM-Signature: v=1; a=rsa-sha256; c=relaxed/relaxed; d=iol.unh.edu; s=unh-iol; t=1759167737; x=1759772537; darn=dpdk.org; h=references:in-reply-to:cc:to:from:subject:message-id:date:from:to :cc:subject:date:message-id:reply-to; bh=cISLeCBjLjFyPfRc+NVhkLdrRdo6ijlOQVyg5S8ThRE=; b=WoEfm16RMXmvUosL2SAmf/stgGX3XpSSHkNiAzQHmlihnouyazpIpRIxdV5k4vb4AV M+Z9NJDiroi1Zteh9IKjIul1yceWWSuhdx1vT/DHsLUUYQg+K8Gfa+20SHiSc+e4PxRO n5PJdjkd8rkb7X8kiM8wRh16ROuRwSbE258UQ= X-Google-DKIM-Signature: v=1; a=rsa-sha256; c=relaxed/relaxed; d=1e100.net; s=20230601; t=1759167737; x=1759772537; h=references:in-reply-to:cc:to:from:subject:message-id:date :x-gm-message-state:from:to:cc:subject:date:message-id:reply-to; bh=cISLeCBjLjFyPfRc+NVhkLdrRdo6ijlOQVyg5S8ThRE=; b=AE5Jgsx+J5kUTIrk0/CE/3FFBUI9flZVZWnO/geZ+E+GKaxqmBBYJRW8/JmGGECqxT PZsbkEEXlsaMy9QtiNXGKcu5AEDzprI6wg/tVxEqqCQPIjkP1NHIr00Lg6S+hKhJhy7i Lm6LZCRphL9jf2FrMHxq45U2yxfT/fxG+/VmOXDoA5S09Hybgc9UiLh8GV+/aHd1p8eK 9KvdrUVSh+WgxWdMiWpY0LhuvSOvhAbQyUwjH4yHuJsySRZLvmsKDCY5Sr79VpAk4vDw BUKpYG+AsNdjMhEkiocpM/WF/Iiw9FlVrp55DBm17fu82YL2q5Hxr+73AYweAlaClgoK nt3g== X-Gm-Message-State: AOJu0YxPyqClbJvtVtk9YW5soYB/yGhwqD8ilP7ZKlbHOGYAkMzzTGHG ZgCU72A28zlcrKGon+dXa1BaI6rEGiWFc0svB9VGPFftDwI36hsvu6jalKqBD5u7m5kg0gdpr2Q QJmkIQYVYoYrn59DSEFFwi7Hp2siD5zwuqrfS6rjY7v054Muvfo1uAmiw06ds X-Gm-Gg: ASbGncvX9wptFkD80gLa8xK13iKvGT5lBwAs0YEscchz0P5J2dBltpVmNBybaAjCk0k 3X8DzFpHe5oLH2/C59TDX6OdBAHD+WrehnvzvcAcz1hX4wUgwR3/8sYwtgGA/z63ZIzbTJEaTzd 4EQdvvk5n2c5EN028FFcLywMG0gqymiOP2j/WopQKT7JSUxZ2st6TKKB+m1WWk3PtqBtDhC55Iu O402MHVwcGxZfrl08vHWh5SeX6aOlBGRy3nejWYZhEMKWQrkHGsoB86uMqM0vbSZUD1+EtwTl1F +0UyEwS1pZUQJiN2k4gvxTerfc/S9VGOnK/jrIHHdIF3hD7/7Q== X-Google-Smtp-Source: AGHT+IFGTB/eeLudAEp+4qYseb4v9uW5gftx+kwv8esPDLbN5m2iIY6G3KfX6SE2BltYiDH1NKHiLm+zqTc9 X-Received: by 2002:a05:6e02:278a:b0:427:a3ef:5701 with SMTP id e9e14a558f8ab-427a3ef581fmr63323655ab.14.1759167737060; Mon, 29 Sep 2025 10:42:17 -0700 (PDT) Received: from postal.iol.unh.edu (postal.iol.unh.edu. [2606:4100:3880:1234::84]) by smtp-relay.gmail.com with ESMTPS id 8926c6da1cb9f-56a642124a3sm712694173.10.2025.09.29.10.42.16 (version=TLS1_2 cipher=ECDHE-ECDSA-AES128-GCM-SHA256 bits=128/128); Mon, 29 Sep 2025 10:42:17 -0700 (PDT) X-Relaying-Domain: iol.unh.edu Date: Mon, 29 Sep 2025 10:42:17 -0700 (PDT) Message-ID: <68dac4f9.050a0220.3b0ec5.baabSMTPIN_ADDED_MISSING@mx.google.com> Received: from [172.21.0.3] (unknown [172.18.0.240]) by postal.iol.unh.edu (Postfix) with ESMTP id 9F883604D420; Mon, 29 Sep 2025 13:42:16 -0400 (EDT) Subject: |SUCCESS| pw157036-157041 [PATCH] [v2,6/6] doc: update docs for ethd From: dpdklab@iol.unh.edu To: Test Report Cc: dpdk-test-reports@iol.unh.edu In-Reply-To: <20250929150009.1542208-7-bruce.richardson@intel.com> References: <20250929150009.1542208-7-bruce.richardson@intel.com> Content-Type: text/plain X-BeenThere: test-report@dpdk.org X-Mailman-Version: 2.1.29 Precedence: list List-Id: automatic DPDK test reports List-Unsubscribe: , List-Archive: List-Post: List-Help: List-Subscribe: , Errors-To: test-report-bounces@dpdk.org Test-Label: iol-compile-amd64-testing Test-Status: SUCCESS http://dpdk.org/patch/157041 _Testing PASS_ Submitter: Bruce Richardson Date: Monday, September 29 2025 15:00:09 DPDK git baseline: Repo:dpdk Branch: master CommitID:1d627ea13aeec2bcccf27246e6be2508370d171e 157036-157041 --> testing pass Upstream job id: Windows-Compile-DPDK-Native#31302 Test environment and result as below: +-------------------------------+--------------------+-------------------+------------------+-------------------+-------------------------+----------------------+ | Environment | dpdk_meson_compile | dpdk_compile_spdk | dpdk_compile_ovs | dpdk_msvc_compile | dpdk_llvm_clang_compile | dpdk_mingw64_compile | +===============================+====================+===================+==================+===================+=========================+======================+ | CentOS Stream 9 | PASS | PASS | SKIPPED | SKIPPED | SKIPPED | SKIPPED | +-------------------------------+--------------------+-------------------+------------------+-------------------+-------------------------+----------------------+ | CentOS Stream 10 | PASS | SKIPPED | SKIPPED | SKIPPED | SKIPPED | SKIPPED | +-------------------------------+--------------------+-------------------+------------------+-------------------+-------------------------+----------------------+ | Debian GNU/Linux 12 | PASS | PASS | SKIPPED | SKIPPED | SKIPPED | SKIPPED | +-------------------------------+--------------------+-------------------+------------------+-------------------+-------------------------+----------------------+ | Ubuntu 20.04 | PASS | SKIPPED | SKIPPED | SKIPPED | SKIPPED | SKIPPED | +-------------------------------+--------------------+-------------------+------------------+-------------------+-------------------------+----------------------+ | Fedora Linux 42 | PASS | PASS | PASS | SKIPPED | SKIPPED | SKIPPED | +-------------------------------+--------------------+-------------------+------------------+-------------------+-------------------------+----------------------+ | FreeBSD 14.2 | PASS | SKIPPED | SKIPPED | SKIPPED | SKIPPED | SKIPPED | +-------------------------------+--------------------+-------------------+------------------+-------------------+-------------------------+----------------------+ | openSUSE Leap 15.6 | PASS | SKIPPED | SKIPPED | SKIPPED | SKIPPED | SKIPPED | +-------------------------------+--------------------+-------------------+------------------+-------------------+-------------------------+----------------------+ | Red Hat Enterprise Linux 8.10 | PASS | SKIPPED | SKIPPED | SKIPPED | SKIPPED | SKIPPED | +-------------------------------+--------------------+-------------------+------------------+-------------------+-------------------------+----------------------+ | Red Hat Enterprise Linux 9.5 | PASS | SKIPPED | SKIPPED | SKIPPED | SKIPPED | SKIPPED | +-------------------------------+--------------------+-------------------+------------------+-------------------+-------------------------+----------------------+ | Ubuntu 22.04 | PASS | PASS | SKIPPED | SKIPPED | SKIPPED | SKIPPED | +-------------------------------+--------------------+-------------------+------------------+-------------------+-------------------------+----------------------+ | Ubuntu 24.04 | PASS | PASS | PASS | SKIPPED | SKIPPED | SKIPPED | +-------------------------------+--------------------+-------------------+------------------+-------------------+-------------------------+----------------------+ | Alpine Linux 3.22.0 | PASS | SKIPPED | SKIPPED | SKIPPED | SKIPPED | SKIPPED | +-------------------------------+--------------------+-------------------+------------------+-------------------+-------------------------+----------------------+ | Windows Server 2022 | SKIPPED | SKIPPED | SKIPPED | PASS | PASS | PASS | +-------------------------------+--------------------+-------------------+------------------+-------------------+-------------------------+----------------------+ CentOS Stream 9 Kernel: 5.15 Compiler: gcc gcc (GCC) 11.5.0 20240719 (Red Hat 11.5.0-11) CentOS Stream 10 Kernel: 5.15 Compiler: gcc gcc (GCC) 14.2.1 20250110 (Red Hat 14.2.1-8) Debian GNU/Linux 12 Kernel: 5.15 Compiler: gcc gcc (Debian 12.2.0-14+deb12u1) 12.2.0 Ubuntu 20.04 Kernel: 4.19 Compiler: gcc gcc (Ubuntu 9.4.0-1ubuntu1~20.04.2) 9.4.0 Fedora Linux 42 Kernel: 5.15 Compiler: clang gcc (GCC) 15.2.1 20250808 (Red Hat 15.2.1-1) FreeBSD 14.2 Kernel: 14.2-RELEASE Compiler: clang 18.1.6 openSUSE Leap 15.6 Kernel: 5.15 Compiler: gcc gcc (SUSE Linux) 7.5.0 Red Hat Enterprise Linux 8.10 Kernel: 5.15 Compiler: gcc gcc (GCC) 8.5.0 20210514 (Red Hat 8.5.0-22) Red Hat Enterprise Linux 9.5 Kernel: 5.15 Compiler: gcc gcc (GCC) 11.5.0 20240719 (Red Hat 11.5.0-2) Ubuntu 22.04 Kernel: 5.15 Compiler: gcc gcc (Ubuntu 11.4.0-1ubuntu1~22.04) 11.4.0 Ubuntu 24.04 Kernel: 5.15 Compiler: gcc gcc (Ubuntu 13.3.0-6ubuntu2~24.04) 13.3.0 Alpine Linux 3.22.0 Kernel: 5.15 Compiler: gcc gcc (Alpine 14.2.0) 14.2.0 Windows Server 2022 Kernel: 10.0.20348.2031 Compiler: clang 15.0.7, gcc 14.1.0 (MinGW), and MSVC VS 19.39.33521 To view detailed results, visit: https://lab.dpdk.org/results/dashboard/patchsets/34173/ UNH-IOL DPDK Community Lab To manage your email subscriptions, visit: https://lab.dpdk.org/results/dashboard/preferences/subscriptions/