From mboxrd@z Thu Jan 1 00:00:00 1970 Return-Path: Received: from mails.dpdk.org (mails.dpdk.org [217.70.189.124]) by inbox.dpdk.org (Postfix) with ESMTP id 76B6B48866 for ; Mon, 29 Sep 2025 20:12:09 +0200 (CEST) Received: from mails.dpdk.org (localhost [127.0.0.1]) by mails.dpdk.org (Postfix) with ESMTP id 72BAE4064E; Mon, 29 Sep 2025 20:12:09 +0200 (CEST) Received: from mail-qk1-f226.google.com (mail-qk1-f226.google.com [209.85.222.226]) by mails.dpdk.org (Postfix) with ESMTP id 4C0844064E for ; Mon, 29 Sep 2025 20:12:08 +0200 (CEST) Received: by mail-qk1-f226.google.com with SMTP id af79cd13be357-8572d7b2457so475718985a.1 for ; Mon, 29 Sep 2025 11:12:08 -0700 (PDT) DKIM-Signature: v=1; a=rsa-sha256; c=relaxed/relaxed; d=iol.unh.edu; s=unh-iol; t=1759169527; x=1759774327; darn=dpdk.org; h=references:in-reply-to:cc:to:from:subject:message-id:date:from:to :cc:subject:date:message-id:reply-to; bh=cUgv10Kbw50/9nzQNlh1g7xGinlXOvtK3l+TScFiE6g=; b=do11+IARWpyZyIb1a8AVy4BXwVLZCvzdcj6UklIsz2XNc2b5apf3sLsICKwwto9+A2 xyle4JkRmfCSv66vUWuMlaULvAbAPkv8WOQGe6CM/XrUCOwowahX8hya25Uw0AnWvTKB odmQ40DNZsq+cFxIereohhN0OWzt6rHV2UoSQ= X-Google-DKIM-Signature: v=1; a=rsa-sha256; c=relaxed/relaxed; d=1e100.net; s=20230601; t=1759169527; x=1759774327; h=references:in-reply-to:cc:to:from:subject:message-id:date :x-gm-message-state:from:to:cc:subject:date:message-id:reply-to; bh=cUgv10Kbw50/9nzQNlh1g7xGinlXOvtK3l+TScFiE6g=; b=T6OVNGloZuvCel8ZNuET1cdybY5HPpFbncoKsi/WmorEG3MuiUsBLqt7d7+EytBADR 6X9BDjb+JcQ+Aqg+a9UOwvDui2q4+TOdvmM9k2xMz6284kpApSCZVdfTjtitqtKSuO/c iKHX+JGfDRuKAohGzoZ/0PHHFAdDWcad9vgf8DNy6XHVxvvsD6na+sG4KYb/8kaxnic3 p2ieRiG5o3UPw7mJ0XPijdA5Cip/8CsjNvPO4JOel0iGQLtTQpz1wNRPtA1qkToXTv3C fdCxS0hCnqwBvgAvJeITvXA3ta13kVGHDgpok8dofVAKkHY2R1J5wC+Y+eGxisZDy0nF WHQw== X-Gm-Message-State: AOJu0Yz8m//GKZ6RLe4vx9VmDS6C3rgXUIr723oCeWDXKiVzwdUdPN4L TJVvcp26JPKAy7C9Y4gL31WH5sBkz+5TFqvmvnE6CZ4Qatp6QOC5t4OqY52cewh3rt42IXisqBA bhB+WPuG/YddC2Twi5gjt1KRi+A1I1+l3iysUIE94JF3o X-Gm-Gg: ASbGncvev+2Kr91MFbGlb4qZkIAKxZhmgMTC8JwAc9majkJVqnZ6Hj8cSw5vAvPm+7b alITLkrEbK9n1JtIatAZsn9wYcmfBgmUY+K6x+ZXC42mHxO7W2FziJmTegsRFcL3ig0J3ALXbTd GH2dl8Si3fXYWk6WnJyy7rThWZpx0yi8FxfadnF4taAh8LgmFXIoaQ5w4jZcaWAdKya9G/Niir5 xeVWlMgUqbiCgG7lRS74WqadMxL8IVYdn+oFybaKuImdTT3Z1sUZtYAmQZXqqT1MNJXVnWkMhe4 1/0+8UAC877SOSSb70jDBHhRATQ/ALGAdbJSEHSwyYFvSAAzVIcieuwqx8B2LLaULshadOAD X-Google-Smtp-Source: AGHT+IH0tncsFOxDGbYfVSA40vMo8XKgpkJyOj3qV7RUV786fPjAaiEgVkqjn4Wpyqxi9IXUD997AwhwnM5X X-Received: by 2002:a05:620a:a80b:b0:810:7a53:c62b with SMTP id af79cd13be357-86eebc994b6mr227193385a.34.1759169527476; Mon, 29 Sep 2025 11:12:07 -0700 (PDT) Received: from postal.iol.unh.edu (postal.iol.unh.edu. [132.177.123.84]) by smtp-relay.gmail.com with ESMTPS id af79cd13be357-85c2eeb1813sm79052185a.7.2025.09.29.11.12.07 (version=TLS1_2 cipher=ECDHE-ECDSA-AES128-GCM-SHA256 bits=128/128); Mon, 29 Sep 2025 11:12:07 -0700 (PDT) X-Relaying-Domain: iol.unh.edu Date: Mon, 29 Sep 2025 11:12:07 -0700 (PDT) Message-ID: <68dacbf7.050a0220.28921a.f158SMTPIN_ADDED_MISSING@mx.google.com> Received: from [172.21.0.2] (unknown [172.18.0.240]) by postal.iol.unh.edu (Postfix) with ESMTP id 36B1C6051830; Mon, 29 Sep 2025 14:12:07 -0400 (EDT) Subject: |SUCCESS| pw157033-157032 [PATCH] [2/2] net/iavf: add reset VF comma From: dpdklab@iol.unh.edu To: Test Report Cc: dpdk-test-reports@iol.unh.edu, Bruce Richardson In-Reply-To: <20250929143039.547207-2-ciara.loftus@intel.com> References: <20250929143039.547207-2-ciara.loftus@intel.com> Content-Type: text/plain X-BeenThere: test-report@dpdk.org X-Mailman-Version: 2.1.29 Precedence: list List-Id: automatic DPDK test reports List-Unsubscribe: , List-Archive: List-Post: List-Help: List-Subscribe: , Errors-To: test-report-bounces@dpdk.org Test-Label: iol-unit-arm64-testing Test-Status: SUCCESS http://dpdk.org/patch/157032 _Testing PASS_ Submitter: Ciara Loftus Date: Monday, September 29 2025 14:30:39 DPDK git baseline: Repo:dpdk-next-net-intel Branch: master CommitID:9845e5848bbe337306fb6ae2a6b1ce5e6ab5b714 157033-157032 --> testing pass Upstream job id: Generic-Unit-Test-DPDK#376256 Test environment and result as below: +------------------------------+----------------+------------------------------+--------------+---------------------------+ | Environment | dpdk_unit_test | cryptodev_sw_snow3g_autotest | lpm_autotest | cryptodev_sw_zuc_autotest | +==============================+================+==============================+==============+===========================+ | Ubuntu 20.04 | PASS | SKIPPED | PASS | SKIPPED | +------------------------------+----------------+------------------------------+--------------+---------------------------+ | Fedora Linux 42 | PASS | SKIPPED | SKIPPED | SKIPPED | +------------------------------+----------------+------------------------------+--------------+---------------------------+ | Red Hat Enterprise Linux 9.5 | PASS | SKIPPED | SKIPPED | SKIPPED | +------------------------------+----------------+------------------------------+--------------+---------------------------+ | Fedora Linux 40 | PASS | SKIPPED | SKIPPED | SKIPPED | +------------------------------+----------------+------------------------------+--------------+---------------------------+ | Ubuntu 22.04 | PASS | SKIPPED | SKIPPED | SKIPPED | +------------------------------+----------------+------------------------------+--------------+---------------------------+ | CentOS Stream 10 | PASS | SKIPPED | SKIPPED | SKIPPED | +------------------------------+----------------+------------------------------+--------------+---------------------------+ | CentOS Stream 9 | PASS | SKIPPED | SKIPPED | SKIPPED | +------------------------------+----------------+------------------------------+--------------+---------------------------+ | Ubuntu 24.04 | PASS | SKIPPED | SKIPPED | SKIPPED | +------------------------------+----------------+------------------------------+--------------+---------------------------+ | Fedora Linux 41 | PASS | SKIPPED | SKIPPED | SKIPPED | +------------------------------+----------------+------------------------------+--------------+---------------------------+ | Debian GNU/Linux 12 | PASS | SKIPPED | SKIPPED | SKIPPED | +------------------------------+----------------+------------------------------+--------------+---------------------------+ | Debian 12 (arm) | SKIPPED | PASS | SKIPPED | PASS | +------------------------------+----------------+------------------------------+--------------+---------------------------+ Ubuntu 20.04 Kernel: 5.4 Compiler: gcc gcc (Ubuntu 9.4.0-1ubuntu1~20.04.2) 9.4.0 Fedora Linux 42 Kernel: 5.4 Compiler: clang gcc (GCC) 15.2.1 20250808 (Red Hat 15.2.1-1) Red Hat Enterprise Linux 9.5 Kernel: 5.4 Compiler: gcc gcc (GCC) 11.5.0 20240719 (Red Hat 11.5.0-2) Fedora Linux 40 Kernel: 5.4 Compiler: clang gcc (GCC) 14.2.1 20240912 (Red Hat 14.2.1-3) Ubuntu 22.04 Kernel: 5.4 Compiler: gcc gcc (Ubuntu 11.4.0-1ubuntu1~22.04) 11.4.0 CentOS Stream 10 Kernel: 5.4 Compiler: gcc gcc (GCC) 14.2.1 20250110 (Red Hat 14.2.1-8) CentOS Stream 9 Kernel: 5.4 Compiler: gcc gcc (GCC) 11.5.0 20240719 (Red Hat 11.5.0-11) Ubuntu 24.04 Kernel: 5.4 Compiler: gcc gcc (Ubuntu 13.3.0-6ubuntu2~24.04) 13.3.0 Fedora Linux 41 Kernel: 5.4 Compiler: clang gcc (GCC) 14.3.1 20250523 (Red Hat 14.3.1-1) Debian GNU/Linux 12 Kernel: 5.4 Compiler: gcc gcc (Debian 12.2.0-14+deb12u1) 12.2.0 Debian 12 (arm) Kernel: Depends on container host Compiler: gcc (Debian 12.2.0-14) 12.2.0 To view detailed results, visit: https://lab.dpdk.org/results/dashboard/patchsets/34171/ UNH-IOL DPDK Community Lab To manage your email subscriptions, visit: https://lab.dpdk.org/results/dashboard/preferences/subscriptions/