From mboxrd@z Thu Jan 1 00:00:00 1970 Return-Path: Received: from mails.dpdk.org (mails.dpdk.org [217.70.189.124]) by inbox.dpdk.org (Postfix) with ESMTP id 377DA48866 for ; Mon, 29 Sep 2025 20:19:23 +0200 (CEST) Received: from mails.dpdk.org (localhost [127.0.0.1]) by mails.dpdk.org (Postfix) with ESMTP id 279D24064E; Mon, 29 Sep 2025 20:19:23 +0200 (CEST) Received: from mail-qk1-f225.google.com (mail-qk1-f225.google.com [209.85.222.225]) by mails.dpdk.org (Postfix) with ESMTP id B9C934064E for ; Mon, 29 Sep 2025 20:19:21 +0200 (CEST) Received: by mail-qk1-f225.google.com with SMTP id af79cd13be357-869ecba3bd2so177841585a.0 for ; Mon, 29 Sep 2025 11:19:21 -0700 (PDT) DKIM-Signature: v=1; a=rsa-sha256; c=relaxed/relaxed; d=iol.unh.edu; s=unh-iol; t=1759169961; x=1759774761; darn=dpdk.org; h=references:in-reply-to:cc:to:from:subject:message-id:date:from:to :cc:subject:date:message-id:reply-to; bh=LKb7VkocG+C74kBtRgb4gYxFCIETy9gv8jpzsm2XJI4=; b=YYnTsNxMiudIsrifl49hHMQTEHZTNtWs8ioSWhR4Ta7g5q3mZwY4NHJ05K1CuUJHKk 7CAYNgb5EoeUcCIkFaLPQyMtvYyVH5DU7kytNWAsrw37vNLPeB/AlnfpaoCcuLmUBh0F n3r6fYXREmJl4ydi71+zLy9gfY4Yd22Otzohw= X-Google-DKIM-Signature: v=1; a=rsa-sha256; c=relaxed/relaxed; d=1e100.net; s=20230601; t=1759169961; x=1759774761; h=references:in-reply-to:cc:to:from:subject:message-id:date :x-gm-message-state:from:to:cc:subject:date:message-id:reply-to; bh=LKb7VkocG+C74kBtRgb4gYxFCIETy9gv8jpzsm2XJI4=; b=teKfr6L52jHPDLYveoqgFEB51+bjGtftzTr1gJjKT/Kok/Loqe71D99OjAcrRMOkDF Q/X2I88AX3QEImE0WFKqkp1EPnoeUTwjvn/cAk4d6Hwb2NGpwLFsgFxW4XAtbcqkFUhQ hvXmsk+++8+Tp4NMJukBL4fH+LjljNhAQ2Wnb72biWsiy6LQs63JRQVCIkyHwW1sF0fA NL/7G6akmcxAIFyke0ynoH8Erh+ExYz8OQX3W+C5m2P9g1qur+5EH0G53uRXJPlwit5v ThHW5+2KlbQLLNY4q6iTNGCnCRBqac59RRpIY5mL2Sh90poJdh2CcYBSvOi44EDYfWaA fsxQ== X-Gm-Message-State: AOJu0Yy/1uT5VeVKpk8JtR1fN1DmNncfRrfAz080BUxonHsdx5mq+Fce VtRMhnzgldgTwq+VRhtELoMndvNJXMu8jCi7ZPZQS2bbdyr+kOoVc9heqVSqGzZIqaBpuNXnlEM peB47OsotBFE7C4BbZ/dyHRMUO0JiEVg69YGeIkBY1pnT X-Gm-Gg: ASbGnctmIZTI79Wz3HrVWeYEZygf6qWLtR4fDN5qd1rwW3miA1CZxstbtsva24zhfaV 8YxcJqOVd0HY02UGhgiaLoAkaCzDHVbPQIVKWkhfYl1RtPZvfIOyDMOZhT7tiuNtD4Hs9eesd9Z jEAuWkfl2iOMNCDYwFmzPvzrAkKGUzrkwznPeTts3JhXEEHZXLmG/XSr6t6Z+BYBsirCp3J/oB+ 8NJoSFMfYQulTFITn5MdnRiMqg8eR4SO+s9dNvS51tiUoiJiGancfFU3PLnV0lksZ9aBYOSh638 RiweJh3O9/9KT57Gs1G7/kKxetLAFubBZ1uqrMDbvOrgbAg04XmFITF6lwlWYYXXwt0Bqyo1 X-Google-Smtp-Source: AGHT+IE65aUlXg4Id9o7ECDxe+ivSJpLc0g+bzB5qjJ0smHiO/02eyHP0h1ckNEJ8uJi1Paw1oSs+n8f7olm X-Received: by 2002:a05:6214:5e05:b0:84d:5b71:8a7f with SMTP id 6a1803df08f44-84d5b718ca5mr72687846d6.34.1759169961001; Mon, 29 Sep 2025 11:19:21 -0700 (PDT) Received: from postal.iol.unh.edu (postal.iol.unh.edu. [132.177.123.84]) by smtp-relay.gmail.com with ESMTPS id 6a1803df08f44-8016193c3afsm8733716d6.22.2025.09.29.11.19.20 (version=TLS1_2 cipher=ECDHE-ECDSA-AES128-GCM-SHA256 bits=128/128); Mon, 29 Sep 2025 11:19:20 -0700 (PDT) X-Relaying-Domain: iol.unh.edu Date: Mon, 29 Sep 2025 11:19:20 -0700 (PDT) Message-ID: <68dacda8.050a0220.38078.3e8cSMTPIN_ADDED_MISSING@mx.google.com> Received: from [172.21.0.2] (unknown [172.18.0.240]) by postal.iol.unh.edu (Postfix) with ESMTP id B5A706051830; Mon, 29 Sep 2025 14:19:20 -0400 (EDT) Subject: |SUCCESS| pw157036-157041 [PATCH] [v2,6/6] doc: update docs for ethd From: dpdklab@iol.unh.edu To: Test Report Cc: dpdk-test-reports@iol.unh.edu In-Reply-To: <20250929150009.1542208-7-bruce.richardson@intel.com> References: <20250929150009.1542208-7-bruce.richardson@intel.com> Content-Type: text/plain X-BeenThere: test-report@dpdk.org X-Mailman-Version: 2.1.29 Precedence: list List-Id: automatic DPDK test reports List-Unsubscribe: , List-Archive: List-Post: List-Help: List-Subscribe: , Errors-To: test-report-bounces@dpdk.org Test-Label: iol-unit-amd64-testing Test-Status: SUCCESS http://dpdk.org/patch/157041 _Testing PASS_ Submitter: Bruce Richardson Date: Monday, September 29 2025 15:00:09 DPDK git baseline: Repo:dpdk Branch: master CommitID:1d627ea13aeec2bcccf27246e6be2508370d171e 157036-157041 --> testing pass Upstream job id: Generic-Unit-Test-DPDK#376330 Test environment and result as below: +-------------------------------+----------------+ | Environment | dpdk_unit_test | +===============================+================+ | CentOS Stream 9 | PASS | +-------------------------------+----------------+ | Debian GNU/Linux 12 | PASS | +-------------------------------+----------------+ | CentOS Stream 10 | PASS | +-------------------------------+----------------+ | Fedora Linux 40 | PASS | +-------------------------------+----------------+ | Fedora Linux 41 | PASS | +-------------------------------+----------------+ | Fedora Linux 42 | PASS | +-------------------------------+----------------+ | Ubuntu 22.04 | PASS | +-------------------------------+----------------+ | Red Hat Enterprise Linux 8.10 | PASS | +-------------------------------+----------------+ | Ubuntu 20.04 | PASS | +-------------------------------+----------------+ | Red Hat Enterprise Linux 9.5 | PASS | +-------------------------------+----------------+ | Ubuntu 24.04 | PASS | +-------------------------------+----------------+ | Windows Server 2022 | PASS | +-------------------------------+----------------+ CentOS Stream 9 Kernel: 5.15 Compiler: gcc gcc (GCC) 11.5.0 20240719 (Red Hat 11.5.0-11) Debian GNU/Linux 12 Kernel: 5.15 Compiler: gcc gcc (Debian 12.2.0-14+deb12u1) 12.2.0 CentOS Stream 10 Kernel: 5.15 Compiler: gcc gcc (GCC) 14.2.1 20250110 (Red Hat 14.2.1-8) Fedora Linux 40 Kernel: 5.15 Compiler: gcc gcc (GCC) 14.2.1 20240912 (Red Hat 14.2.1-3) Fedora Linux 41 Kernel: 5.15 Compiler: clang gcc (GCC) 14.3.1 20250523 (Red Hat 14.3.1-1) Fedora Linux 42 Kernel: 5.15 Compiler: gcc gcc (GCC) 15.2.1 20250808 (Red Hat 15.2.1-1) Ubuntu 22.04 Kernel: 5.15 Compiler: gcc gcc (Ubuntu 11.4.0-1ubuntu1~22.04) 11.4.0 Red Hat Enterprise Linux 8.10 Kernel: 5.15 Compiler: gcc gcc (GCC) 8.5.0 20210514 (Red Hat 8.5.0-22) Ubuntu 20.04 Kernel: 5.15 Compiler: gcc gcc (Ubuntu 9.4.0-1ubuntu1~20.04.2) 9.4.0 Red Hat Enterprise Linux 9.5 Kernel: 5.15 Compiler: gcc gcc (GCC) 11.5.0 20240719 (Red Hat 11.5.0-2) Ubuntu 24.04 Kernel: 5.15 Compiler: gcc gcc (Ubuntu 13.3.0-6ubuntu2~24.04) 13.3.0 Windows Server 2022 Kernel: 10.0.20348.2031 Compiler: clang 15.0.7, gcc 14.1.0 (MinGW), and MSVC VS 19.39.33521 To view detailed results, visit: https://lab.dpdk.org/results/dashboard/patchsets/34173/ UNH-IOL DPDK Community Lab To manage your email subscriptions, visit: https://lab.dpdk.org/results/dashboard/preferences/subscriptions/