From mboxrd@z Thu Jan 1 00:00:00 1970 Return-Path: Received: from mails.dpdk.org (mails.dpdk.org [217.70.189.124]) by inbox.dpdk.org (Postfix) with ESMTP id 86B9648866 for ; Mon, 29 Sep 2025 20:50:56 +0200 (CEST) Received: from mails.dpdk.org (localhost [127.0.0.1]) by mails.dpdk.org (Postfix) with ESMTP id 677304028C; Mon, 29 Sep 2025 20:50:56 +0200 (CEST) Received: from mail-il1-f227.google.com (mail-il1-f227.google.com [209.85.166.227]) by mails.dpdk.org (Postfix) with ESMTP id 561BE4028C for ; Mon, 29 Sep 2025 20:50:55 +0200 (CEST) Received: by mail-il1-f227.google.com with SMTP id e9e14a558f8ab-424d3c1256fso30851275ab.1 for ; Mon, 29 Sep 2025 11:50:55 -0700 (PDT) DKIM-Signature: v=1; a=rsa-sha256; c=relaxed/relaxed; d=iol.unh.edu; s=unh-iol; t=1759171854; x=1759776654; darn=dpdk.org; h=references:in-reply-to:cc:to:from:subject:message-id:date:from:to :cc:subject:date:message-id:reply-to; bh=byiDiZPk5Mq1pxW6iRPhS/E9+KK5atNy9RTquVqeQ1Q=; b=dzdqXOkLqClDhkPMBHOv8FnuFC7GhNCFMk6gpezgP0WaLvNLT7u2TVJ3MLdvRCTaaS 243g/+qBO8RvzFaGs5hgcuxPIhEBquGCtAg0N67/650hSj2Eyq4v4TmRbUIHRDZvXKx5 MdpC2L8OzK3vtir4YuEHBmlgJHIo3SxKrLqnw= X-Google-DKIM-Signature: v=1; a=rsa-sha256; c=relaxed/relaxed; d=1e100.net; s=20230601; t=1759171854; x=1759776654; h=references:in-reply-to:cc:to:from:subject:message-id:date :x-gm-message-state:from:to:cc:subject:date:message-id:reply-to; bh=byiDiZPk5Mq1pxW6iRPhS/E9+KK5atNy9RTquVqeQ1Q=; b=U0zSOaqD/koF2vzagqsClXQAp49MFa36Vns7HOfkkjEkPhTzIgwDsRzdwDPKLr6wfZ un7UDol9UPHHYD3c0yHDcAnOYpxpn6nH2xteNhdsxLnBGwNY1t2mJjd7Fpa0MgePcHj1 y0SsmVUz/QKlAj8e7xPLqPOn/LL53WSZ3re92Ny8N6dZZh2U+Cny6K0KBbTj80J4RAW2 XtZBcxyozlrKaupcQBRP1TrQJ5za/p8GfX5u8DSsGUSiLx2LjVLxOkOBpvx+ZNhLBkNe PSlCJeHiGhucW6yj6RgYGI9QNf+96HL1g79YZv5xQL80PTj26w6luv4puJ4HBjQLatx+ W/Kg== X-Gm-Message-State: AOJu0YyfPEP2v/pLHac0vtqDjRCOiYt0iuvRtpWb4t7OpWepToTT+QXZ Wiy6JcHPH/rq67xOmiIMG4x5XQAuF3QsPV7q+iim8RiIXxesv1uLc4csI96uJ28uLAJTVU9weIc fPbOg6MlnEAqsdZ6G9gpGCI/gcAdbNjHkfRaGWDCrTUkljr8AtN9z5/KlIseX X-Gm-Gg: ASbGncusUJHKkI3jL4BMHqEPR1P7mxr10iRWZpJ8r8uti+PpbqJop9Mx7ecRBYVm15d 1YpCRB76+nD9C1bfDrYp2bCSlBrGzg/ifnZ7Vix8OZyE0/JiPa9k82e5DrK4SQdCJsC4lozGW5N sAP7OGgre4fbmoVdSxmnQBKBYv3Vj4HlO7WJB8u0P71OXuoYv7ZNUKe8I0mViWWbsClFVF0v8Kx OywcGfFq1eDLQ3JU8xrX/cB6rR2ywcfxLg0/qSSZIsMCUNmpTM4RVtqgIMlwoy5UkGvKDym7xJZ Xx/7nD3upxjZNk+DGwCyEM5/uYN6IHntsZGIjTdZ28CXUrXUsQ== X-Google-Smtp-Source: AGHT+IEg4OzO4vVJhlAkflGcg19Pf+3IxT2pLabAAKHQ18oIJ9jRxyJcyxxMBTXCnOYDtTopx6QsIOewtPlm X-Received: by 2002:a92:c262:0:b0:408:6044:8d1a with SMTP id e9e14a558f8ab-42d0ea4f4d0mr21908995ab.5.1759171854412; Mon, 29 Sep 2025 11:50:54 -0700 (PDT) Received: from postal.iol.unh.edu (postal.iol.unh.edu. [2606:4100:3880:1234::84]) by smtp-relay.gmail.com with ESMTPS id e9e14a558f8ab-42717780677sm7296105ab.32.2025.09.29.11.50.54 (version=TLS1_2 cipher=ECDHE-ECDSA-AES128-GCM-SHA256 bits=128/128); Mon, 29 Sep 2025 11:50:54 -0700 (PDT) X-Relaying-Domain: iol.unh.edu Date: Mon, 29 Sep 2025 11:50:54 -0700 (PDT) Message-ID: <68dad50e.050a0220.d8763.d03aSMTPIN_ADDED_MISSING@mx.google.com> Received: from [172.21.0.2] (unknown [172.18.0.240]) by postal.iol.unh.edu (Postfix) with ESMTP id 0D01E6050A61; Mon, 29 Sep 2025 14:50:54 -0400 (EDT) Subject: |SUCCESS| pw157044-157046 [PATCH] [v6,3/3] dts: update tx_offload te From: dpdklab@iol.unh.edu To: Test Report Cc: dpdk-test-reports@iol.unh.edu In-Reply-To: <20250929172734.218467-4-abailey@iol.unh.edu> References: <20250929172734.218467-4-abailey@iol.unh.edu> Content-Type: text/plain X-BeenThere: test-report@dpdk.org X-Mailman-Version: 2.1.29 Precedence: list List-Id: automatic DPDK test reports List-Unsubscribe: , List-Archive: List-Post: List-Help: List-Subscribe: , Errors-To: test-report-bounces@dpdk.org Test-Label: iol-compile-amd64-testing Test-Status: SUCCESS http://dpdk.org/patch/157046 _Testing PASS_ Submitter: Andrew Bailey Date: Monday, September 29 2025 17:27:34 DPDK git baseline: Repo:dpdk-next-dts Branch: master CommitID:b71d7bdf2b663f9fedc1d344b81a8cf65518026c 157044-157046 --> testing pass Upstream job id: Generic-DPDK-Compile-Meson#429813 Test environment and result as below: +-------------------------------+--------------------+-------------------+------------------+-------------------------+-------------------+----------------------+ | Environment | dpdk_meson_compile | dpdk_compile_spdk | dpdk_compile_ovs | dpdk_llvm_clang_compile | dpdk_msvc_compile | dpdk_mingw64_compile | +===============================+====================+===================+==================+=========================+===================+======================+ | CentOS Stream 9 | PASS | PASS | SKIPPED | SKIPPED | SKIPPED | SKIPPED | +-------------------------------+--------------------+-------------------+------------------+-------------------------+-------------------+----------------------+ | Debian GNU/Linux 12 | PASS | PASS | SKIPPED | SKIPPED | SKIPPED | SKIPPED | +-------------------------------+--------------------+-------------------+------------------+-------------------------+-------------------+----------------------+ | CentOS Stream 10 | PASS | SKIPPED | SKIPPED | SKIPPED | SKIPPED | SKIPPED | +-------------------------------+--------------------+-------------------+------------------+-------------------------+-------------------+----------------------+ | Fedora Linux 42 | PASS | PASS | PASS | SKIPPED | SKIPPED | SKIPPED | +-------------------------------+--------------------+-------------------+------------------+-------------------------+-------------------+----------------------+ | openSUSE Leap 15.6 | PASS | SKIPPED | SKIPPED | SKIPPED | SKIPPED | SKIPPED | +-------------------------------+--------------------+-------------------+------------------+-------------------------+-------------------+----------------------+ | Red Hat Enterprise Linux 8.10 | PASS | SKIPPED | SKIPPED | SKIPPED | SKIPPED | SKIPPED | +-------------------------------+--------------------+-------------------+------------------+-------------------------+-------------------+----------------------+ | Red Hat Enterprise Linux 9.5 | PASS | SKIPPED | SKIPPED | SKIPPED | SKIPPED | SKIPPED | +-------------------------------+--------------------+-------------------+------------------+-------------------------+-------------------+----------------------+ | Ubuntu 20.04 | PASS | SKIPPED | SKIPPED | SKIPPED | SKIPPED | SKIPPED | +-------------------------------+--------------------+-------------------+------------------+-------------------------+-------------------+----------------------+ | Ubuntu 24.04 | PASS | PASS | PASS | SKIPPED | SKIPPED | SKIPPED | +-------------------------------+--------------------+-------------------+------------------+-------------------------+-------------------+----------------------+ | FreeBSD 14.2 | PASS | SKIPPED | SKIPPED | SKIPPED | SKIPPED | SKIPPED | +-------------------------------+--------------------+-------------------+------------------+-------------------------+-------------------+----------------------+ | Ubuntu 22.04 | PASS | PASS | SKIPPED | SKIPPED | SKIPPED | SKIPPED | +-------------------------------+--------------------+-------------------+------------------+-------------------------+-------------------+----------------------+ | Alpine Linux 3.22.0 | PASS | SKIPPED | SKIPPED | SKIPPED | SKIPPED | SKIPPED | +-------------------------------+--------------------+-------------------+------------------+-------------------------+-------------------+----------------------+ | Windows Server 2022 | SKIPPED | SKIPPED | SKIPPED | PASS | PASS | PASS | +-------------------------------+--------------------+-------------------+------------------+-------------------------+-------------------+----------------------+ CentOS Stream 9 Kernel: 5.15 Compiler: gcc gcc (GCC) 11.5.0 20240719 (Red Hat 11.5.0-11) Debian GNU/Linux 12 Kernel: 5.15 Compiler: gcc gcc (Debian 12.2.0-14+deb12u1) 12.2.0 CentOS Stream 10 Kernel: 5.15 Compiler: gcc gcc (GCC) 14.2.1 20250110 (Red Hat 14.2.1-8) Fedora Linux 42 Kernel: 5.15 Compiler: gcc gcc (GCC) 15.2.1 20250808 (Red Hat 15.2.1-1) openSUSE Leap 15.6 Kernel: 5.15 Compiler: gcc gcc (SUSE Linux) 7.5.0 Red Hat Enterprise Linux 8.10 Kernel: 5.15 Compiler: gcc gcc (GCC) 8.5.0 20210514 (Red Hat 8.5.0-22) Red Hat Enterprise Linux 9.5 Kernel: 5.15 Compiler: gcc gcc (GCC) 11.5.0 20240719 (Red Hat 11.5.0-2) Ubuntu 20.04 Kernel: 5.15 Compiler: gcc gcc (Ubuntu 9.4.0-1ubuntu1~20.04.2) 9.4.0 Ubuntu 24.04 Kernel: 5.15 Compiler: gcc gcc (Ubuntu 13.3.0-6ubuntu2~24.04) 13.3.0 FreeBSD 14.2 Kernel: 14.2-RELEASE Compiler: clang 18.1.6 Ubuntu 22.04 Kernel: 5.15 Compiler: gcc gcc (Ubuntu 11.4.0-1ubuntu1~22.04) 11.4.0 Alpine Linux 3.22.0 Kernel: 5.15 Compiler: gcc gcc (Alpine 14.2.0) 14.2.0 Windows Server 2022 Kernel: 10.0.20348.2031 Compiler: clang 15.0.7, gcc 14.1.0 (MinGW), and MSVC VS 19.39.33521 To view detailed results, visit: https://lab.dpdk.org/results/dashboard/patchsets/34174/ UNH-IOL DPDK Community Lab To manage your email subscriptions, visit: https://lab.dpdk.org/results/dashboard/preferences/subscriptions/