From mboxrd@z Thu Jan 1 00:00:00 1970 Return-Path: Received: from mails.dpdk.org (mails.dpdk.org [217.70.189.124]) by inbox.dpdk.org (Postfix) with ESMTP id 56B6548866 for ; Mon, 29 Sep 2025 21:05:33 +0200 (CEST) Received: from mails.dpdk.org (localhost [127.0.0.1]) by mails.dpdk.org (Postfix) with ESMTP id 51F8D4028C; Mon, 29 Sep 2025 21:05:33 +0200 (CEST) Received: from mail-qk1-f228.google.com (mail-qk1-f228.google.com [209.85.222.228]) by mails.dpdk.org (Postfix) with ESMTP id 0F2E64028C for ; Mon, 29 Sep 2025 21:05:33 +0200 (CEST) Received: by mail-qk1-f228.google.com with SMTP id af79cd13be357-858183680b4so682564385a.2 for ; Mon, 29 Sep 2025 12:05:32 -0700 (PDT) DKIM-Signature: v=1; a=rsa-sha256; c=relaxed/relaxed; d=iol.unh.edu; s=unh-iol; t=1759172732; x=1759777532; darn=dpdk.org; h=references:in-reply-to:cc:to:from:subject:message-id:date:from:to :cc:subject:date:message-id:reply-to; bh=0tQZmz8c/0AsqXSR86a2w4fDf3aYmxWyYfeFeM+Fk4Q=; b=c6Wvbj69gqCKvs3vlNinCjLXFOyRWeyfSOeAEZ8q/iORPbeU7pEVb8r4hU7d/ZVX/6 gwBglqeAbbsxm+Xc6vtbFyVs2BTz2VdysqaIF8P8k2prxrFC+XzLJjzX0E9MT0ev4b9/ Y+FUX0wPJu4jHZ6oGoVP06geV3XDZiAEc/TdE= X-Google-DKIM-Signature: v=1; a=rsa-sha256; c=relaxed/relaxed; d=1e100.net; s=20230601; t=1759172732; x=1759777532; h=references:in-reply-to:cc:to:from:subject:message-id:date :x-gm-message-state:from:to:cc:subject:date:message-id:reply-to; bh=0tQZmz8c/0AsqXSR86a2w4fDf3aYmxWyYfeFeM+Fk4Q=; b=JTPkCH7IaDEtiO3GyduxOcGX7Wbqj1ur/OrTIzmcxAYWxtl5/QgDsSF2ZsTZtOENsd lRNxUUcrjUnufJM17tGpUyCPClj1oA1jygISgllKHuRcnzsZ4nFu1tWdgrVYEXlUOuXS UMcsQNgZmC5QDBKLHYHqdwwN83cB10YJGcviONH8hNI5XkOZm8HRXT8X5XRkhpdIduQ9 2Q0s1i35dFbkSEcdmykSPsMTo83c1oFZX+H7m4suulOcegjXuU4XFzBwK8c8mnzBbe67 1B8q+fltP7PKSMoFslplMOCbKBlkaN2f68PCiiaPsMp0wVpo8rrX2zV99pUz+J7SdcIJ zMnQ== X-Gm-Message-State: AOJu0YzMDflsOjKIfDHQbZALYFPpIEwm1qJNybMt5QV92uhflj87O0xu mYtl1kfaRj9LYpYV9/S78QZxjYXcrvTN3IseRS5uhwe+JtVUGU46lB+VeYZOcXZQrVUUWT9u4K8 DjmlX2cS0iAwfy2UJrTu8i9A0ls/2hsniqLo2E21KNHE84irjGja+Y7sjFXUx X-Gm-Gg: ASbGncuEbnz7daprT91vUeMFix45Uil2TUjSjtxN8mUw1NDoWM6gBcoVDSnkQkxqcaK aWXlOcqBqy8GNEB3Xl/HEkWGG4quIwO7zf472+g6VdP13NlhpsBRza+P3YV1JSmdUaunbTXnSkm DEvdiIYb8zb3Jb94b6nTHmAUq84L9iWvcMp+3+q0DNbcKtdIY2PFZm6W6oXtFt4PSMfIYeBYSi3 Hj6Psqavg62UbFpMKOQeKMt2qW02C33MVRkWEx3YMQukbTom4dvJAl5br6KhzR7YHKX7OOadMKC x09/6zFKjIYVseuE9o0gHbDOcCzRnIfdaZn+87sYDha10dHOmw== X-Google-Smtp-Source: AGHT+IE5TlyZRB6aenI3xIISpC+/ni2Fvj2Qv1+l3fqLznjmwfEA4KYkjFVgqoVWjoLn8BdDgE70IYwlDDPb X-Received: by 2002:a05:620a:40ca:b0:866:a24e:2eb8 with SMTP id af79cd13be357-866a24e3244mr1100829485a.13.1759172732372; Mon, 29 Sep 2025 12:05:32 -0700 (PDT) Received: from postal.iol.unh.edu (postal.iol.unh.edu. [2606:4100:3880:1234::84]) by smtp-relay.gmail.com with ESMTPS id af79cd13be357-85c2f199368sm86428585a.8.2025.09.29.12.05.32 (version=TLS1_2 cipher=ECDHE-ECDSA-AES128-GCM-SHA256 bits=128/128); Mon, 29 Sep 2025 12:05:32 -0700 (PDT) X-Relaying-Domain: iol.unh.edu Date: Mon, 29 Sep 2025 12:05:32 -0700 (PDT) Message-ID: <68dad87c.050a0220.132dac.3887SMTPIN_ADDED_MISSING@mx.google.com> Received: from [172.21.0.2] (unknown [172.18.0.240]) by postal.iol.unh.edu (Postfix) with ESMTP id F1AB16051830; Mon, 29 Sep 2025 15:05:31 -0400 (EDT) Subject: |SUCCESS| pw157044-157046 [PATCH] [v6,3/3] dts: update tx_offload te From: dpdklab@iol.unh.edu To: Test Report Cc: dpdk-test-reports@iol.unh.edu In-Reply-To: <20250929172734.218467-4-abailey@iol.unh.edu> References: <20250929172734.218467-4-abailey@iol.unh.edu> Content-Type: text/plain X-BeenThere: test-report@dpdk.org X-Mailman-Version: 2.1.29 Precedence: list List-Id: automatic DPDK test reports List-Unsubscribe: , List-Archive: List-Post: List-Help: List-Subscribe: , Errors-To: test-report-bounces@dpdk.org Test-Label: iol-unit-amd64-testing Test-Status: SUCCESS http://dpdk.org/patch/157046 _Testing PASS_ Submitter: Andrew Bailey Date: Monday, September 29 2025 17:27:34 DPDK git baseline: Repo:dpdk-next-dts Branch: master CommitID:b71d7bdf2b663f9fedc1d344b81a8cf65518026c 157044-157046 --> testing pass Upstream job id: Generic-Unit-Test-DPDK#376356 Test environment and result as below: +-------------------------------+----------------+ | Environment | dpdk_unit_test | +===============================+================+ | CentOS Stream 10 | PASS | +-------------------------------+----------------+ | Fedora Linux 40 | PASS | +-------------------------------+----------------+ | Debian GNU/Linux 12 | PASS | +-------------------------------+----------------+ | CentOS Stream 9 | PASS | +-------------------------------+----------------+ | Red Hat Enterprise Linux 8.10 | PASS | +-------------------------------+----------------+ | Fedora Linux 42 | PASS | +-------------------------------+----------------+ | Red Hat Enterprise Linux 9.5 | PASS | +-------------------------------+----------------+ | Ubuntu 24.04 | PASS | +-------------------------------+----------------+ | Ubuntu 22.04 | PASS | +-------------------------------+----------------+ | Windows Server 2022 | PASS | +-------------------------------+----------------+ | Ubuntu 20.04 | PASS | +-------------------------------+----------------+ | Fedora Linux 41 | PASS | +-------------------------------+----------------+ CentOS Stream 10 Kernel: 5.15 Compiler: gcc gcc (GCC) 14.2.1 20250110 (Red Hat 14.2.1-8) Fedora Linux 40 Kernel: 5.15 Compiler: clang gcc (GCC) 14.2.1 20240912 (Red Hat 14.2.1-3) Debian GNU/Linux 12 Kernel: 5.15 Compiler: gcc gcc (Debian 12.2.0-14+deb12u1) 12.2.0 CentOS Stream 9 Kernel: 5.15 Compiler: gcc gcc (GCC) 11.5.0 20240719 (Red Hat 11.5.0-11) Red Hat Enterprise Linux 8.10 Kernel: 5.15 Compiler: gcc gcc (GCC) 8.5.0 20210514 (Red Hat 8.5.0-22) Fedora Linux 42 Kernel: 5.15 Compiler: gcc gcc (GCC) 15.2.1 20250808 (Red Hat 15.2.1-1) Red Hat Enterprise Linux 9.5 Kernel: 5.15 Compiler: gcc gcc (GCC) 11.5.0 20240719 (Red Hat 11.5.0-2) Ubuntu 24.04 Kernel: 5.15 Compiler: gcc gcc (Ubuntu 13.3.0-6ubuntu2~24.04) 13.3.0 Ubuntu 22.04 Kernel: 5.15 Compiler: gcc gcc (Ubuntu 11.4.0-1ubuntu1~22.04) 11.4.0 Windows Server 2022 Kernel: 10.0.20348.2031 Compiler: clang 15.0.7, gcc 14.1.0 (MinGW), and MSVC VS 19.39.33521 Ubuntu 20.04 Kernel: 5.15 Compiler: gcc gcc (Ubuntu 9.4.0-1ubuntu1~20.04.2) 9.4.0 Fedora Linux 41 Kernel: 5.15 Compiler: gcc gcc (GCC) 14.3.1 20250523 (Red Hat 14.3.1-1) To view detailed results, visit: https://lab.dpdk.org/results/dashboard/patchsets/34174/ UNH-IOL DPDK Community Lab To manage your email subscriptions, visit: https://lab.dpdk.org/results/dashboard/preferences/subscriptions/