From mboxrd@z Thu Jan 1 00:00:00 1970 Return-Path: Received: from mails.dpdk.org (mails.dpdk.org [217.70.189.124]) by inbox.dpdk.org (Postfix) with ESMTP id E7D9248868 for ; Tue, 30 Sep 2025 02:18:21 +0200 (CEST) Received: from mails.dpdk.org (localhost [127.0.0.1]) by mails.dpdk.org (Postfix) with ESMTP id C1F08402A2; Tue, 30 Sep 2025 02:18:21 +0200 (CEST) Received: from mail-io1-f99.google.com (mail-io1-f99.google.com [209.85.166.99]) by mails.dpdk.org (Postfix) with ESMTP id 791B3402A2 for ; Tue, 30 Sep 2025 02:18:20 +0200 (CEST) Received: by mail-io1-f99.google.com with SMTP id ca18e2360f4ac-887764c2868so485077139f.1 for ; Mon, 29 Sep 2025 17:18:20 -0700 (PDT) DKIM-Signature: v=1; a=rsa-sha256; c=relaxed/relaxed; d=iol.unh.edu; s=unh-iol; t=1759191500; x=1759796300; darn=dpdk.org; h=references:in-reply-to:cc:to:from:subject:message-id:date:from:to :cc:subject:date:message-id:reply-to; bh=/1yNAcpxqrkXwhYUlI0EDr0VZRlUULhk9N7ztja+nBo=; b=I+wqSjVrezLM/Promo+0bQ8izLp0gg3fbWeyOAELCqPX8h2mDxUvR4PUnx5TyIrEba NcySciRbjtpwMWp+uGwIPZ1+Vm6j+/iCWhZ4HrbipxuBUPzLdwJRQ020nPIFJRy8F6xr ZXaAigZWyIaFsnTOcrBgthUa5DzFuSOlVVgkA= X-Google-DKIM-Signature: v=1; a=rsa-sha256; c=relaxed/relaxed; d=1e100.net; s=20230601; t=1759191500; x=1759796300; h=references:in-reply-to:cc:to:from:subject:message-id:date :x-gm-message-state:from:to:cc:subject:date:message-id:reply-to; bh=/1yNAcpxqrkXwhYUlI0EDr0VZRlUULhk9N7ztja+nBo=; b=XEZ9hye2qUEWbu/IpLGtmzULk3A2xNZHmjxgvviQMWW2YJvpASGeZIcysrQ1Av+4Hb WI83nldX2MpNpMt0qUQ9rKKHeExscDa72abzxO7cRLX+jKcDlFKzI3cEcnPhp9NJ4fcd 3Jjc1uQasoi06dXkKnKvEop1YE19/2nzRUcVYGVNBXZ8q+89JT0os6nRpcpX6ZLHEmLc 0tFMG00HAjWd5lvT0bUOHvF52Vmdc41Q8c/9Z1JXX7assrpv3r261vXtTOg+nIGzhQV+ GthpS52qtDTRkbyDELeEDtQwHgC7UJo3SseuiOKDBixXwHS8VxdBX61HddNRNaLpSq5o vcvQ== X-Gm-Message-State: AOJu0YwY9OgtXZnbe12grc4waJ8T0EknQ/Lwo8RzNzj1TKkmOsggAERl Pdf1VVVsgUEWFzPEorfi0lcf8QXMy1rf16iu+lqz96Sr7FHYQSsPUsCH1AHqHa3A0HAdahBzE5c Fyq5BoOhKocbD9f9JzEIIdeD/UH8QpXDb3ENfur23PVi0WYAAB1lWLX5OH2Mn X-Gm-Gg: ASbGncuPdsFwNKQe1p4Fl7rM78JOhsq+1bAISlJaPA8Ga6C5ba+NRO0X/uTJvAaj4Rw 1V7Jw2egc8wG5EAa5CJCJ8rQOya+Q8pQC9b5TBNRnXg2FIqyMEvhhQvhj6VQz+11dKnwdp3A1YC +vJfeXAlYTlFokWmcgyVSXr+5hLEoIDfTsqlU5cS5SKQO6a8wN1Vbg4EdPa4APvVtin6whbumah aN1TBC/4yYvgW7z6Lq5U5vl3PPtO9d53Kuvcdxxj4WK838ofG/U5CvwUQSBIcfmZ8x+Vjq9lyQQ CUDiG+4c7peldc5NcYwePSJNJZDETBIyLueRTE/yG3TZvhP2Rg== X-Google-Smtp-Source: AGHT+IF35FW67t6JvYlAM927S27YqhkSIcbEcO1luQr/hp84+zHvUFCYqfFWuutgSFLz5Fbs4rzQUnysPPGN X-Received: by 2002:a05:6602:3f81:b0:887:773f:6c89 with SMTP id ca18e2360f4ac-92c827506b9mr590515539f.11.1759191499714; Mon, 29 Sep 2025 17:18:19 -0700 (PDT) Received: from postal.iol.unh.edu (postal.iol.unh.edu. [2606:4100:3880:1234::84]) by smtp-relay.gmail.com with ESMTPS id 8926c6da1cb9f-571ff5cf0b8sm363475173.30.2025.09.29.17.18.19 (version=TLS1_2 cipher=ECDHE-ECDSA-AES128-GCM-SHA256 bits=128/128); Mon, 29 Sep 2025 17:18:19 -0700 (PDT) X-Relaying-Domain: iol.unh.edu Date: Mon, 29 Sep 2025 17:18:19 -0700 (PDT) Message-ID: <68db21cb.050a0220.e48d7.5d1dSMTPIN_ADDED_MISSING@mx.google.com> Received: from [172.21.0.2] (unknown [172.18.0.240]) by postal.iol.unh.edu (Postfix) with ESMTP id 3A04E6051830; Mon, 29 Sep 2025 20:18:19 -0400 (EDT) Subject: |SUCCESS| pw157034-157035 [PATCH] [v4,2/2] crypto/ipsec-mb: use cons From: dpdklab@iol.unh.edu To: Test Report Cc: dpdk-test-reports@iol.unh.edu In-Reply-To: <20250929145049.153078-2-kai.ji@intel.com> References: <20250929145049.153078-2-kai.ji@intel.com> Content-Type: text/plain X-BeenThere: test-report@dpdk.org X-Mailman-Version: 2.1.29 Precedence: list List-Id: automatic DPDK test reports List-Unsubscribe: , List-Archive: List-Post: List-Help: List-Subscribe: , Errors-To: test-report-bounces@dpdk.org Test-Label: iol-unit-arm64-testing Test-Status: SUCCESS http://dpdk.org/patch/157035 _Testing PASS_ Submitter: Kai Ji Date: Monday, September 29 2025 14:50:49 DPDK git baseline: Repo:dpdk Branch: master CommitID:1d627ea13aeec2bcccf27246e6be2508370d171e 157034-157035 --> testing pass Upstream job id: Generic-Unit-Test-DPDK#376291 Test environment and result as below: +------------------------------+--------------+---------------------------+------------------------------+----------------+ | Environment | lpm_autotest | cryptodev_sw_zuc_autotest | cryptodev_sw_snow3g_autotest | dpdk_unit_test | +==============================+==============+===========================+==============================+================+ | Ubuntu 20.04 | PASS | SKIPPED | SKIPPED | PASS | +------------------------------+--------------+---------------------------+------------------------------+----------------+ | Debian 12 (arm) | SKIPPED | PASS | PASS | SKIPPED | +------------------------------+--------------+---------------------------+------------------------------+----------------+ | CentOS Stream 10 | SKIPPED | SKIPPED | SKIPPED | PASS | +------------------------------+--------------+---------------------------+------------------------------+----------------+ | Fedora Linux 42 | SKIPPED | SKIPPED | SKIPPED | PASS | +------------------------------+--------------+---------------------------+------------------------------+----------------+ | CentOS Stream 9 | SKIPPED | SKIPPED | SKIPPED | PASS | +------------------------------+--------------+---------------------------+------------------------------+----------------+ | Fedora Linux 41 | SKIPPED | SKIPPED | SKIPPED | PASS | +------------------------------+--------------+---------------------------+------------------------------+----------------+ | Debian GNU/Linux 12 | SKIPPED | SKIPPED | SKIPPED | PASS | +------------------------------+--------------+---------------------------+------------------------------+----------------+ | Ubuntu 24.04 | SKIPPED | SKIPPED | SKIPPED | PASS | +------------------------------+--------------+---------------------------+------------------------------+----------------+ | Fedora Linux 40 | SKIPPED | SKIPPED | SKIPPED | PASS | +------------------------------+--------------+---------------------------+------------------------------+----------------+ | Red Hat Enterprise Linux 9.5 | SKIPPED | SKIPPED | SKIPPED | PASS | +------------------------------+--------------+---------------------------+------------------------------+----------------+ | Ubuntu 22.04 | SKIPPED | SKIPPED | SKIPPED | PASS | +------------------------------+--------------+---------------------------+------------------------------+----------------+ Ubuntu 20.04 Kernel: 5.4 Compiler: gcc gcc (Ubuntu 9.4.0-1ubuntu1~20.04.2) 9.4.0 Debian 12 (arm) Kernel: Depends on container host Compiler: gcc (Debian 12.2.0-14) 12.2.0 CentOS Stream 10 Kernel: 5.4 Compiler: gcc gcc (GCC) 14.2.1 20250110 (Red Hat 14.2.1-8) Fedora Linux 42 Kernel: 5.4 Compiler: clang gcc (GCC) 15.2.1 20250808 (Red Hat 15.2.1-1) CentOS Stream 9 Kernel: 5.4 Compiler: gcc gcc (GCC) 11.5.0 20240719 (Red Hat 11.5.0-11) Fedora Linux 41 Kernel: 5.4 Compiler: gcc gcc (GCC) 14.3.1 20250523 (Red Hat 14.3.1-1) Debian GNU/Linux 12 Kernel: 5.4 Compiler: gcc gcc (Debian 12.2.0-14+deb12u1) 12.2.0 Ubuntu 24.04 Kernel: 5.4 Compiler: gcc gcc (Ubuntu 13.3.0-6ubuntu2~24.04) 13.3.0 Fedora Linux 40 Kernel: 5.4 Compiler: clang gcc (GCC) 14.2.1 20240912 (Red Hat 14.2.1-3) Red Hat Enterprise Linux 9.5 Kernel: 5.4 Compiler: gcc gcc (GCC) 11.5.0 20240719 (Red Hat 11.5.0-2) Ubuntu 22.04 Kernel: 5.4 Compiler: gcc gcc (Ubuntu 11.4.0-1ubuntu1~22.04) 11.4.0 To view detailed results, visit: https://lab.dpdk.org/results/dashboard/patchsets/34172/ UNH-IOL DPDK Community Lab To manage your email subscriptions, visit: https://lab.dpdk.org/results/dashboard/preferences/subscriptions/