From mboxrd@z Thu Jan 1 00:00:00 1970 Return-Path: Received: from mails.dpdk.org (mails.dpdk.org [217.70.189.124]) by inbox.dpdk.org (Postfix) with ESMTP id 8945648868 for ; Tue, 30 Sep 2025 02:51:36 +0200 (CEST) Received: from mails.dpdk.org (localhost [127.0.0.1]) by mails.dpdk.org (Postfix) with ESMTP id 5F356402A2; Tue, 30 Sep 2025 02:51:36 +0200 (CEST) Received: from mail-il1-f225.google.com (mail-il1-f225.google.com [209.85.166.225]) by mails.dpdk.org (Postfix) with ESMTP id C3111402A2 for ; Tue, 30 Sep 2025 02:51:34 +0200 (CEST) Received: by mail-il1-f225.google.com with SMTP id e9e14a558f8ab-42861442ec5so27600705ab.0 for ; Mon, 29 Sep 2025 17:51:34 -0700 (PDT) DKIM-Signature: v=1; a=rsa-sha256; c=relaxed/relaxed; d=iol.unh.edu; s=unh-iol; t=1759193494; x=1759798294; darn=dpdk.org; h=cc:to:from:subject:message-id:date:from:to:cc:subject:date :message-id:reply-to; bh=FtjiWFpKJG+TD6aoHC4ND6vd5FDFPYX4RrcdM65G9dI=; b=etxbPBi8yxIdkGGWI3dBhrdlzzArRL0Q76l/50N41e8oiq0NKKUs+U7eSctim3n89O TCra7UjEY6RvVTf2K6PVNxASksvzEPTwbonvsPqHhdV3F8s65i45HEfU4CWLPWVNzN4H KttadgH/hRQMMiYWgYWl5B2q+w9qswsGj6GQg= X-Google-DKIM-Signature: v=1; a=rsa-sha256; c=relaxed/relaxed; d=1e100.net; s=20230601; t=1759193494; x=1759798294; h=cc:to:from:subject:message-id:date:x-gm-message-state:from:to:cc :subject:date:message-id:reply-to; bh=FtjiWFpKJG+TD6aoHC4ND6vd5FDFPYX4RrcdM65G9dI=; b=SHjXRR46+/DYrniD4Re1aW/V7Vl5zAkBu8z4V0GppeGbWVbYOJddZaSupg/i9sxdQV XM7cmBVUbBesepQInAhfiBlarBDJHft888tnQob1BH+M3wgnPvDxY/1nbAMOv2rd6hSH iFyc+hIbjjEOf881ofib8klvKDaPvDCGLdRfmhMuwRJjdnGLr0sYPjvcvtg00LU79UW0 BPuFM9RKAwWD71qFRlxLZhs3jDXBzI3Y6Up1tQshltBHGsKFAxZrrz2GxW6VQeF+LuuH l8CDs4ZjBQYjuo0sl1Pf517eadi0zkCgGDSv4xnQyBTcz6jNWWEQKS0m3RARNKX48hbZ i7XQ== X-Gm-Message-State: AOJu0YyJ3k0F2zYpwfywHDn3B6o82JQWaL2MGloLEQIp2uYpiDcKbPzT sSySB7kCL9bidaPoVaTzGVfwAz9vjMYR84i00qsNBPsbW2BymytSo+TTPBK18KM1g/CRFtwdBFF iXOzJfes3S4b/VAT+evgLS9iVm6Vut1jCTWmNUutISEcHTnzAGzg24Si3+gvw X-Gm-Gg: ASbGncvEEIK260lk0BXr9k3NH2QKhs+dAfzHX1/ld1HW/KVu2h9DUDlvSSO0MFiIgSf 9bzMnQdGuVn0LwhVSXHJyfeT8KMsNBl4RfCNw8JnqGNmMbnsyWR9moL8bmRyTlNQlpeQySR44xL 9nOq3+tm66XPXM+KD4+3Goo0THJng+mqkML+cCOBpmDbln+Qx2aaslyZT5mMcSyolltR/uyFpkK AbabWE5nwpBEfkxbgUWi9l+jjlJfKyMPVEtnQU7UigXEj2YSN/UZmEh8NIYTeE8wdFkfY9vJuvE 3jshFUS+Imk39cvmoPm9ursYnP82N6MaYJ3Fu4WG8nCoHNuCQQ== X-Google-Smtp-Source: AGHT+IG+X5u/x4uK3V6GgZn1YUUu+R70dHcXm+6KQMFwtGdwpEEXFlwT6zFS9gH9QAavDirt3euN5jIAFt3j X-Received: by 2002:a05:6e02:2287:b0:427:bdc6:1c7e with SMTP id e9e14a558f8ab-427bdc61db2mr195701275ab.15.1759193494076; Mon, 29 Sep 2025 17:51:34 -0700 (PDT) Received: from postal.iol.unh.edu (postal.iol.unh.edu. [2606:4100:3880:1234::84]) by smtp-relay.gmail.com with ESMTPS id 8926c6da1cb9f-57715084e33sm77121173.16.2025.09.29.17.51.34 (version=TLS1_2 cipher=ECDHE-ECDSA-AES128-GCM-SHA256 bits=128/128); Mon, 29 Sep 2025 17:51:34 -0700 (PDT) X-Relaying-Domain: iol.unh.edu Date: Mon, 29 Sep 2025 17:51:34 -0700 (PDT) Message-ID: <68db2996.050a0220.e6737.5748SMTPIN_ADDED_MISSING@mx.google.com> Received: from [172.21.0.2] (unknown [172.18.0.240]) by postal.iol.unh.edu (Postfix) with ESMTP id B62986051830; Mon, 29 Sep 2025 20:51:33 -0400 (EDT) Subject: |SUCCESS| [GIT MASTER] 1d627ea13aeec2bcccf27246e6be2508370d171e From: dpdklab@iol.unh.edu To: Test Report Cc: dpdk-test-reports@iol.unh.edu Content-Type: text/plain X-BeenThere: test-report@dpdk.org X-Mailman-Version: 2.1.29 Precedence: list List-Id: automatic DPDK test reports List-Unsubscribe: , List-Archive: List-Post: List-Help: List-Subscribe: , Errors-To: test-report-bounces@dpdk.org _Testing PASS_ Branch: dpdk 1d627ea13aeec2bcccf27246e6be2508370d171e --> testing pass Upstream job id: Generic-VM-Unit-Test-DPDK#31474 Test environment and result as below: +-------------------------------+----------------+ | Environment | dpdk_unit_test | +===============================+================+ | Fedora Linux 40 | PASS | +-------------------------------+----------------+ | Ubuntu 24.04 | PASS | +-------------------------------+----------------+ | Debian GNU/Linux 12 | PASS | +-------------------------------+----------------+ | CentOS Stream 9 | PASS | +-------------------------------+----------------+ | Fedora Linux 41 | PASS | +-------------------------------+----------------+ | Red Hat Enterprise Linux 9.5 | PASS | +-------------------------------+----------------+ | CentOS Stream 10 | PASS | +-------------------------------+----------------+ | Arch Linux 20250613.0.365270 | PASS | +-------------------------------+----------------+ | Fedora Linux 42 | PASS | +-------------------------------+----------------+ | Ubuntu 20.04 | PASS | +-------------------------------+----------------+ | Red Hat Enterprise Linux 8.10 | PASS | +-------------------------------+----------------+ | Ubuntu 22.04 | PASS | +-------------------------------+----------------+ | Windows Server 2022 | PASS | +-------------------------------+----------------+ Fedora Linux 40 Kernel: 5.15 Compiler: gcc gcc (GCC) 14.2.1 20240912 (Red Hat 14.2.1-3) Ubuntu 24.04 Kernel: 5.15 Compiler: gcc gcc (Ubuntu 13.3.0-6ubuntu2~24.04) 13.3.0 Debian GNU/Linux 12 Kernel: 5.15 Compiler: gcc gcc (Debian 12.2.0-14+deb12u1) 12.2.0 CentOS Stream 9 Kernel: 5.15 Compiler: gcc gcc (GCC) 11.5.0 20240719 (Red Hat 11.5.0-11) Fedora Linux 41 Kernel: 5.15 Compiler: clang gcc (GCC) 14.3.1 20250523 (Red Hat 14.3.1-1) Red Hat Enterprise Linux 9.5 Kernel: 5.15 Compiler: gcc gcc (GCC) 11.5.0 20240719 (Red Hat 11.5.0-2) CentOS Stream 10 Kernel: 5.15 Compiler: gcc gcc (GCC) 14.2.1 20250110 (Red Hat 14.2.1-8) Arch Linux 20250613.0.365270 Kernel: 5.15 Compiler: gcc gcc (GCC) 15.1.1 20250425 Fedora Linux 42 Kernel: 5.15 Compiler: clang gcc (GCC) 15.2.1 20250808 (Red Hat 15.2.1-1) Ubuntu 20.04 Kernel: 5.15 Compiler: gcc gcc (Ubuntu 9.4.0-1ubuntu1~20.04.2) 9.4.0 Red Hat Enterprise Linux 8.10 Kernel: 5.15 Compiler: gcc gcc (GCC) 8.5.0 20210514 (Red Hat 8.5.0-22) Ubuntu 22.04 Kernel: 5.15 Compiler: gcc gcc (Ubuntu 11.4.0-1ubuntu1~22.04) 11.4.0 Windows Server 2022 Kernel: 10.0.20348.2031 Compiler: clang 15.0.7, gcc 14.1.0 (MinGW), and MSVC VS 19.39.33521 To view detailed results, visit: https://lab.dpdk.org/results/dashboard/tarballs/35050/ UNH-IOL DPDK Community Lab To manage your email subscriptions, visit: https://lab.dpdk.org/results/dashboard/preferences/subscriptions/