From mboxrd@z Thu Jan 1 00:00:00 1970 Return-Path: Received: from mails.dpdk.org (mails.dpdk.org [217.70.189.124]) by inbox.dpdk.org (Postfix) with ESMTP id E87EE48868 for ; Tue, 30 Sep 2025 02:55:31 +0200 (CEST) Received: from mails.dpdk.org (localhost [127.0.0.1]) by mails.dpdk.org (Postfix) with ESMTP id CC987402A2; Tue, 30 Sep 2025 02:55:31 +0200 (CEST) Received: from mail-il1-f228.google.com (mail-il1-f228.google.com [209.85.166.228]) by mails.dpdk.org (Postfix) with ESMTP id D6E82402A2 for ; Tue, 30 Sep 2025 02:55:29 +0200 (CEST) Received: by mail-il1-f228.google.com with SMTP id e9e14a558f8ab-42571642aa7so27906735ab.0 for ; Mon, 29 Sep 2025 17:55:29 -0700 (PDT) DKIM-Signature: v=1; a=rsa-sha256; c=relaxed/relaxed; d=iol.unh.edu; s=unh-iol; t=1759193729; x=1759798529; darn=dpdk.org; h=cc:to:from:subject:message-id:date:from:to:cc:subject:date :message-id:reply-to; bh=fMYffEjfJ1ZDo31/tZD3B79dXl8ZCX0Jhhram4emRQA=; b=T/GaKYt++wS6SL2HDFAyGETBtSV40pOQYN7JMHc0ggCTBaBOEcI4oNcRas3zLEByLe Ye5Kh5nW896kVKoT8qk57NyVFEOOLw+FGZTuV223z6tHGE6nIltbqABwYIvpknbTSPu9 +YjkmNAd0PTgPTWswDIMqlPt1SB1OHQXdCIRU= X-Google-DKIM-Signature: v=1; a=rsa-sha256; c=relaxed/relaxed; d=1e100.net; s=20230601; t=1759193729; x=1759798529; h=cc:to:from:subject:message-id:date:x-gm-message-state:from:to:cc :subject:date:message-id:reply-to; bh=fMYffEjfJ1ZDo31/tZD3B79dXl8ZCX0Jhhram4emRQA=; b=E45TwdfyzaDZXCqhELRxdRaOC2wkxDY4ajMs88IsTHg3eGO7neiITNA+NLTToGrupK NUQueGiHUihG6seNgfqDIIGLS3hoTo5scSnGZRPeG4aro5A4KLkklSyU//xl1IMb9K/8 LpT1rsQBLZedw17/fxBjvhuYKhQGJmDjbinj0eB7tNpQYITkgpVPOO6r70UIHUAeR2z3 lIEuEMhm0lpABWHxt50KxExl/i8nSb1ClbJnMoC9JZCR6+/pkD2jMPA1KdA6HU27O3qL 8fuz58mhRPPuvpUZp3skeuhkpOEO7fr6VpZ1DCf5eVTiJ4RAUQyAtwl9MsaUDfkpaL2p LEEw== X-Gm-Message-State: AOJu0YxMeh73oci0+CTs7zZnfGnDi059Jh2FMgKWXS6GfmUxroH0fvHm U0HL6N9t+wq/eRym8EKdIu7eyqN91YtRAnU1zlSrsIOKMgbGS6pqf/tU6PmrodIQJQ1ZeZWJfql txwL2paijdaDv9EqcVLb2LUbpEi+nuUudc1rDML5u4Xb4uxnOpwnToAZo3Rcx X-Gm-Gg: ASbGncs0TIBlfuDUorKNZSlexDp7D6VrJXeziHz8/a3AF8xn44Lm8vp7dQKPekqdpV1 89NyeEasbOjubCJaVPFr51KnKHh40kjmBE78rjSWEWfZcjrvymK5BnZy9++LB7ojb8BbwwFAuS5 D6Tz3eCy6CMm0oeFFP9imXldsm0qT0eBAtEQJNWFQH118+K/DFxcyiAAzb2h9p6llawDlvbMdn0 x+TVMF4bqbrpGqbwCffUICh5iAoIW6eqXeE5A2mq/SKNocUMyVxp9Jbt+VcY3wDoMIW+d38GUzM 4nyatTf8HDQ4/0p3wk7+o2lMf/KBxWSTHVFjKSjcvQHIADzJyQ== X-Google-Smtp-Source: AGHT+IFmqfkB6hW97BOrifWM9UjQnGndTrYsdXci4C5JRyLAicjoZUGFzs9t8oImlBV+ORwPlcuC37f29Qkj X-Received: by 2002:a05:6e02:3a03:b0:427:7824:4940 with SMTP id e9e14a558f8ab-42778244aaamr186153825ab.2.1759193729032; Mon, 29 Sep 2025 17:55:29 -0700 (PDT) Received: from postal.iol.unh.edu (postal.iol.unh.edu. [2606:4100:3880:1234::84]) by smtp-relay.gmail.com with ESMTPS id e9e14a558f8ab-425bfd92498sm8974385ab.34.2025.09.29.17.55.28 (version=TLS1_2 cipher=ECDHE-ECDSA-AES128-GCM-SHA256 bits=128/128); Mon, 29 Sep 2025 17:55:29 -0700 (PDT) X-Relaying-Domain: iol.unh.edu Date: Mon, 29 Sep 2025 17:55:29 -0700 (PDT) Message-ID: <68db2a81.050a0220.31de82.6618SMTPIN_ADDED_MISSING@mx.google.com> Received: from [172.21.0.3] (unknown [172.18.0.240]) by postal.iol.unh.edu (Postfix) with ESMTP id A7EBD6051830; Mon, 29 Sep 2025 20:55:28 -0400 (EDT) Subject: |SUCCESS| [GIT MASTER] 1d627ea13aeec2bcccf27246e6be2508370d171e From: dpdklab@iol.unh.edu To: Test Report Cc: dpdk-test-reports@iol.unh.edu Content-Type: text/plain X-BeenThere: test-report@dpdk.org X-Mailman-Version: 2.1.29 Precedence: list List-Id: automatic DPDK test reports List-Unsubscribe: , List-Archive: List-Post: List-Help: List-Subscribe: , Errors-To: test-report-bounces@dpdk.org _Testing PASS_ Branch: dpdk 1d627ea13aeec2bcccf27246e6be2508370d171e --> testing pass Upstream job id: Generic-DPDK-Compile-Meson#429831 Test environment and result as below: +-------------------------------+--------------------+------------------+-------------------+-------------------+-------------------------+----------------------+ | Environment | dpdk_meson_compile | dpdk_compile_ovs | dpdk_compile_spdk | dpdk_msvc_compile | dpdk_llvm_clang_compile | dpdk_mingw64_compile | +===============================+====================+==================+===================+===================+=========================+======================+ | Ubuntu 20.04 | PASS | SKIPPED | SKIPPED | SKIPPED | SKIPPED | SKIPPED | +-------------------------------+--------------------+------------------+-------------------+-------------------+-------------------------+----------------------+ | Fedora Linux 42 | PASS | PASS | PASS | SKIPPED | SKIPPED | SKIPPED | +-------------------------------+--------------------+------------------+-------------------+-------------------+-------------------------+----------------------+ | CentOS Stream 9 | PASS | SKIPPED | PASS | SKIPPED | SKIPPED | SKIPPED | +-------------------------------+--------------------+------------------+-------------------+-------------------+-------------------------+----------------------+ | Arch Linux 20250613.0.365270 | PASS | SKIPPED | SKIPPED | SKIPPED | SKIPPED | SKIPPED | +-------------------------------+--------------------+------------------+-------------------+-------------------+-------------------------+----------------------+ | CentOS Stream 10 | PASS | SKIPPED | SKIPPED | SKIPPED | SKIPPED | SKIPPED | +-------------------------------+--------------------+------------------+-------------------+-------------------+-------------------------+----------------------+ | Debian GNU/Linux 12 | PASS | SKIPPED | PASS | SKIPPED | SKIPPED | SKIPPED | +-------------------------------+--------------------+------------------+-------------------+-------------------+-------------------------+----------------------+ | Red Hat Enterprise Linux 9.5 | PASS | SKIPPED | SKIPPED | SKIPPED | SKIPPED | SKIPPED | +-------------------------------+--------------------+------------------+-------------------+-------------------+-------------------------+----------------------+ | openSUSE Leap 15.6 | PASS | SKIPPED | SKIPPED | SKIPPED | SKIPPED | SKIPPED | +-------------------------------+--------------------+------------------+-------------------+-------------------+-------------------------+----------------------+ | Ubuntu 22.04 | PASS | SKIPPED | PASS | SKIPPED | SKIPPED | SKIPPED | +-------------------------------+--------------------+------------------+-------------------+-------------------+-------------------------+----------------------+ | FreeBSD 14.2 | PASS | SKIPPED | SKIPPED | SKIPPED | SKIPPED | SKIPPED | +-------------------------------+--------------------+------------------+-------------------+-------------------+-------------------------+----------------------+ | Red Hat Enterprise Linux 8.10 | PASS | SKIPPED | SKIPPED | SKIPPED | SKIPPED | SKIPPED | +-------------------------------+--------------------+------------------+-------------------+-------------------+-------------------------+----------------------+ | Ubuntu 24.04 | PASS | PASS | PASS | SKIPPED | SKIPPED | SKIPPED | +-------------------------------+--------------------+------------------+-------------------+-------------------+-------------------------+----------------------+ | Alpine Linux 3.22.0 | PASS | SKIPPED | SKIPPED | SKIPPED | SKIPPED | SKIPPED | +-------------------------------+--------------------+------------------+-------------------+-------------------+-------------------------+----------------------+ | Windows Server 2022 | SKIPPED | SKIPPED | SKIPPED | PASS | PASS | PASS | +-------------------------------+--------------------+------------------+-------------------+-------------------+-------------------------+----------------------+ Ubuntu 20.04 Kernel: 5.15 Compiler: gcc gcc (Ubuntu 9.4.0-1ubuntu1~20.04.2) 9.4.0 Fedora Linux 42 Kernel: 5.15 Compiler: clang gcc (GCC) 15.2.1 20250808 (Red Hat 15.2.1-1) CentOS Stream 9 Kernel: 5.15 Compiler: gcc gcc (GCC) 11.5.0 20240719 (Red Hat 11.5.0-11) Arch Linux 20250613.0.365270 Kernel: 5.15 Compiler: gcc gcc (GCC) 15.1.1 20250425 CentOS Stream 10 Kernel: 5.15 Compiler: gcc gcc (GCC) 14.2.1 20250110 (Red Hat 14.2.1-8) Debian GNU/Linux 12 Kernel: 5.15 Compiler: gcc gcc (Debian 12.2.0-14+deb12u1) 12.2.0 Red Hat Enterprise Linux 9.5 Kernel: 5.15 Compiler: gcc gcc (GCC) 11.5.0 20240719 (Red Hat 11.5.0-2) openSUSE Leap 15.6 Kernel: 5.15 Compiler: gcc gcc (SUSE Linux) 7.5.0 Ubuntu 22.04 Kernel: 5.15 Compiler: gcc gcc (Ubuntu 11.4.0-1ubuntu1~22.04) 11.4.0 FreeBSD 14.2 Kernel: 14.2-RELEASE Compiler: clang 18.1.6 Red Hat Enterprise Linux 8.10 Kernel: 5.15 Compiler: gcc gcc (GCC) 8.5.0 20210514 (Red Hat 8.5.0-22) Ubuntu 24.04 Kernel: 5.15 Compiler: gcc gcc (Ubuntu 13.3.0-6ubuntu2~24.04) 13.3.0 Alpine Linux 3.22.0 Kernel: 5.15 Compiler: gcc gcc (Alpine 14.2.0) 14.2.0 Windows Server 2022 Kernel: 10.0.20348.2031 Compiler: clang 15.0.7, gcc 14.1.0 (MinGW), and MSVC VS 19.39.33521 To view detailed results, visit: https://lab.dpdk.org/results/dashboard/tarballs/35050/ UNH-IOL DPDK Community Lab To manage your email subscriptions, visit: https://lab.dpdk.org/results/dashboard/preferences/subscriptions/