From mboxrd@z Thu Jan 1 00:00:00 1970 Return-Path: Received: from mails.dpdk.org (mails.dpdk.org [217.70.189.124]) by inbox.dpdk.org (Postfix) with ESMTP id 0931F48868 for ; Tue, 30 Sep 2025 02:56:26 +0200 (CEST) Received: from mails.dpdk.org (localhost [127.0.0.1]) by mails.dpdk.org (Postfix) with ESMTP id EFCDE402A2; Tue, 30 Sep 2025 02:56:25 +0200 (CEST) Received: from mail-vs1-f100.google.com (mail-vs1-f100.google.com [209.85.217.100]) by mails.dpdk.org (Postfix) with ESMTP id 25402402A2 for ; Tue, 30 Sep 2025 02:56:24 +0200 (CEST) Received: by mail-vs1-f100.google.com with SMTP id ada2fe7eead31-5b658b006e2so1922213137.0 for ; Mon, 29 Sep 2025 17:56:24 -0700 (PDT) DKIM-Signature: v=1; a=rsa-sha256; c=relaxed/relaxed; d=iol.unh.edu; s=unh-iol; t=1759193783; x=1759798583; darn=dpdk.org; h=cc:to:from:subject:message-id:date:from:to:cc:subject:date :message-id:reply-to; bh=FIfMQS/WTWLxtLtlbpNNSYTBtXR5aeMEV1V62/2XOPo=; b=UCXqh3sNO4mIgQyIylh0GAULj9PzfKBNHMUslcFdSVXDY7zSjC8F2ckTnWJvSMSk6K iyr/ifyFhROKJYbfVUCcpkuMo4I+plW6sFFD2/lKDrSZr3DmJwbbOBLMOIA6eEbWjQhX +xGvW6hsgOHQhzwtRM5sFYkr7udSue3upmNAc= X-Google-DKIM-Signature: v=1; a=rsa-sha256; c=relaxed/relaxed; d=1e100.net; s=20230601; t=1759193783; x=1759798583; h=cc:to:from:subject:message-id:date:x-gm-message-state:from:to:cc :subject:date:message-id:reply-to; bh=FIfMQS/WTWLxtLtlbpNNSYTBtXR5aeMEV1V62/2XOPo=; b=p8vfqt/Z+t4QDkrC/KBIYPdQeCw6wmx3uXKPsDUkfV3jFWOZ/jS3u8X4PKcm1ZvcSu TMS0lwGL25sK1+tzuCbsT9/j2yI6fEfbRHpCv1nZ6r9MJ2rhkKXUxKWE9bvw4vbYdljG 0Jlc0En5QL6446NaZkUdXU4AL2hgUvVu5lsZbuVDPQSP85iG2bsaqoA79IeZlutukOpL sAxqsZviiD4Fr7ChjeHqI3Xb/TcY5fQ3Ml8WTSHX+aUoZK8pqjPiYj0nnqSNJ+WBQuAY vN5kms5gGQaj4cFfcchgTs3OKJBGxLZaQYY3Y0S3DAZzvYMYBEfxj3V7nOeZF8oCuvG+ eemA== X-Gm-Message-State: AOJu0Yy2+DU5KhOCK8fugFQutc1WwGLkUQZcuttnFAasxztquyY0k8LH clLEm6DuyVOyJpuvHci2h5M87ZQ0N3J5IU4pxeVXLZUxFCgGtTmF+cxuPCgn0kzfLXpAHj8787P fh5/dHrAtT6rtHyegFyfSKgSPCazvHvTe2dp0j+sTXkZGxsFN1kwNRN74hcpS X-Gm-Gg: ASbGncvkQp4HNKaWmWPT7szrx8imF87fQEaEttF/CP7+Z9g0JVjo7wLWz4ZTF8DK7nd oMmgN5/64xi3So8RE/BS9hGucCN9cLbdfCvb50xkjoW+Ed0hK7nhko2LnbCx+mlfdPiE0SWB6r+ aTHQsMR47NnBFpclwr5qZxYVY9iH9zHqxY5d6Ju58VnAeWnXW3JUy+3wpc6bs3LirmPMr6ZspR8 4P67cXIGAUEwoYKpMAik081EcP+igWZ3y6JTulY+wGf7whKgzH8xsUoDGijX4eco+xouT10uPoN Vgd+j39s9d4NQq7J4172KB4qDX9xfLqBDRt/65ImHeN6/6V8sqZGY9U= X-Google-Smtp-Source: AGHT+IFzXnnC2C4KXNX63RadIoSABKMoJt+MNcoFIPzlJD7qId4WvYG1DGfgdv0yB6+PiPDFdlpd8ZVULiVm X-Received: by 2002:a05:6102:c93:b0:524:2917:61a9 with SMTP id ada2fe7eead31-5acd15cbedfmr7518693137.34.1759193783427; Mon, 29 Sep 2025 17:56:23 -0700 (PDT) Received: from postal.iol.unh.edu (postal.iol.unh.edu. [2606:4100:3880:1234::84]) by smtp-relay.gmail.com with ESMTPS id ada2fe7eead31-5ae2412ee52sm997902137.0.2025.09.29.17.56.23 (version=TLS1_2 cipher=ECDHE-ECDSA-AES128-GCM-SHA256 bits=128/128); Mon, 29 Sep 2025 17:56:23 -0700 (PDT) X-Relaying-Domain: iol.unh.edu Date: Mon, 29 Sep 2025 17:56:23 -0700 (PDT) Message-ID: <68db2ab7.050a0220.1798cc.dc11SMTPIN_ADDED_MISSING@mx.google.com> Received: from [172.21.0.2] (unknown [172.18.0.240]) by postal.iol.unh.edu (Postfix) with ESMTP id F2A416051830; Mon, 29 Sep 2025 20:56:22 -0400 (EDT) Subject: |SUCCESS| [GIT MASTER] 1d627ea13aeec2bcccf27246e6be2508370d171e From: dpdklab@iol.unh.edu To: Test Report Cc: dpdk-test-reports@iol.unh.edu Content-Type: text/plain X-BeenThere: test-report@dpdk.org X-Mailman-Version: 2.1.29 Precedence: list List-Id: automatic DPDK test reports List-Unsubscribe: , List-Archive: List-Post: List-Help: List-Subscribe: , Errors-To: test-report-bounces@dpdk.org _Testing PASS_ Branch: dpdk 1d627ea13aeec2bcccf27246e6be2508370d171e --> testing pass Upstream job id: Generic-VM-Unit-Test-DPDK#31475 Test environment and result as below: +-------------------------------+----------------+ | Environment | dpdk_unit_test | +===============================+================+ | Fedora Linux 40 | PASS | +-------------------------------+----------------+ | Ubuntu 24.04 | PASS | +-------------------------------+----------------+ | Debian GNU/Linux 12 | PASS | +-------------------------------+----------------+ | CentOS Stream 9 | PASS | +-------------------------------+----------------+ | Fedora Linux 41 | PASS | +-------------------------------+----------------+ | Red Hat Enterprise Linux 9.5 | PASS | +-------------------------------+----------------+ | CentOS Stream 10 | PASS | +-------------------------------+----------------+ | Arch Linux 20250613.0.365270 | PASS | +-------------------------------+----------------+ | Fedora Linux 42 | PASS | +-------------------------------+----------------+ | Ubuntu 20.04 | PASS | +-------------------------------+----------------+ | Red Hat Enterprise Linux 8.10 | PASS | +-------------------------------+----------------+ | Ubuntu 22.04 | PASS | +-------------------------------+----------------+ | Windows Server 2022 | PASS | +-------------------------------+----------------+ Fedora Linux 40 Kernel: 5.15 Compiler: gcc gcc (GCC) 14.2.1 20240912 (Red Hat 14.2.1-3) Ubuntu 24.04 Kernel: 5.15 Compiler: gcc gcc (Ubuntu 13.3.0-6ubuntu2~24.04) 13.3.0 Debian GNU/Linux 12 Kernel: 5.15 Compiler: gcc gcc (Debian 12.2.0-14+deb12u1) 12.2.0 CentOS Stream 9 Kernel: 5.15 Compiler: gcc gcc (GCC) 11.5.0 20240719 (Red Hat 11.5.0-11) Fedora Linux 41 Kernel: 5.15 Compiler: clang gcc (GCC) 14.3.1 20250523 (Red Hat 14.3.1-1) Red Hat Enterprise Linux 9.5 Kernel: 5.15 Compiler: gcc gcc (GCC) 11.5.0 20240719 (Red Hat 11.5.0-2) CentOS Stream 10 Kernel: 5.15 Compiler: gcc gcc (GCC) 14.2.1 20250110 (Red Hat 14.2.1-8) Arch Linux 20250613.0.365270 Kernel: 5.15 Compiler: gcc gcc (GCC) 15.1.1 20250425 Fedora Linux 42 Kernel: 5.15 Compiler: clang gcc (GCC) 15.2.1 20250808 (Red Hat 15.2.1-1) Ubuntu 20.04 Kernel: 5.15 Compiler: gcc gcc (Ubuntu 9.4.0-1ubuntu1~20.04.2) 9.4.0 Red Hat Enterprise Linux 8.10 Kernel: 5.15 Compiler: gcc gcc (GCC) 8.5.0 20210514 (Red Hat 8.5.0-22) Ubuntu 22.04 Kernel: 5.15 Compiler: gcc gcc (Ubuntu 11.4.0-1ubuntu1~22.04) 11.4.0 Windows Server 2022 Kernel: 10.0.20348.2031 Compiler: clang 15.0.7, gcc 14.1.0 (MinGW), and MSVC VS 19.39.33521 To view detailed results, visit: https://lab.dpdk.org/results/dashboard/tarballs/35050/ UNH-IOL DPDK Community Lab To manage your email subscriptions, visit: https://lab.dpdk.org/results/dashboard/preferences/subscriptions/