From mboxrd@z Thu Jan 1 00:00:00 1970 Return-Path: Received: from mails.dpdk.org (mails.dpdk.org [217.70.189.124]) by inbox.dpdk.org (Postfix) with ESMTP id 7BBB848869 for ; Tue, 30 Sep 2025 06:19:22 +0200 (CEST) Received: from mails.dpdk.org (localhost [127.0.0.1]) by mails.dpdk.org (Postfix) with ESMTP id 767F14026D; Tue, 30 Sep 2025 06:19:22 +0200 (CEST) Received: from mail-qt1-f225.google.com (mail-qt1-f225.google.com [209.85.160.225]) by mails.dpdk.org (Postfix) with ESMTP id A18094026D for ; Tue, 30 Sep 2025 06:19:12 +0200 (CEST) Received: by mail-qt1-f225.google.com with SMTP id d75a77b69052e-4dce9229787so48540451cf.0 for ; Mon, 29 Sep 2025 21:19:12 -0700 (PDT) DKIM-Signature: v=1; a=rsa-sha256; c=relaxed/relaxed; d=iol.unh.edu; s=unh-iol; t=1759205952; x=1759810752; darn=dpdk.org; h=cc:to:from:subject:message-id:date:from:to:cc:subject:date :message-id:reply-to; bh=EkaKzrD3RJkRaTleGBUm5C81IgxIjHCn9mu1e/eneOk=; b=JLnfGIsfp23RvsTLY5rbEyiIHb56lY0ATneA6P6UcqoetghNmK6WO53HblYjIA/NZG tNc81Byb5hgBMM8M75SwxEgc3QtSudYBlcGlblFEhX5IgdGfoeXEQnwSm+1Ra+MyeKy6 sELHj3YbMwmmb7uTu/VdtDn0o7TlM1RyWmKqQ= X-Google-DKIM-Signature: v=1; a=rsa-sha256; c=relaxed/relaxed; d=1e100.net; s=20230601; t=1759205952; x=1759810752; h=cc:to:from:subject:message-id:date:x-gm-message-state:from:to:cc :subject:date:message-id:reply-to; bh=EkaKzrD3RJkRaTleGBUm5C81IgxIjHCn9mu1e/eneOk=; b=OKMchq1hhb1kwtUfe4zRZ1ZlHZu21elUPR21sNu34b4IPQvUnZG27iTZN1ky5VoTn9 v/Jdfx599mMN4ItR/Dvbt85yGypbGdhaYKAnmpruPLqUOwDwNjWJ+XgB3h4RDUrWEGD5 uuKt6vIBmZvDcohdlLX7rzUCmUBzsfUvizjt9EPdG+QyuQ55/LHDX2CRGWvh1Vygit/z ETBf3uHHbQ1CYStWo+vg1K3PD9nLbk0NuOkd3qQSjZA8Si6oHrdAWAYIrYzFpgBDLoNW FUY9PvY1a/W2ayBM0QaIGM4UtFjFo6XbU3i9z4ybdcSsX2UqHj+Q1k0Em/0jzoPyXf6O 0oTg== X-Gm-Message-State: AOJu0YxfshU2dhDcAMlRxD4hXaDkhBaUy4mT6e4L4Hm4x7m88AU8cRSJ plPAn2WYgN+hFI17yTRUMoXk4fKw6SPvsnh/YBoe7D+dkDXASBGkBdhq0slSk4pWZcJ+JGhzLIA UluxzUNxgiTBWwfahCEsjEDFYiJpPHMhi2bK2DSS0rpRu/GeRzNTn X-Gm-Gg: ASbGncuVeG8ooh/N1Jv3T6Piz/neaUA9HbjbGB5wVE7fUyy+0MRESjRnDIDIfA1atzr 4Uo+untxs/Im4I1bO8qxMF/gAF3tjEzyhDufDqD5QI5tCAYt3aeac/YrhCoc5dw9vpGyKB6hNmc flJo5ipa1CqhBBKrod4U3Szl0j6MHZXUXB8/Y1cLwDY7GhxINSztpmeog4s7PO8+wGcoIOfiUEW jmhgYqJvSbXuinpP5APbVgGSyQiLkynJ7t8EJ53M/lvBttr2YNb/7wYY1FqzOR2qlxlJ5Y7BF6w TKOyaOCPkY0fhpK4t4eFyq85/gbjc+SnK/Dq7tmOvDLe3E4J//6IIPE= X-Google-Smtp-Source: AGHT+IESBPv9zYUAavC35n+Aaw46IFV+Pd0obWSFJF8SM6HJozH6NilU325SyOKq7tr6CXxQWI2n8JwwQmVn X-Received: by 2002:a05:622a:8c03:b0:4df:1196:f56f with SMTP id d75a77b69052e-4df1196f9c2mr113068781cf.83.1759205951982; Mon, 29 Sep 2025 21:19:11 -0700 (PDT) Received: from postal.iol.unh.edu (postal.iol.unh.edu. [2606:4100:3880:1234::84]) by smtp-relay.gmail.com with ESMTPS id 6a1803df08f44-80168db0ad0sm9796496d6.30.2025.09.29.21.19.11 (version=TLS1_2 cipher=ECDHE-ECDSA-AES128-GCM-SHA256 bits=128/128); Mon, 29 Sep 2025 21:19:11 -0700 (PDT) X-Relaying-Domain: iol.unh.edu Date: Mon, 29 Sep 2025 21:19:11 -0700 (PDT) Message-ID: <68db5a3f.d40a0220.37540.be33SMTPIN_ADDED_MISSING@mx.google.com> Received: from [172.21.0.4] (unknown [172.18.0.240]) by postal.iol.unh.edu (Postfix) with ESMTP id BB8BF6051830; Tue, 30 Sep 2025 00:19:11 -0400 (EDT) Subject: |SUCCESS| [GIT MASTER] 3b43ce3f4a54468e7ef65760c2fd7b4d6ee6d9fc From: dpdklab@iol.unh.edu To: Test Report Cc: dpdk-test-reports@iol.unh.edu, Xueming Li , Christian Ehrhardt , Kevin Traynor , Luca Boccassi Content-Type: text/plain X-BeenThere: test-report@dpdk.org X-Mailman-Version: 2.1.29 Precedence: list List-Id: automatic DPDK test reports List-Unsubscribe: , List-Archive: List-Post: List-Help: List-Subscribe: , Errors-To: test-report-bounces@dpdk.org _Testing PASS_ Branch: tags/v22.11 3b43ce3f4a54468e7ef65760c2fd7b4d6ee6d9fc --> testing pass Upstream job id: Generic-VM-DPDK-Compile-Meson#38675 Test environment and result as below: +---------------------+--------------------+-------------------------+----------------------+ | Environment | dpdk_meson_compile | dpdk_llvm_clang_compile | dpdk_mingw64_compile | +=====================+====================+=========================+======================+ | Ubuntu 20.04 | PASS | SKIPPED | SKIPPED | +---------------------+--------------------+-------------------------+----------------------+ | FreeBSD 14.2 | PASS | SKIPPED | SKIPPED | +---------------------+--------------------+-------------------------+----------------------+ | Windows Server 2022 | SKIPPED | PASS | PASS | +---------------------+--------------------+-------------------------+----------------------+ Ubuntu 20.04 Kernel: 4.19 Compiler: gcc gcc (Ubuntu 9.4.0-1ubuntu1~20.04.2) 9.4.0 FreeBSD 14.2 Kernel: 14.2-RELEASE Compiler: clang 18.1.6 Windows Server 2022 Kernel: 10.0.20348.2031 Compiler: clang 15.0.7, gcc 14.1.0 (MinGW), and MSVC VS 19.39.33521 To view detailed results, visit: https://lab.dpdk.org/results/dashboard/tarballs/35051/ UNH-IOL DPDK Community Lab To manage your email subscriptions, visit: https://lab.dpdk.org/results/dashboard/preferences/subscriptions/