From mboxrd@z Thu Jan 1 00:00:00 1970 Return-Path: Received: from mails.dpdk.org (mails.dpdk.org [217.70.189.124]) by inbox.dpdk.org (Postfix) with ESMTP id E15F148869 for ; Tue, 30 Sep 2025 06:22:17 +0200 (CEST) Received: from mails.dpdk.org (localhost [127.0.0.1]) by mails.dpdk.org (Postfix) with ESMTP id DBA0D4026D; Tue, 30 Sep 2025 06:22:17 +0200 (CEST) Received: from mail-pl1-f228.google.com (mail-pl1-f228.google.com [209.85.214.228]) by mails.dpdk.org (Postfix) with ESMTP id 99C094026D for ; Tue, 30 Sep 2025 06:22:16 +0200 (CEST) Received: by mail-pl1-f228.google.com with SMTP id d9443c01a7336-27c369f8986so52558575ad.3 for ; Mon, 29 Sep 2025 21:22:16 -0700 (PDT) DKIM-Signature: v=1; a=rsa-sha256; c=relaxed/relaxed; d=iol.unh.edu; s=unh-iol; t=1759206136; x=1759810936; darn=dpdk.org; h=cc:to:from:subject:message-id:date:from:to:cc:subject:date :message-id:reply-to; bh=PU5WBf5ruKzBr7GXGufFHfZHaVe7KuPFo9jANSx98qw=; b=fKRV5pfY8Ns7lV4AO1MvPYe2Min21kapy3CtsPB/PTqxYUBjr9XCvSI3W3DN9wN6fP gV03Ncx44APL8T/fOMyOYr0AHsebt9EEvfFUA9oX5j2r2Lzc1G7ePcfRFY4L4kAO8775 Vq8JZPaHfyUYcN8y+2klNQ3X+h6EIoKsJlvjw= X-Google-DKIM-Signature: v=1; a=rsa-sha256; c=relaxed/relaxed; d=1e100.net; s=20230601; t=1759206136; x=1759810936; h=cc:to:from:subject:message-id:date:x-gm-message-state:from:to:cc :subject:date:message-id:reply-to; bh=PU5WBf5ruKzBr7GXGufFHfZHaVe7KuPFo9jANSx98qw=; b=HBvuH0rDQDrcWpAHSdDdZ6s46aicTTEa0RORwj/pxu545af+L5Nmlo1wqIoHMX19vv GvuI5DSokyl565r5Mpn8Q7x0BaOZo3HSOVX4IcvatHYMRkT1JM9OyvqRcoIeYPCrdbV4 X5FuJot1fRyB1YRXWVT3U1JbiSaNqQAiM+oDeVGgjaUpnwLPcVcTVrEqXu0motYX+mns MfNpsfx5cA56jqNG4R5lgIqPtsVw94bkocod7Unefhppcm+FzqyZ+YXcnVvNHohJq4vA 7jeY0BaeTn/z8iPXIAqoeVuxf7J/RN0AA++rTHKGaBs0u82aJc7IX1cvr3jM2J3AHDac RA5g== X-Gm-Message-State: AOJu0Yw54cE0Sl9zrBmUDdeeQ9pUkjMt517TXlI2ipX/MJMQRoISV+YK mMGrgw51TUcs5Icj5INL6CyFUYdHDg3sTZnJdUxKWvrs2xLKVxTVAK7vtWik8xUdvH2OljkZ5QK x4Bh74O7jngl3ycdp//X0cORH8fz9s7Z+fUP2ZyY2wxm7hYDEn9w2 X-Gm-Gg: ASbGncucS0QFUm9/tZFCU1QrbUu8TFnO0EeFkETaz+5ifgjpOF8chjIwN28lLYQYdfU pcQ9W4j5GHaLZSkKxy9x2AjJwkaLAycAUTZ6y6KvDcxrfyDeYQPoa4dX75yyNhLvKhGpjUPOFa2 Wp3CSq3byVEoYNQ5yAu3XboROkAjpOvrQUlQuDvg5dGbtY/M4ikD0Ah+hhz3cV3l7KixtIM+5FZ XVj0siMPKLwylVl6u5v78aOn9N1VyRzM/p13sWy9LSG0t9Mnc5n1Itbt8raIKBCcSiH/dwcMLIm fRBacf6i4makV2wIZrF5X1ll1sYsgjFeNlXKksQSmNQx3k3IlsLn0JI= X-Google-Smtp-Source: AGHT+IFFhzCQA8VChDqmlhz5QMvjIYFVjjwUgqL8dp6+yJ5QmU/3FQ9Mb2qfeImwD+yOtbrUuvI2XP34HS0x X-Received: by 2002:a17:902:e74a:b0:269:8c12:909a with SMTP id d9443c01a7336-27ed4a30bb8mr220214805ad.31.1759206135814; Mon, 29 Sep 2025 21:22:15 -0700 (PDT) Received: from postal.iol.unh.edu (postal.iol.unh.edu. [2606:4100:3880:1234::84]) by smtp-relay.gmail.com with ESMTPS id 98e67ed59e1d1-3341be0750asm1152423a91.6.2025.09.29.21.22.15 (version=TLS1_2 cipher=ECDHE-ECDSA-AES128-GCM-SHA256 bits=128/128); Mon, 29 Sep 2025 21:22:15 -0700 (PDT) X-Relaying-Domain: iol.unh.edu Date: Mon, 29 Sep 2025 21:22:15 -0700 (PDT) Message-ID: <68db5af7.170a0220.f589c.6d53SMTPIN_ADDED_MISSING@mx.google.com> Received: from [172.21.0.2] (unknown [172.18.0.240]) by postal.iol.unh.edu (Postfix) with ESMTP id BCEE36051830; Tue, 30 Sep 2025 00:22:14 -0400 (EDT) Subject: |SUCCESS| [GIT MASTER] b287e404643aeab5bb5db084c142789df187844e From: dpdklab@iol.unh.edu To: Test Report Cc: dpdk-test-reports@iol.unh.edu, Xueming Li , Christian Ehrhardt , Kevin Traynor , Luca Boccassi Content-Type: text/plain X-BeenThere: test-report@dpdk.org X-Mailman-Version: 2.1.29 Precedence: list List-Id: automatic DPDK test reports List-Unsubscribe: , List-Archive: List-Post: List-Help: List-Subscribe: , Errors-To: test-report-bounces@dpdk.org _Testing PASS_ Branch: tags/v24.11 b287e404643aeab5bb5db084c142789df187844e --> testing pass Upstream job id: Windows-Compile-DPDK-Native#31311 Test environment and result as below: +---------------------+--------------------+-------------------+-------------------------+ | Environment | dpdk_meson_compile | dpdk_msvc_compile | dpdk_llvm_clang_compile | +=====================+====================+===================+=========================+ | Ubuntu 20.04 | PASS | SKIPPED | SKIPPED | +---------------------+--------------------+-------------------+-------------------------+ | FreeBSD 14.2 | PASS | SKIPPED | SKIPPED | +---------------------+--------------------+-------------------+-------------------------+ | Windows Server 2022 | SKIPPED | PASS | PASS | +---------------------+--------------------+-------------------+-------------------------+ Ubuntu 20.04 Kernel: 4.19 Compiler: gcc gcc (Ubuntu 9.4.0-1ubuntu1~20.04.2) 9.4.0 FreeBSD 14.2 Kernel: 14.2-RELEASE Compiler: clang 18.1.6 Windows Server 2022 Kernel: 10.0.20348.2031 Compiler: clang 15.0.7, gcc 14.1.0 (MinGW), and MSVC VS 19.39.33521 To view detailed results, visit: https://lab.dpdk.org/results/dashboard/tarballs/35053/ UNH-IOL DPDK Community Lab To manage your email subscriptions, visit: https://lab.dpdk.org/results/dashboard/preferences/subscriptions/