From mboxrd@z Thu Jan 1 00:00:00 1970 Return-Path: Received: from mails.dpdk.org (mails.dpdk.org [217.70.189.124]) by inbox.dpdk.org (Postfix) with ESMTP id 39A5848869 for ; Tue, 30 Sep 2025 06:24:13 +0200 (CEST) Received: from mails.dpdk.org (localhost [127.0.0.1]) by mails.dpdk.org (Postfix) with ESMTP id 16CEA4026D; Tue, 30 Sep 2025 06:24:13 +0200 (CEST) Received: from mail-io1-f99.google.com (mail-io1-f99.google.com [209.85.166.99]) by mails.dpdk.org (Postfix) with ESMTP id 7A7434026D for ; Tue, 30 Sep 2025 06:24:12 +0200 (CEST) Received: by mail-io1-f99.google.com with SMTP id ca18e2360f4ac-92493f9715fso37656939f.2 for ; Mon, 29 Sep 2025 21:24:12 -0700 (PDT) DKIM-Signature: v=1; a=rsa-sha256; c=relaxed/relaxed; d=iol.unh.edu; s=unh-iol; t=1759206252; x=1759811052; darn=dpdk.org; h=cc:to:from:subject:message-id:date:from:to:cc:subject:date :message-id:reply-to; bh=LztPC71eGC0EML6jaDMoF6zsc32xELHQd5c9922Y4K4=; b=TpBEzYWgNc5amU/wNqKWe4FOxxlwORA6B/a4RYB1EE6bePHM5MGWv/BAlOYqgx1QTk ZAHGw8zkAiNHNKtkozhHMTkpmo5Zjobt/ZjiDJxTYUItMIGze8V3iSa9dmRskyRk/03b 4w/oOwQRR4m/UFfCuQPKR2liKxIgMShETr2h8= X-Google-DKIM-Signature: v=1; a=rsa-sha256; c=relaxed/relaxed; d=1e100.net; s=20230601; t=1759206252; x=1759811052; h=cc:to:from:subject:message-id:date:x-gm-message-state:from:to:cc :subject:date:message-id:reply-to; bh=LztPC71eGC0EML6jaDMoF6zsc32xELHQd5c9922Y4K4=; b=xMg7XpNj7zEMWVjBYQtWkmXshCl3/RbeTUtBf2Vbdy2ywCB6xAAU/Kc5Uo1Nk3mMr0 7MVx7hKErKcuYflKN+5VRQLAnaTGr2SOVknAz+hM+MIkTrj82RpBjtQKAqixYzlFWnJL hClGBFy2IWVWmdjBAN2J4XQExrLx2iaNdi8nzRSpEz1JZbRvaB5ab5CPz44FPwHu4Vne yBARh+SoE5adQyMTzB8/IC4ZXzyX/cuo5ORGXCsFMq2aSjc/bTUjnnSIWMdfTsgpjbpc WCfMTW97RHruvxo3BpTiVQx7q7V8o3v4YpNF9/0zVzRyW4zXZ7Wc4f1mcI1snAnHyOwW 1gZQ== X-Gm-Message-State: AOJu0Yx6WJS8nnHbFPUDpN+1a3paUb1Nvgk3OJSVanC0m7NX83sEi0zK Y54vJndChGY/N6yl0skLoatPXFr16Oc97wMY2AEXvKE3YUzraIUcDj5oHwe1CcWVeB4WGK5H6Cc czZme/VOG+ylFmmDOXbFITFNzW8k1OzOUvJGp X-Gm-Gg: ASbGncszm7wGEgK0MkZE8p4YHP+0VC2RdSwLNHgE28A8nilRfIwwZ29SMLlzkh/hZoi HRd4q0HZlyK9fBeL9XG7Vfb/6dFtfHFh5rwFbcF2IC1v8R7d0dh/+dMrNk2Bcv7HG9iC2K+r7g5 ehTw1eYSj1tTSNykR1QpqZx2UiDtD4j4mIqH6WkMBwYXT3Kb7oLBKEhLQZYngdX3mfLZUcXRSoS DWrWTIrN5oAn4XqAZeSntgQzDAiErsvODO7B6SYUNNS1ydSyLg58e5ubiGdiDkjHapyFVp+f2Ou /PVDk/Uwv7/nLlTeSLlTlph3V2EM6R4XqVeePdoubFS9fwEy4FC5BJvF38V5j7j49hriPI5phTS Ctw== X-Google-Smtp-Source: AGHT+IGjvO+6za3bBiYurctkOIAXJrgXPdY0vfQwQ09J+ZF1xDuw5soK+2KK10NsA+IXTj4Jzma3KuOTs1XZ X-Received: by 2002:a05:6602:6016:b0:92d:99d5:6a00 with SMTP id ca18e2360f4ac-92d99d595f6mr641927539f.9.1759206251679; Mon, 29 Sep 2025 21:24:11 -0700 (PDT) Received: from postal.iol.unh.edu (postal.iol.unh.edu. [132.177.123.84]) by smtp-relay.gmail.com with ESMTPS id 8926c6da1cb9f-5758d5fc9f1sm212021173.2.2025.09.29.21.24.11 (version=TLS1_2 cipher=ECDHE-ECDSA-AES128-GCM-SHA256 bits=128/128); Mon, 29 Sep 2025 21:24:11 -0700 (PDT) X-Relaying-Domain: iol.unh.edu Date: Mon, 29 Sep 2025 21:24:11 -0700 (PDT) Message-ID: <68db5b6b.050a0220.5928.cae1SMTPIN_ADDED_MISSING@mx.google.com> Received: from [172.21.0.2] (unknown [172.18.0.240]) by postal.iol.unh.edu (Postfix) with ESMTP id 348836051830; Tue, 30 Sep 2025 00:24:11 -0400 (EDT) Subject: |SUCCESS| [GIT MASTER] b287e404643aeab5bb5db084c142789df187844e From: dpdklab@iol.unh.edu To: Test Report Cc: dpdk-test-reports@iol.unh.edu, Xueming Li , Christian Ehrhardt , Kevin Traynor , Luca Boccassi Content-Type: text/plain X-BeenThere: test-report@dpdk.org X-Mailman-Version: 2.1.29 Precedence: list List-Id: automatic DPDK test reports List-Unsubscribe: , List-Archive: List-Post: List-Help: List-Subscribe: , Errors-To: test-report-bounces@dpdk.org _Testing PASS_ Branch: tags/v24.11 b287e404643aeab5bb5db084c142789df187844e --> testing pass Upstream job id: Windows-Compile-DPDK-Native#31312 Test environment and result as below: +---------------------+--------------------+-------------------+-------------------------+----------------------+ | Environment | dpdk_meson_compile | dpdk_msvc_compile | dpdk_llvm_clang_compile | dpdk_mingw64_compile | +=====================+====================+===================+=========================+======================+ | Ubuntu 20.04 | PASS | SKIPPED | SKIPPED | SKIPPED | +---------------------+--------------------+-------------------+-------------------------+----------------------+ | FreeBSD 14.2 | PASS | SKIPPED | SKIPPED | SKIPPED | +---------------------+--------------------+-------------------+-------------------------+----------------------+ | Windows Server 2022 | SKIPPED | PASS | PASS | PASS | +---------------------+--------------------+-------------------+-------------------------+----------------------+ Ubuntu 20.04 Kernel: 4.19 Compiler: gcc gcc (Ubuntu 9.4.0-1ubuntu1~20.04.2) 9.4.0 FreeBSD 14.2 Kernel: 14.2-RELEASE Compiler: clang 18.1.6 Windows Server 2022 Kernel: 10.0.20348.2031 Compiler: clang 15.0.7, gcc 14.1.0 (MinGW), and MSVC VS 19.39.33521 To view detailed results, visit: https://lab.dpdk.org/results/dashboard/tarballs/35053/ UNH-IOL DPDK Community Lab To manage your email subscriptions, visit: https://lab.dpdk.org/results/dashboard/preferences/subscriptions/