From mboxrd@z Thu Jan 1 00:00:00 1970 Return-Path: Received: from mails.dpdk.org (mails.dpdk.org [217.70.189.124]) by inbox.dpdk.org (Postfix) with ESMTP id 8AD4548869 for ; Tue, 30 Sep 2025 06:35:30 +0200 (CEST) Received: from mails.dpdk.org (localhost [127.0.0.1]) by mails.dpdk.org (Postfix) with ESMTP id 8572B40150; Tue, 30 Sep 2025 06:35:30 +0200 (CEST) Received: from mail-ot1-f99.google.com (mail-ot1-f99.google.com [209.85.210.99]) by mails.dpdk.org (Postfix) with ESMTP id B01E740150 for ; Tue, 30 Sep 2025 06:35:22 +0200 (CEST) Received: by mail-ot1-f99.google.com with SMTP id 46e09a7af769-7abbdf3c476so3920746a34.1 for ; Mon, 29 Sep 2025 21:35:22 -0700 (PDT) DKIM-Signature: v=1; a=rsa-sha256; c=relaxed/relaxed; d=iol.unh.edu; s=unh-iol; t=1759206922; x=1759811722; darn=dpdk.org; h=references:in-reply-to:cc:to:from:subject:message-id:date:from:to :cc:subject:date:message-id:reply-to; bh=NsiocySYI0T7FY0kjrBRnFe7GU1OmOEesmDn/wDxBrY=; b=dUIzR4Rx2GPtw/1/iojnp3uJ89/374NiREz5vewJeuvpoDSw6lqBFwlywa+IXbBjq2 uFWXGMvs6XQ9HuT3XpPlQyB5B3YHBPX2WGs0UBspuyfZC0r4iam+8IwALwj3wHZNCFay Vy7HRNwbUaGzG9p+lL6rihvHlXHDn4BTslOrc= X-Google-DKIM-Signature: v=1; a=rsa-sha256; c=relaxed/relaxed; d=1e100.net; s=20230601; t=1759206922; x=1759811722; h=references:in-reply-to:cc:to:from:subject:message-id:date :x-gm-message-state:from:to:cc:subject:date:message-id:reply-to; bh=NsiocySYI0T7FY0kjrBRnFe7GU1OmOEesmDn/wDxBrY=; b=B9wD8ZcfwgQwAcJt3r4lqhkns96B3VhGMjLhLgXqszUrjkYkWTBz0vC+qr+DgLMWzm 1aH3FenfserzSylJAEanPAqJDhb8tTBrub/pNdDvg1vwB6M/k8s7EOe1rr7pz2O7lb9i lJJ7C1AS22EYc/Vf0mdGav9q8u4/R8Rlxih6lcOKMXpb+UmOJCAdbD/bzc6WfXVQpTtK kbUAW2nUnjG8d57BaPxZLwP44b97MO+lnnw1UgS+V8gkztfSQzzfQPzbCoJcW5Svq335 WREgCtcR++5+h2ryNn0G9jBLq7JUNqXsy6EKOs8A01GPsHcKyCQFxGqn1XT2bZwJd9K4 MI+w== X-Gm-Message-State: AOJu0Ywp7jL4vFke+L2IjmJEoe7PbNhLoh+bUIl23F3zS2cEd8WiNSJU sksJcVoBuBsUD8t0tw1/C0+5yjUrHqULSK9eHZpc3JtEaBKooKufWXoNnxKDEjvcqhgHdT6qfda H97qD52zT1DyLoJVVYsznmHimm1YWYPlD7/5RTOQkk9he7eYvFk/MW+KyZbIE X-Gm-Gg: ASbGncseUi0J24icwAcQw3uE40tGcSebmDdbOyVuPIncWPzgfTCB/gaZOxPQxahQxOi LKCFLiwlbOGNffuTGYc1+8FKwjMLZndgxV3sygDk0cN23gZypQcJgh/8pHjBnvvRUrYHO1X7hyG zJSttB6MfcL+pskRoKd8kihnayb5+imk/fta+WZnLn/npPGPyJFkYWJ7FV5V3G23Bqy14PDSwcI ts1CRuf2pyieD+VMYG9B18MOOxpCAShUdqvVaN3pxBYmIJmRl36yZqzLWm4KhOfnrvhQGEcQtf6 KVwxFkPLxNAzChNRhW04/dEKs3X1ZAKCp6Oso8C1QdJp8y9HH5QzlhE= X-Google-Smtp-Source: AGHT+IFPhD6coK1t48jwCJ15KLtDjUyePh2q4ct94vNS2oZss4rKQmeo1FeXOa2igckxvzOOM5j7It9/lxVH X-Received: by 2002:a05:6830:6f44:b0:7b0:3df1:92c6 with SMTP id 46e09a7af769-7b03df1939emr6022692a34.15.1759206921843; Mon, 29 Sep 2025 21:35:21 -0700 (PDT) Received: from postal.iol.unh.edu (postal.iol.unh.edu. [2606:4100:3880:1234::84]) by smtp-relay.gmail.com with ESMTPS id 46e09a7af769-7a237a04669sm477862a34.4.2025.09.29.21.35.21 (version=TLS1_2 cipher=ECDHE-ECDSA-AES128-GCM-SHA256 bits=128/128); Mon, 29 Sep 2025 21:35:21 -0700 (PDT) X-Relaying-Domain: iol.unh.edu Date: Mon, 29 Sep 2025 21:35:21 -0700 (PDT) Message-ID: <68db5e09.050a0220.caf9e.cfb5SMTPIN_ADDED_MISSING@mx.google.com> Received: from [172.21.0.7] (unknown [172.18.0.240]) by postal.iol.unh.edu (Postfix) with ESMTP id 48EEE6051835; Tue, 30 Sep 2025 00:35:21 -0400 (EDT) Subject: |SUCCESS| pw157034-157035 [PATCH] [v4,2/2] crypto/ipsec-mb: use cons From: dpdklab@iol.unh.edu To: Test Report Cc: dpdk-test-reports@iol.unh.edu In-Reply-To: <20250929145049.153078-2-kai.ji@intel.com> References: <20250929145049.153078-2-kai.ji@intel.com> Content-Type: text/plain X-BeenThere: test-report@dpdk.org X-Mailman-Version: 2.1.29 Precedence: list List-Id: automatic DPDK test reports List-Unsubscribe: , List-Archive: List-Post: List-Help: List-Subscribe: , Errors-To: test-report-bounces@dpdk.org Test-Label: iol-compile-arm64-testing Test-Status: SUCCESS http://dpdk.org/patch/157035 _Testing PASS_ Submitter: Kai Ji Date: Monday, September 29 2025 14:50:49 DPDK git baseline: Repo:dpdk Branch: master CommitID:1d627ea13aeec2bcccf27246e6be2508370d171e 157034-157035 --> testing pass Upstream job id: Generic-DPDK-Compile-Meson#429766 Test environment and result as below: +------------------------------+--------------------+ | Environment | dpdk_meson_compile | +==============================+====================+ | Ubuntu 20.04 | PASS | +------------------------------+--------------------+ | Red Hat Enterprise Linux 9.5 | PASS | +------------------------------+--------------------+ | CentOS Stream 9 | PASS | +------------------------------+--------------------+ | Fedora Linux 42 | PASS | +------------------------------+--------------------+ | Debian GNU/Linux 12 | PASS | +------------------------------+--------------------+ | Ubuntu 22.04 | PASS | +------------------------------+--------------------+ | CentOS Stream 10 | PASS | +------------------------------+--------------------+ | Ubuntu 24.04 | PASS | +------------------------------+--------------------+ Ubuntu 20.04 Kernel: 5.15 Compiler: aarch64-linux-gnu-gcc gcc (Ubuntu 9.4.0-1ubuntu1~20.04.2) 9.4.0 Red Hat Enterprise Linux 9.5 Kernel: 5.4 Compiler: gcc gcc (GCC) 11.5.0 20240719 (Red Hat 11.5.0-2) CentOS Stream 9 Kernel: 5.4 Compiler: gcc gcc (GCC) 11.5.0 20240719 (Red Hat 11.5.0-11) Fedora Linux 42 Kernel: 5.4 Compiler: clang gcc (GCC) 15.2.1 20250808 (Red Hat 15.2.1-1) Debian GNU/Linux 12 Kernel: 5.4 Compiler: gcc gcc (Debian 12.2.0-14+deb12u1) 12.2.0 Ubuntu 22.04 Kernel: 5.4 Compiler: gcc gcc (Ubuntu 11.4.0-1ubuntu1~22.04) 11.4.0 CentOS Stream 10 Kernel: 5.4 Compiler: gcc gcc (GCC) 14.2.1 20250110 (Red Hat 14.2.1-8) Ubuntu 24.04 Kernel: 5.4 Compiler: gcc gcc (Ubuntu 13.3.0-6ubuntu2~24.04) 13.3.0 To view detailed results, visit: https://lab.dpdk.org/results/dashboard/patchsets/34172/ UNH-IOL DPDK Community Lab To manage your email subscriptions, visit: https://lab.dpdk.org/results/dashboard/preferences/subscriptions/