From mboxrd@z Thu Jan 1 00:00:00 1970 Return-Path: Received: from mails.dpdk.org (mails.dpdk.org [217.70.189.124]) by inbox.dpdk.org (Postfix) with ESMTP id B4D5A48869 for ; Tue, 30 Sep 2025 06:35:41 +0200 (CEST) Received: from mails.dpdk.org (localhost [127.0.0.1]) by mails.dpdk.org (Postfix) with ESMTP id AD60940150; Tue, 30 Sep 2025 06:35:41 +0200 (CEST) Received: from mail-il1-f227.google.com (mail-il1-f227.google.com [209.85.166.227]) by mails.dpdk.org (Postfix) with ESMTP id 3574C40150 for ; Tue, 30 Sep 2025 06:35:30 +0200 (CEST) Received: by mail-il1-f227.google.com with SMTP id e9e14a558f8ab-42576a07eeeso51167115ab.0 for ; Mon, 29 Sep 2025 21:35:30 -0700 (PDT) DKIM-Signature: v=1; a=rsa-sha256; c=relaxed/relaxed; d=iol.unh.edu; s=unh-iol; t=1759206929; x=1759811729; darn=dpdk.org; h=references:in-reply-to:cc:to:from:subject:message-id:date:from:to :cc:subject:date:message-id:reply-to; bh=WYceKoaPdy+0PSBztjIXzXuDNUkYj5Rx/WwjRouNcj8=; b=VGNd/De/lq1imi2IWOrB5vwdOku9vl9BHQuJUsbsYWNnoTztLQLEG6pthVSKWm6VUl n/rZ2tC3+HNJfdqZr0lvRp5NFBWjWWppZbkOu90hSCGYa1lksuIN259wWQU9njPg0kBF wgY/TyQV1CBDRUP3ZEykcwhR3ZRU1AA2hh1h8= X-Google-DKIM-Signature: v=1; a=rsa-sha256; c=relaxed/relaxed; d=1e100.net; s=20230601; t=1759206929; x=1759811729; h=references:in-reply-to:cc:to:from:subject:message-id:date :x-gm-message-state:from:to:cc:subject:date:message-id:reply-to; bh=WYceKoaPdy+0PSBztjIXzXuDNUkYj5Rx/WwjRouNcj8=; b=ukBxBcYyKG8sFpU7CKH+K7O0vCWlMEJSFNRShngVggQomtaKyJzm19NdRFvYgmQsxY N9DyaYtmcRFcveaXecEiIKHukpOlCB4xUQ+a98TuGwicRg3GjkCpgwDeaNzkVSE4zDff bW3aIZbm0CY4H0g25LMruxHx+CYvaVD14chLDSoPuwRr5ruEI1llepCxRAHee5utARyy JGttHzAIWyyZB72ZveOqbM1Ry3I0U3sCLE7Wi2R8onIrdB+EujGwj937k+19j4Zr9rve Ve63Q//JJ+fmIb+N6ZVEPyU2OrHc8cf1DfUktVb54EDk6lQK4m3f7q2bxfHvbjLjkSxp gIEQ== X-Gm-Message-State: AOJu0Yxct/gHxKhlRYHgpk9kb7Tmw7xGlk+UA4r0JyeRnFEAf9BH92il MDZLNUY8DlgDuR0qn0h5ccUVQNGmjI3fnafz1nM3HKmLKUWAi7fksv/PQGF8ODBGDQSjjhawrua FhziDO3dG7OgjpToe/ViF692EtWxkECBGAVOYRBQTOkmF X-Gm-Gg: ASbGncu7WmgW0Ew3nu1zgKT+BfipiOQeh3Rw4nXaj12BWkCkTM62XC897K/fVhtV5D3 uku+huKvohh1Uno4krslH0wZkbYVkVL9DIA2c9I6IBRU3LPY9PaZir1wKgXQJqv3MVbDq8Bw0EL ArrZi+hTMoNVfRKE/lORawdEQHZZMXtLts0vjG9Bdox9IQcwuQtmBZ/wvpRCaVwdABxuQRJLCfH uGNxcaYovGji9XwnDASfI0ZvGHXTQtCDESxZbdcB5RR1pxdYcbSPOBG8vWWXFP+YrsXj5UjqGxu pUcRziPkIUn7X2E5taAqFzLqf775fRJifb55y07jbqiTmFx1E0VstPLPHL0pz9+i0viCQ+7mUcK 71g== X-Google-Smtp-Source: AGHT+IGGQm+dq/QmPq4EiD3qVios2rJezGp93LYxZwVBiaEmOx4CDcBLbzy3rwcQWgW8e21RMOBCXEuzI5Ob X-Received: by 2002:a05:6e02:1a0e:b0:428:e8eb:9272 with SMTP id e9e14a558f8ab-428e8eb95b2mr153301475ab.4.1759206929526; Mon, 29 Sep 2025 21:35:29 -0700 (PDT) Received: from postal.iol.unh.edu (postal.iol.unh.edu. [132.177.123.84]) by smtp-relay.gmail.com with ESMTPS id 8926c6da1cb9f-57553104316sm213843173.25.2025.09.29.21.35.29 (version=TLS1_2 cipher=ECDHE-ECDSA-AES128-GCM-SHA256 bits=128/128); Mon, 29 Sep 2025 21:35:29 -0700 (PDT) X-Relaying-Domain: iol.unh.edu Date: Mon, 29 Sep 2025 21:35:29 -0700 (PDT) Message-ID: <68db5e11.050a0220.32b1b3.ce78SMTPIN_ADDED_MISSING@mx.google.com> Received: from [172.21.0.8] (unknown [172.18.0.240]) by postal.iol.unh.edu (Postfix) with ESMTP id 2022C6051830; Tue, 30 Sep 2025 00:35:29 -0400 (EDT) Subject: |SUCCESS| pw157033-157032 [PATCH] [2/2] net/iavf: add reset VF comma From: dpdklab@iol.unh.edu To: Test Report Cc: dpdk-test-reports@iol.unh.edu, Bruce Richardson In-Reply-To: <20250929143039.547207-2-ciara.loftus@intel.com> References: <20250929143039.547207-2-ciara.loftus@intel.com> Content-Type: text/plain X-BeenThere: test-report@dpdk.org X-Mailman-Version: 2.1.29 Precedence: list List-Id: automatic DPDK test reports List-Unsubscribe: , List-Archive: List-Post: List-Help: List-Subscribe: , Errors-To: test-report-bounces@dpdk.org Test-Label: iol-compile-arm64-testing Test-Status: SUCCESS http://dpdk.org/patch/157032 _Testing PASS_ Submitter: Ciara Loftus Date: Monday, September 29 2025 14:30:39 DPDK git baseline: Repo:dpdk-next-net-intel Branch: master CommitID:9845e5848bbe337306fb6ae2a6b1ce5e6ab5b714 157033-157032 --> testing pass Upstream job id: Generic-DPDK-Compile-Meson#429730 Test environment and result as below: +------------------------------+--------------------+ | Environment | dpdk_meson_compile | +==============================+====================+ | Ubuntu 20.04 | PASS | +------------------------------+--------------------+ | Fedora Linux 42 | PASS | +------------------------------+--------------------+ | Red Hat Enterprise Linux 9.5 | PASS | +------------------------------+--------------------+ | Debian GNU/Linux 12 | PASS | +------------------------------+--------------------+ | Ubuntu 22.04 | PASS | +------------------------------+--------------------+ | CentOS Stream 9 | PASS | +------------------------------+--------------------+ | Ubuntu 24.04 | PASS | +------------------------------+--------------------+ | CentOS Stream 10 | PASS | +------------------------------+--------------------+ Ubuntu 20.04 Kernel: 5.15 Compiler: aarch64-linux-gnu-gcc gcc (Ubuntu 9.4.0-1ubuntu1~20.04.2) 9.4.0 Fedora Linux 42 Kernel: 5.4 Compiler: gcc gcc (GCC) 15.2.1 20250808 (Red Hat 15.2.1-1) Red Hat Enterprise Linux 9.5 Kernel: 5.4 Compiler: gcc gcc (GCC) 11.5.0 20240719 (Red Hat 11.5.0-2) Debian GNU/Linux 12 Kernel: 5.4 Compiler: gcc gcc (Debian 12.2.0-14+deb12u1) 12.2.0 Ubuntu 22.04 Kernel: 5.4 Compiler: gcc gcc (Ubuntu 11.4.0-1ubuntu1~22.04) 11.4.0 CentOS Stream 9 Kernel: 5.4 Compiler: gcc gcc (GCC) 11.5.0 20240719 (Red Hat 11.5.0-11) Ubuntu 24.04 Kernel: 5.4 Compiler: gcc gcc (Ubuntu 13.3.0-6ubuntu2~24.04) 13.3.0 CentOS Stream 10 Kernel: 5.4 Compiler: gcc gcc (GCC) 14.2.1 20250110 (Red Hat 14.2.1-8) To view detailed results, visit: https://lab.dpdk.org/results/dashboard/patchsets/34171/ UNH-IOL DPDK Community Lab To manage your email subscriptions, visit: https://lab.dpdk.org/results/dashboard/preferences/subscriptions/