From mboxrd@z Thu Jan 1 00:00:00 1970 Return-Path: Received: from mails.dpdk.org (mails.dpdk.org [217.70.189.124]) by inbox.dpdk.org (Postfix) with ESMTP id BE28848869 for ; Tue, 30 Sep 2025 06:35:41 +0200 (CEST) Received: from mails.dpdk.org (localhost [127.0.0.1]) by mails.dpdk.org (Postfix) with ESMTP id B94374064E; Tue, 30 Sep 2025 06:35:41 +0200 (CEST) Received: from mail-pg1-f226.google.com (mail-pg1-f226.google.com [209.85.215.226]) by mails.dpdk.org (Postfix) with ESMTP id 206E840150 for ; Tue, 30 Sep 2025 06:35:37 +0200 (CEST) Received: by mail-pg1-f226.google.com with SMTP id 41be03b00d2f7-b553412a19bso3866817a12.1 for ; Mon, 29 Sep 2025 21:35:37 -0700 (PDT) DKIM-Signature: v=1; a=rsa-sha256; c=relaxed/relaxed; d=iol.unh.edu; s=unh-iol; t=1759206936; x=1759811736; darn=dpdk.org; h=references:in-reply-to:cc:to:from:subject:message-id:date:from:to :cc:subject:date:message-id:reply-to; bh=WCvhsKnmqVhkHVOCu5Oz2ui6yaPl+16pcvK9QmBS31s=; b=eewAxiZpMRQor7/ncA5xAue5b6IVScpMdHZhte2xzrSIy09vrMsP6t2PDSx4g+W+AM /sfufGEF2lr5W4j/mRbZVWsO15xO811icIFHDZEuSB247hzmNB7YnS9MhB/SV5nO3imv AEsvgNc0H8Asc+KWssHWh+YoahGV47XP+jubY= X-Google-DKIM-Signature: v=1; a=rsa-sha256; c=relaxed/relaxed; d=1e100.net; s=20230601; t=1759206936; x=1759811736; h=references:in-reply-to:cc:to:from:subject:message-id:date :x-gm-message-state:from:to:cc:subject:date:message-id:reply-to; bh=WCvhsKnmqVhkHVOCu5Oz2ui6yaPl+16pcvK9QmBS31s=; b=DLs5lSY5Has2+eY7WbEERszfkhFyTrii4gZMmsia+dfAyy/RNa+v7BaBbp9xpbKICD hxsFbTJofqL/IKWni74iv0v5rXX96byEEjU6OfmhviQm1m7sVs2bWCKETHEnQ8T6wPA8 l65TlCUqH651CtHFYX6wqLQ+VobqztuqdXMoASv9xqbJ573PFr+Df3Cf3UrjQTP7qNhp 6kTHdl4xTaeWHFHkcjkMpgF/zifEqPybFW5nk7Zm1W2OEYZZ/V9nZQS0q9870bauChVB 5zgDGPTM8p5QPE+4j9IIjFHhQKQm5eTvGNrbOFmLy2FbysbHoYkk540tg9KaRe+hs9ZG ASBw== X-Gm-Message-State: AOJu0Yxe82BW69Zc8WDuF1IFspRXaL5RWCFO+9hVx8+BAeRys9ARqj9z 3RYVkVmhimW+pcKY5D/nh32gxtVVjhvD1SKGdpOHp5ZDQ9qYfoQzpG1ILOUnEixsosVGY2Zqdd5 n+s+dYy5i6s1rqJVhB3yQCtSf3fkSS5rvWrWMUxMYgGxK X-Gm-Gg: ASbGnctaayJy2CMair+nbpvWfIcB5ivxCe199UQ5Uf2H7wOeBx49WRwZI8qEjnzDB0V F4Adr5VB0ABtKiNRK9B/na62Qpii8ZtFGSg5XEVT1UQ5FcYZNQ7oKTaBWwrf1iweqRp/81LdDCw x8WmO52a0J1pzxkH3FnW1gD2d9TfEjX9GGBJ+4LihcoAZfaFWU7fkn63VwDJUx4yx6dL9OsXOO7 CSQKJrvGTTS6dsanSbUkmBswaGTqI/VEtyLRoo0vCzCJcvgBRGQEEF6mdAEHW1wIj7vWJArK9CF rIoKkJG7j23kK/VfvZCz5YL0fWCWxdj6f7NZ8Ia+vUrTCq+rym918cqU0c3UYqrklC3mUWBcew/ Urg== X-Google-Smtp-Source: AGHT+IGe1uPw8qN4EvrxI/iYUfCoN3spv7imY5/SowlamJ9Ga4OflDkd78wR8KWqNmmxJB6QFh0aILA0Po4o X-Received: by 2002:a17:903:b47:b0:248:a4e2:e6d6 with SMTP id d9443c01a7336-27ed4a91a05mr199970295ad.39.1759206936228; Mon, 29 Sep 2025 21:35:36 -0700 (PDT) Received: from postal.iol.unh.edu (postal.iol.unh.edu. [132.177.123.84]) by smtp-relay.gmail.com with ESMTPS id d9443c01a7336-27ed66bb79bsm10560935ad.10.2025.09.29.21.35.36 (version=TLS1_2 cipher=ECDHE-ECDSA-AES128-GCM-SHA256 bits=128/128); Mon, 29 Sep 2025 21:35:36 -0700 (PDT) X-Relaying-Domain: iol.unh.edu Date: Mon, 29 Sep 2025 21:35:36 -0700 (PDT) Message-ID: <68db5e18.170a0220.55ae9.e9c9SMTPIN_ADDED_MISSING@mx.google.com> Received: from [172.21.0.4] (unknown [172.18.0.240]) by postal.iol.unh.edu (Postfix) with ESMTP id 81F0C6051830; Tue, 30 Sep 2025 00:35:35 -0400 (EDT) Subject: |SUCCESS| pw157034-157035 [PATCH] [v4,2/2] crypto/ipsec-mb: use cons From: dpdklab@iol.unh.edu To: Test Report Cc: dpdk-test-reports@iol.unh.edu In-Reply-To: <20250929145049.153078-2-kai.ji@intel.com> References: <20250929145049.153078-2-kai.ji@intel.com> Content-Type: text/plain X-BeenThere: test-report@dpdk.org X-Mailman-Version: 2.1.29 Precedence: list List-Id: automatic DPDK test reports List-Unsubscribe: , List-Archive: List-Post: List-Help: List-Subscribe: , Errors-To: test-report-bounces@dpdk.org Test-Label: iol-compile-arm64-testing Test-Status: SUCCESS http://dpdk.org/patch/157035 _Testing PASS_ Submitter: Kai Ji Date: Monday, September 29 2025 14:50:49 DPDK git baseline: Repo:dpdk Branch: master CommitID:1d627ea13aeec2bcccf27246e6be2508370d171e 157034-157035 --> testing pass Upstream job id: Generic-DPDK-Compile-Meson#429764 Test environment and result as below: +------------------------------+--------------------+ | Environment | dpdk_meson_compile | +==============================+====================+ | Ubuntu 20.04 | PASS | +------------------------------+--------------------+ | Red Hat Enterprise Linux 9.5 | PASS | +------------------------------+--------------------+ | CentOS Stream 9 | PASS | +------------------------------+--------------------+ | Fedora Linux 42 | PASS | +------------------------------+--------------------+ | Debian GNU/Linux 12 | PASS | +------------------------------+--------------------+ | Ubuntu 22.04 | PASS | +------------------------------+--------------------+ | CentOS Stream 10 | PASS | +------------------------------+--------------------+ | Ubuntu 24.04 | PASS | +------------------------------+--------------------+ Ubuntu 20.04 Kernel: 5.15 Compiler: aarch64-linux-gnu-gcc gcc (Ubuntu 9.4.0-1ubuntu1~20.04.2) 9.4.0 Red Hat Enterprise Linux 9.5 Kernel: 5.4 Compiler: gcc gcc (GCC) 11.5.0 20240719 (Red Hat 11.5.0-2) CentOS Stream 9 Kernel: 5.4 Compiler: gcc gcc (GCC) 11.5.0 20240719 (Red Hat 11.5.0-11) Fedora Linux 42 Kernel: 5.4 Compiler: clang gcc (GCC) 15.2.1 20250808 (Red Hat 15.2.1-1) Debian GNU/Linux 12 Kernel: 5.4 Compiler: gcc gcc (Debian 12.2.0-14+deb12u1) 12.2.0 Ubuntu 22.04 Kernel: 5.4 Compiler: gcc gcc (Ubuntu 11.4.0-1ubuntu1~22.04) 11.4.0 CentOS Stream 10 Kernel: 5.4 Compiler: gcc gcc (GCC) 14.2.1 20250110 (Red Hat 14.2.1-8) Ubuntu 24.04 Kernel: 5.4 Compiler: gcc gcc (Ubuntu 13.3.0-6ubuntu2~24.04) 13.3.0 To view detailed results, visit: https://lab.dpdk.org/results/dashboard/patchsets/34172/ UNH-IOL DPDK Community Lab To manage your email subscriptions, visit: https://lab.dpdk.org/results/dashboard/preferences/subscriptions/