From mboxrd@z Thu Jan 1 00:00:00 1970 Return-Path: Received: from mails.dpdk.org (mails.dpdk.org [217.70.189.124]) by inbox.dpdk.org (Postfix) with ESMTP id CAB4848869 for ; Tue, 30 Sep 2025 06:35:51 +0200 (CEST) Received: from mails.dpdk.org (localhost [127.0.0.1]) by mails.dpdk.org (Postfix) with ESMTP id C5F8040150; Tue, 30 Sep 2025 06:35:51 +0200 (CEST) Received: from mail-yw1-f228.google.com (mail-yw1-f228.google.com [209.85.128.228]) by mails.dpdk.org (Postfix) with ESMTP id 0F78F40150 for ; Tue, 30 Sep 2025 06:35:50 +0200 (CEST) Received: by mail-yw1-f228.google.com with SMTP id 00721157ae682-71d5fe46572so74925497b3.1 for ; Mon, 29 Sep 2025 21:35:50 -0700 (PDT) DKIM-Signature: v=1; a=rsa-sha256; c=relaxed/relaxed; d=iol.unh.edu; s=unh-iol; t=1759206949; x=1759811749; darn=dpdk.org; h=references:in-reply-to:cc:to:from:subject:message-id:date:from:to :cc:subject:date:message-id:reply-to; bh=AgU3MbBu1sqfc0z0VW94q6gKSINcP/dfJRPEsoWVZ8M=; b=dwNQE6cECf0zOf8N4WOh/EY+KwZ125NUWDMf1h8JLILpXwm+fsyZu2EOXD6Red2OkP RGgmpWhZ4INOjG0NoWrh6Ez+S0GRQ+DmMZ4xWnDNkMFb3fw7iraRLBHBVf+MPW5IJ8mt 81dAgoNVkQU6KZhDqXAxWb/5Y/YW2AWthTExo= X-Google-DKIM-Signature: v=1; a=rsa-sha256; c=relaxed/relaxed; d=1e100.net; s=20230601; t=1759206949; x=1759811749; h=references:in-reply-to:cc:to:from:subject:message-id:date :x-gm-message-state:from:to:cc:subject:date:message-id:reply-to; bh=AgU3MbBu1sqfc0z0VW94q6gKSINcP/dfJRPEsoWVZ8M=; b=sMEn6qC46DtP85bkr9u9TiEdwbtzDQsmTlIcaE/q/Katkea5PKnq7yMWs3W9UYZO+S xka5cl6T75PpByi91lveN76KeY6hxM0DvdXLsI4FdoDzPIKt9TbtvgZwAdh0W8x9OHrW i/NLS5+GGkrpWRKNDNJ9K3ZDZLXQ8fAR3fpVdvlFfbbKNpXROVXJwesJ/Rk47amKkQ6/ iYxvjspyuPOzFUwHJ5oH+zdR08ghAjvXIL4HYbKxoCygx1p/HQZQz2+5Q3vUeprpl6HE s86Jlqvz+ZWQkvdiOiEYd1FAnqKQzPsjRnolbZTWMG5Q81fVXRM4EksogsOsiQCwkvp0 AkeQ== X-Gm-Message-State: AOJu0Yz0UJcEdRjdG3adXHn2HORDeyaal7pHk441B+nWPYDdRo1Y9/t3 bDr3IKOBKRj3kqRkSpuuUwGNVzGQv3DjEGhHau9I7evMALNeKmMBsoQehMxWphzgmMXtm/jZiYp woKY1de1b/nPAM5iBFJlpthl1cAVRMUX7DHQNrXXJK0JTQ8jY4ovhGQEAEp2k X-Gm-Gg: ASbGncuY51H5S0AYzvSeZvucAUrKh7XwvBGeo89IJ39QrZbZs9ASqn8Dx6m2tNLJgEj 7wU9iGQmcTbebQkXyX6BEidWKV5seofioFikKVZTuCEVjbVOL3YMj8/lN5dl1ff+DOPyjgzkarH qRV5Obfgxo4ejFLKUOIuQp98w8Rb0pme1JdKv6Q6o0Bh/jP23UXy/93fvVeKSHlJV/YiS5fFRyK Cc+kOo4KuvVSEm3yZnZvcbmTLxlqcjc7MYBPTgG+9hjfAMCgeI/RBms4Q2XaHd8SiKuK+VHxFH2 i2aoNlIZYzOpNSw8vouPtG8aiW6jXcAFH17ZHENr/LniiTIgFUWgnLg= X-Google-Smtp-Source: AGHT+IFivNJM7g/E15XTsWq75BZ+ISpF7wcLhMQcgY7u9aQSurYbbTNSTutZks/rOLysRz2MO1i3W/sycztG X-Received: by 2002:a53:df43:0:b0:635:4ed0:5722 with SMTP id 956f58d0204a3-63b59bf953dmr2729252d50.26.1759206949484; Mon, 29 Sep 2025 21:35:49 -0700 (PDT) Received: from postal.iol.unh.edu (postal.iol.unh.edu. [2606:4100:3880:1234::84]) by smtp-relay.gmail.com with ESMTPS id 956f58d0204a3-6361e7ed157sm583688d50.5.2025.09.29.21.35.49 (version=TLS1_2 cipher=ECDHE-ECDSA-AES128-GCM-SHA256 bits=128/128); Mon, 29 Sep 2025 21:35:49 -0700 (PDT) X-Relaying-Domain: iol.unh.edu Date: Mon, 29 Sep 2025 21:35:49 -0700 (PDT) Message-ID: <68db5e25.530a0220.bf13c.2cf4SMTPIN_ADDED_MISSING@mx.google.com> Received: from [172.21.0.2] (unknown [172.18.0.240]) by postal.iol.unh.edu (Postfix) with ESMTP id 364B86051830; Tue, 30 Sep 2025 00:35:49 -0400 (EDT) Subject: |SUCCESS| pw157034-157035 [PATCH] [v4,2/2] crypto/ipsec-mb: use cons From: dpdklab@iol.unh.edu To: Test Report Cc: dpdk-test-reports@iol.unh.edu In-Reply-To: <20250929145049.153078-2-kai.ji@intel.com> References: <20250929145049.153078-2-kai.ji@intel.com> Content-Type: text/plain X-BeenThere: test-report@dpdk.org X-Mailman-Version: 2.1.29 Precedence: list List-Id: automatic DPDK test reports List-Unsubscribe: , List-Archive: List-Post: List-Help: List-Subscribe: , Errors-To: test-report-bounces@dpdk.org Test-Label: iol-compile-arm64-testing Test-Status: SUCCESS http://dpdk.org/patch/157035 _Testing PASS_ Submitter: Kai Ji Date: Monday, September 29 2025 14:50:49 DPDK git baseline: Repo:dpdk Branch: master CommitID:1d627ea13aeec2bcccf27246e6be2508370d171e 157034-157035 --> testing pass Upstream job id: Generic-DPDK-Compile-Meson#429768 Test environment and result as below: +------------------------------+--------------------+ | Environment | dpdk_meson_compile | +==============================+====================+ | Ubuntu 20.04 | PASS | +------------------------------+--------------------+ | Red Hat Enterprise Linux 9.5 | PASS | +------------------------------+--------------------+ | CentOS Stream 9 | PASS | +------------------------------+--------------------+ | Fedora Linux 42 | PASS | +------------------------------+--------------------+ | Debian GNU/Linux 12 | PASS | +------------------------------+--------------------+ | Ubuntu 22.04 | PASS | +------------------------------+--------------------+ | CentOS Stream 10 | PASS | +------------------------------+--------------------+ | Ubuntu 24.04 | PASS | +------------------------------+--------------------+ Ubuntu 20.04 Kernel: 5.15 Compiler: aarch64-linux-gnu-gcc gcc (Ubuntu 9.4.0-1ubuntu1~20.04.2) 9.4.0 Red Hat Enterprise Linux 9.5 Kernel: 5.4 Compiler: gcc gcc (GCC) 11.5.0 20240719 (Red Hat 11.5.0-2) CentOS Stream 9 Kernel: 5.4 Compiler: gcc gcc (GCC) 11.5.0 20240719 (Red Hat 11.5.0-11) Fedora Linux 42 Kernel: 5.4 Compiler: clang gcc (GCC) 15.2.1 20250808 (Red Hat 15.2.1-1) Debian GNU/Linux 12 Kernel: 5.4 Compiler: gcc gcc (Debian 12.2.0-14+deb12u1) 12.2.0 Ubuntu 22.04 Kernel: 5.4 Compiler: gcc gcc (Ubuntu 11.4.0-1ubuntu1~22.04) 11.4.0 CentOS Stream 10 Kernel: 5.4 Compiler: gcc gcc (GCC) 14.2.1 20250110 (Red Hat 14.2.1-8) Ubuntu 24.04 Kernel: 5.4 Compiler: gcc gcc (Ubuntu 13.3.0-6ubuntu2~24.04) 13.3.0 To view detailed results, visit: https://lab.dpdk.org/results/dashboard/patchsets/34172/ UNH-IOL DPDK Community Lab To manage your email subscriptions, visit: https://lab.dpdk.org/results/dashboard/preferences/subscriptions/