From mboxrd@z Thu Jan 1 00:00:00 1970 Return-Path: Received: from mails.dpdk.org (mails.dpdk.org [217.70.189.124]) by inbox.dpdk.org (Postfix) with ESMTP id 9401D48869 for ; Tue, 30 Sep 2025 07:15:36 +0200 (CEST) Received: from mails.dpdk.org (localhost [127.0.0.1]) by mails.dpdk.org (Postfix) with ESMTP id 6FD6140150; Tue, 30 Sep 2025 07:15:36 +0200 (CEST) Received: from mail-pj1-f99.google.com (mail-pj1-f99.google.com [209.85.216.99]) by mails.dpdk.org (Postfix) with ESMTP id 7E27E40150 for ; Tue, 30 Sep 2025 07:15:34 +0200 (CEST) Received: by mail-pj1-f99.google.com with SMTP id 98e67ed59e1d1-3304dd2f119so4209337a91.2 for ; Mon, 29 Sep 2025 22:15:34 -0700 (PDT) DKIM-Signature: v=1; a=rsa-sha256; c=relaxed/relaxed; d=iol.unh.edu; s=unh-iol; t=1759209333; x=1759814133; darn=dpdk.org; h=references:in-reply-to:cc:to:from:subject:message-id:date:from:to :cc:subject:date:message-id:reply-to; bh=47kmXpF1lGgCebDRT5IY7S/EGjIR7wkuR0RaIXxUono=; b=Ion4Y6DJlnUZmkbEqQasRQvlMJCmrJh09HYP/8Cv8x+Y2Rm2ia+ZPPtowlM1GJOQHW NC1yKrLMztZ7eFekb8+jJn79y5/DlkMr9pCDOq5A7zN6NNDVL3VawUniNXPeI8ZBdqux gmnwkRYR+b1HwCfpXOAyj/LSvy6QJ4nnuVuFk= X-Google-DKIM-Signature: v=1; a=rsa-sha256; c=relaxed/relaxed; d=1e100.net; s=20230601; t=1759209333; x=1759814133; h=references:in-reply-to:cc:to:from:subject:message-id:date :x-gm-message-state:from:to:cc:subject:date:message-id:reply-to; bh=47kmXpF1lGgCebDRT5IY7S/EGjIR7wkuR0RaIXxUono=; b=Ut3cy4hbNsap8pz3mHXqiqOTlybqYeblY0My26vnLQmIns8sTqfeWz6SRF9/6AXazN boWaQnMTargR7hguASpwc3x2WI3kXgnoc/CMry8R7UY+sd4NOwcQTZP8to1h6PKZ0CQr 9A4qQxtD6O+hclyqrHg+x8aRI9AERrXsejD7QUfhQsK+J5VVRaMHd/fRe8HNbhezpW4j nQDqlAiqQ6Fgk7lu3Q3a/HUSAwZMktvfSwSh+X1iYrTNUp1RigGjQ7HQrkYvndk/ruGu i/hEAnUet77YvWAW3vwYnpzILqMgXqOhoNQx0j5AUFFxutzAWU5ftF9AjiHYMIxeEsQK rq5g== X-Gm-Message-State: AOJu0YwJMeHCGnF036npC7VrNm2IrNesO29YIejpP/Dl2YtDduyHofUF Huyn+c7n4WPUHgDd9+7qNmcYPMfiMhBghAmE4r3Xmqfy9No+4BfMxFzM8qC5xOqq/zocZLCamKj /8xlt1zc/s8+PCkFqvLzCYlXQJ/w5ZbtVqREKtd7QYt3FcCKSfM75wH0Uvrdy X-Gm-Gg: ASbGncs1Ow2gkDXld/UP0x8j8HTbBOcfiIHcXoFiaeR+1qjUVHO3qYxpPHBEzH34z0E TJl1QtQxU7GOflmn1DZZ2py/aaKFitDxaQZygxBjL3FySuFgSST8cFWxcOUhGDSflfqxg1w9nh7 1sEzqnMWR88Kr5iN+XY5DEJDbZfeOPIM6o3ivHiOBw1KuEN8VTMQtLQO4esiRmB37oUEPw/11Pi wbXGmqLp+ReuBBxospGnT+GJQGwCaHc/7k4mSI02KtE9rUyFOHB9ZTAzoHUARBI85v7oE4n00xw f3+HXABS+Ye08z+aoZzS21/OcokmE1CiSPQ+kYZqwaJ5f4YG9cdfSG0= X-Google-Smtp-Source: AGHT+IGtPegerSq10t9NO9+Zgm3LGxBnv4Yn2WbM30oFdDlu6AGiJUN1FbFNVsy2dsExHb+j/nwA9i1fLqsD X-Received: by 2002:a17:90b:1b4a:b0:330:72fb:ac13 with SMTP id 98e67ed59e1d1-3342a22cc80mr19520950a91.5.1759209333472; Mon, 29 Sep 2025 22:15:33 -0700 (PDT) Received: from postal.iol.unh.edu (postal.iol.unh.edu. [2606:4100:3880:1234::84]) by smtp-relay.gmail.com with ESMTPS id 98e67ed59e1d1-3341bdf76d2sm1111523a91.4.2025.09.29.22.15.33 (version=TLS1_2 cipher=ECDHE-ECDSA-AES128-GCM-SHA256 bits=128/128); Mon, 29 Sep 2025 22:15:33 -0700 (PDT) X-Relaying-Domain: iol.unh.edu Date: Mon, 29 Sep 2025 22:15:33 -0700 (PDT) Message-ID: <68db6775.170a0220.3f2f2.3609SMTPIN_ADDED_MISSING@mx.google.com> Received: from [172.21.0.2] (unknown [172.18.0.240]) by postal.iol.unh.edu (Postfix) with ESMTP id ACC836051830; Tue, 30 Sep 2025 01:15:32 -0400 (EDT) Subject: |SUCCESS| pw157036-157041 [PATCH] [v2,6/6] doc: update docs for ethd From: dpdklab@iol.unh.edu To: Test Report Cc: dpdk-test-reports@iol.unh.edu In-Reply-To: <20250929150009.1542208-7-bruce.richardson@intel.com> References: <20250929150009.1542208-7-bruce.richardson@intel.com> Content-Type: text/plain X-BeenThere: test-report@dpdk.org X-Mailman-Version: 2.1.29 Precedence: list List-Id: automatic DPDK test reports List-Unsubscribe: , List-Archive: List-Post: List-Help: List-Subscribe: , Errors-To: test-report-bounces@dpdk.org Test-Label: iol-unit-arm64-testing Test-Status: SUCCESS http://dpdk.org/patch/157041 _Testing PASS_ Submitter: Bruce Richardson Date: Monday, September 29 2025 15:00:09 DPDK git baseline: Repo:dpdk Branch: master CommitID:1d627ea13aeec2bcccf27246e6be2508370d171e 157036-157041 --> testing pass Upstream job id: Generic-Unit-Test-DPDK#376340 Test environment and result as below: +------------------------------+------------------------------+--------------+---------------------------+----------------+ | Environment | cryptodev_sw_snow3g_autotest | lpm_autotest | cryptodev_sw_zuc_autotest | dpdk_unit_test | +==============================+==============================+==============+===========================+================+ | Debian 12 (arm) | PASS | SKIPPED | PASS | SKIPPED | +------------------------------+------------------------------+--------------+---------------------------+----------------+ | Ubuntu 20.04 | SKIPPED | PASS | SKIPPED | PASS | +------------------------------+------------------------------+--------------+---------------------------+----------------+ | CentOS Stream 9 | SKIPPED | SKIPPED | SKIPPED | PASS | +------------------------------+------------------------------+--------------+---------------------------+----------------+ | Debian GNU/Linux 12 | SKIPPED | SKIPPED | SKIPPED | PASS | +------------------------------+------------------------------+--------------+---------------------------+----------------+ | Fedora Linux 40 | SKIPPED | SKIPPED | SKIPPED | PASS | +------------------------------+------------------------------+--------------+---------------------------+----------------+ | Fedora Linux 41 | SKIPPED | SKIPPED | SKIPPED | PASS | +------------------------------+------------------------------+--------------+---------------------------+----------------+ | CentOS Stream 10 | SKIPPED | SKIPPED | SKIPPED | PASS | +------------------------------+------------------------------+--------------+---------------------------+----------------+ | Red Hat Enterprise Linux 9.5 | SKIPPED | SKIPPED | SKIPPED | PASS | +------------------------------+------------------------------+--------------+---------------------------+----------------+ | Fedora Linux 42 | SKIPPED | SKIPPED | SKIPPED | PASS | +------------------------------+------------------------------+--------------+---------------------------+----------------+ | Ubuntu 24.04 | SKIPPED | SKIPPED | SKIPPED | PASS | +------------------------------+------------------------------+--------------+---------------------------+----------------+ | Ubuntu 22.04 | SKIPPED | SKIPPED | SKIPPED | PASS | +------------------------------+------------------------------+--------------+---------------------------+----------------+ Debian 12 (arm) Kernel: Depends on container host Compiler: gcc (Debian 12.2.0-14) 12.2.0 Ubuntu 20.04 Kernel: 5.4 Compiler: gcc gcc (Ubuntu 9.4.0-1ubuntu1~20.04.2) 9.4.0 CentOS Stream 9 Kernel: 5.4 Compiler: gcc gcc (GCC) 11.5.0 20240719 (Red Hat 11.5.0-11) Debian GNU/Linux 12 Kernel: 5.4 Compiler: gcc gcc (Debian 12.2.0-14+deb12u1) 12.2.0 Fedora Linux 40 Kernel: 5.4 Compiler: clang gcc (GCC) 14.2.1 20240912 (Red Hat 14.2.1-3) Fedora Linux 41 Kernel: 5.4 Compiler: clang gcc (GCC) 14.3.1 20250523 (Red Hat 14.3.1-1) CentOS Stream 10 Kernel: 5.4 Compiler: gcc gcc (GCC) 14.2.1 20250110 (Red Hat 14.2.1-8) Red Hat Enterprise Linux 9.5 Kernel: 5.4 Compiler: gcc gcc (GCC) 11.5.0 20240719 (Red Hat 11.5.0-2) Fedora Linux 42 Kernel: 5.4 Compiler: gcc gcc (GCC) 15.2.1 20250808 (Red Hat 15.2.1-1) Ubuntu 24.04 Kernel: 5.4 Compiler: gcc gcc (Ubuntu 13.3.0-6ubuntu2~24.04) 13.3.0 Ubuntu 22.04 Kernel: 5.4 Compiler: gcc gcc (Ubuntu 11.4.0-1ubuntu1~22.04) 11.4.0 To view detailed results, visit: https://lab.dpdk.org/results/dashboard/patchsets/34173/ UNH-IOL DPDK Community Lab To manage your email subscriptions, visit: https://lab.dpdk.org/results/dashboard/preferences/subscriptions/