From mboxrd@z Thu Jan 1 00:00:00 1970 Return-Path: Received: from mails.dpdk.org (mails.dpdk.org [217.70.189.124]) by inbox.dpdk.org (Postfix) with ESMTP id 0439E48869 for ; Tue, 30 Sep 2025 07:59:50 +0200 (CEST) Received: from mails.dpdk.org (localhost [127.0.0.1]) by mails.dpdk.org (Postfix) with ESMTP id D218D40150; Tue, 30 Sep 2025 07:59:50 +0200 (CEST) Received: from mail-io1-f97.google.com (mail-io1-f97.google.com [209.85.166.97]) by mails.dpdk.org (Postfix) with ESMTP id 2451A40150 for ; Tue, 30 Sep 2025 07:59:49 +0200 (CEST) Received: by mail-io1-f97.google.com with SMTP id ca18e2360f4ac-912d4135379so138743639f.1 for ; Mon, 29 Sep 2025 22:59:49 -0700 (PDT) DKIM-Signature: v=1; a=rsa-sha256; c=relaxed/relaxed; d=iol.unh.edu; s=unh-iol; t=1759211988; x=1759816788; darn=dpdk.org; h=cc:to:from:subject:message-id:date:from:to:cc:subject:date :message-id:reply-to; bh=QvYML19hUu2Klr1JJ1DAmDp34UCPrDYp5xtYgeWHXKI=; b=GyDiqVb5cg016t1UhNRKk0QSbMigr6UomOJnSqZlazws5ODCGpPf3x0u2/n+/LdODe v9wWZVRV5IAeYkFFAx2TfwuEovBGuL3pIw2URBcPnJcwUPM3WlpvqJ8qUomXFktndrlY di3Zwzequ8kMhlw72GBL4v68vjaoKY/qvAG4o= X-Google-DKIM-Signature: v=1; a=rsa-sha256; c=relaxed/relaxed; d=1e100.net; s=20230601; t=1759211988; x=1759816788; h=cc:to:from:subject:message-id:date:x-gm-message-state:from:to:cc :subject:date:message-id:reply-to; bh=QvYML19hUu2Klr1JJ1DAmDp34UCPrDYp5xtYgeWHXKI=; b=cd5+PWhoGpGNYlxcFVdqMboHsVf1BmQER5aHQh80nGqE1HUFuTKNE1obvNt1JfHxAy +KzGQ4Ovnt+9sTXgRVKW7D6YE7zF1b1lAJYtTlsp63TEBFjLfJgwf/Fx+QkBtccUouRP HpEzVGpIdzOrIlCkUXKFF0vvc1XUdMK/DrSjvSML30cwOIwgPGznCFGrv1pFIuUAJpfZ qQudq2fw9xhYPFjVEr5fLMYzmi25pG7+9FhmI/J+mVwaqa3sLBwCxocP4pRIb98SETiX r/8Wa64WmEvhEs/+pGUz+HnvJ15rzJ8Kv5dsjGsBC7aiR6bhS9OBd3mgxf/F4EPobKWB K8iw== X-Gm-Message-State: AOJu0YyvDYy0TeTmCP+WLdNK1qEYA+9fbS0O3MUUFICYH8cEIUpUXvGD fj4WGY8FWxyM84OM5I/0Nk7UTgrl6PQp/QVJNUYE+f/kBzhrH8Wqxij5kjJ6LAqGqwS8dLNDc1L HpxjWHIwQFKXVrp2vUVTr1IXl97lhHvalNDf2ocXC0BJUr+Wn6LMJ X-Gm-Gg: ASbGncvKPEBrnzL/CZ//hrGB3aVj/xWuDwilQV0CeHQyfRtQvXdgMaoOEXCC+zzgswy 4OXl8IHlFoxmLhM5hmIV9AZUWF7/NZMXbDtoNoo5hqvNmQLJhlO+L8Kyy6vh3XN7YjyMtRKYFPH 5w4rmJXliWenwGIDWmjVClTUMO8RFaY+7q9TJqMqnoEeSOb9/KRgxqSpyKy6yNRDSCYb5L9g18I 3deRyTGrWWAHV3KLFNkxzK2KQpKaOEo8s4TfeNBDf/JrZgHR/C1kjSol0psY0p+WPaZl9SQvNcy ih623lLRmB43K5Q0EnbLYMk8c5Rn/1gfWJiGsUbyIpomcZgbyLnIDmc= X-Google-Smtp-Source: AGHT+IFxrxAS+GGQDLGHmZ9g0X0wjrBEY4IrFahc1hShr8cMdPmjDuqAj48+MiNw8uOZEzNmbCi7YSj6UIbU X-Received: by 2002:a05:6602:2b8f:b0:887:54d4:a8c8 with SMTP id ca18e2360f4ac-90164e18c31mr2830923039f.12.1759211988320; Mon, 29 Sep 2025 22:59:48 -0700 (PDT) Received: from postal.iol.unh.edu (postal.iol.unh.edu. [2606:4100:3880:1234::84]) by smtp-relay.gmail.com with ESMTPS id 8926c6da1cb9f-575b94e191csm196800173.47.2025.09.29.22.59.48 (version=TLS1_2 cipher=ECDHE-ECDSA-AES128-GCM-SHA256 bits=128/128); Mon, 29 Sep 2025 22:59:48 -0700 (PDT) X-Relaying-Domain: iol.unh.edu Date: Mon, 29 Sep 2025 22:59:48 -0700 (PDT) Message-ID: <68db71d4.050a0220.382df9.bc75SMTPIN_ADDED_MISSING@mx.google.com> Received: from [172.21.0.3] (unknown [172.18.0.240]) by postal.iol.unh.edu (Postfix) with ESMTP id F249D6051830; Tue, 30 Sep 2025 01:59:47 -0400 (EDT) Subject: |SUCCESS| [GIT MASTER] b287e404643aeab5bb5db084c142789df187844e From: dpdklab@iol.unh.edu To: Test Report Cc: dpdk-test-reports@iol.unh.edu, Xueming Li , Christian Ehrhardt , Kevin Traynor , Luca Boccassi Content-Type: text/plain X-BeenThere: test-report@dpdk.org X-Mailman-Version: 2.1.29 Precedence: list List-Id: automatic DPDK test reports List-Unsubscribe: , List-Archive: List-Post: List-Help: List-Subscribe: , Errors-To: test-report-bounces@dpdk.org _Testing PASS_ Branch: tags/v24.11 b287e404643aeab5bb5db084c142789df187844e --> testing pass Upstream job id: Generic-Unit-Test-DPDK#376474 Test environment and result as below: +-------------------------------+----------------+ | Environment | dpdk_unit_test | +===============================+================+ | CentOS Stream 9 | PASS | +-------------------------------+----------------+ | Fedora Linux 40 | PASS | +-------------------------------+----------------+ | CentOS Stream 10 | PASS | +-------------------------------+----------------+ | Fedora Linux 41 | PASS | +-------------------------------+----------------+ | Debian GNU/Linux 12 | PASS | +-------------------------------+----------------+ | Fedora Linux 42 | PASS | +-------------------------------+----------------+ | Ubuntu 20.04 | PASS | +-------------------------------+----------------+ | Ubuntu 22.04 | PASS | +-------------------------------+----------------+ | Red Hat Enterprise Linux 8.10 | PASS | +-------------------------------+----------------+ | Red Hat Enterprise Linux 9.5 | PASS | +-------------------------------+----------------+ | Ubuntu 24.04 | PASS | +-------------------------------+----------------+ | Windows Server 2022 | PASS | +-------------------------------+----------------+ CentOS Stream 9 Kernel: 5.15 Compiler: gcc gcc (GCC) 11.5.0 20240719 (Red Hat 11.5.0-11) Fedora Linux 40 Kernel: 5.15 Compiler: gcc gcc (GCC) 14.2.1 20240912 (Red Hat 14.2.1-3) CentOS Stream 10 Kernel: 5.15 Compiler: gcc gcc (GCC) 14.2.1 20250110 (Red Hat 14.2.1-8) Fedora Linux 41 Kernel: 5.15 Compiler: clang gcc (GCC) 14.3.1 20250523 (Red Hat 14.3.1-1) Debian GNU/Linux 12 Kernel: 5.15 Compiler: gcc gcc (Debian 12.2.0-14+deb12u1) 12.2.0 Fedora Linux 42 Kernel: 5.15 Compiler: gcc gcc (GCC) 15.2.1 20250808 (Red Hat 15.2.1-1) Ubuntu 20.04 Kernel: 5.15 Compiler: gcc gcc (Ubuntu 9.4.0-1ubuntu1~20.04.2) 9.4.0 Ubuntu 22.04 Kernel: 5.15 Compiler: gcc gcc (Ubuntu 11.4.0-1ubuntu1~22.04) 11.4.0 Red Hat Enterprise Linux 8.10 Kernel: 5.15 Compiler: gcc gcc (GCC) 8.5.0 20210514 (Red Hat 8.5.0-22) Red Hat Enterprise Linux 9.5 Kernel: 5.15 Compiler: gcc gcc (GCC) 11.5.0 20240719 (Red Hat 11.5.0-2) Ubuntu 24.04 Kernel: 5.15 Compiler: gcc gcc (Ubuntu 13.3.0-6ubuntu2~24.04) 13.3.0 Windows Server 2022 Kernel: 10.0.20348.2031 Compiler: clang 15.0.7, gcc 14.1.0 (MinGW), and MSVC VS 19.39.33521 To view detailed results, visit: https://lab.dpdk.org/results/dashboard/tarballs/35053/ UNH-IOL DPDK Community Lab To manage your email subscriptions, visit: https://lab.dpdk.org/results/dashboard/preferences/subscriptions/