automatic DPDK test reports
 help / color / mirror / Atom feed
From: dpdklab@iol.unh.edu
To: Test Report <test-report@dpdk.org>
Cc: dpdk-test-reports@iol.unh.edu, Xueming Li <xuemingl@nvidia.com>,
	Christian Ehrhardt <christian.ehrhardt@canonical.com>,
	Kevin Traynor <ktraynor@redhat.com>,
	Luca Boccassi <bluca@debian.org>
Subject: |SUCCESS| [GIT MASTER] 3b43ce3f4a54468e7ef65760c2fd7b4d6ee6d9fc
Date: Mon, 29 Sep 2025 23:28:51 -0700 (PDT)	[thread overview]
Message-ID: <68db78a3.050a0220.13f02b.97b0SMTPIN_ADDED_MISSING@mx.google.com> (raw)

_Testing PASS_

Branch: tags/v22.11

3b43ce3f4a54468e7ef65760c2fd7b4d6ee6d9fc --> testing pass

Upstream job id: Generic-DPDK-Compile-Meson#429890

Test environment and result as below:

+-------------------------------+--------------------+-------------------------+----------------------+
|          Environment          | dpdk_meson_compile | dpdk_llvm_clang_compile | dpdk_mingw64_compile |
+===============================+====================+=========================+======================+
| Ubuntu 20.04                  | PASS               | SKIPPED                 | SKIPPED              |
+-------------------------------+--------------------+-------------------------+----------------------+
| FreeBSD 14.2                  | PASS               | SKIPPED                 | SKIPPED              |
+-------------------------------+--------------------+-------------------------+----------------------+
| CentOS Stream 9               | PASS               | SKIPPED                 | SKIPPED              |
+-------------------------------+--------------------+-------------------------+----------------------+
| CentOS Stream 10              | PASS               | SKIPPED                 | SKIPPED              |
+-------------------------------+--------------------+-------------------------+----------------------+
| Debian GNU/Linux 12           | PASS               | SKIPPED                 | SKIPPED              |
+-------------------------------+--------------------+-------------------------+----------------------+
| Fedora Linux 42               | PASS               | SKIPPED                 | SKIPPED              |
+-------------------------------+--------------------+-------------------------+----------------------+
| openSUSE Leap 15.6            | PASS               | SKIPPED                 | SKIPPED              |
+-------------------------------+--------------------+-------------------------+----------------------+
| Red Hat Enterprise Linux 8.10 | PASS               | SKIPPED                 | SKIPPED              |
+-------------------------------+--------------------+-------------------------+----------------------+
| Red Hat Enterprise Linux 9.5  | PASS               | SKIPPED                 | SKIPPED              |
+-------------------------------+--------------------+-------------------------+----------------------+
| Ubuntu 22.04                  | PASS               | SKIPPED                 | SKIPPED              |
+-------------------------------+--------------------+-------------------------+----------------------+
| Ubuntu 24.04                  | PASS               | SKIPPED                 | SKIPPED              |
+-------------------------------+--------------------+-------------------------+----------------------+
| Windows Server 2022           | SKIPPED            | PASS                    | PASS                 |
+-------------------------------+--------------------+-------------------------+----------------------+


Ubuntu 20.04
	Kernel: 4.19
	Compiler: gcc gcc (Ubuntu 9.4.0-1ubuntu1~20.04.2) 9.4.0

FreeBSD 14.2
	Kernel: 14.2-RELEASE
	Compiler: clang 18.1.6

CentOS Stream 9
	Kernel: 5.15
	Compiler: gcc gcc (GCC) 11.5.0 20240719 (Red Hat 11.5.0-11)

CentOS Stream 10
	Kernel: 5.15
	Compiler: gcc gcc (GCC) 14.2.1 20250110 (Red Hat 14.2.1-8)

Debian GNU/Linux 12
	Kernel: 5.15
	Compiler: gcc gcc (Debian 12.2.0-14+deb12u1) 12.2.0

Fedora Linux 42
	Kernel: 5.15
	Compiler: clang gcc (GCC) 15.2.1 20250808 (Red Hat 15.2.1-1)

openSUSE Leap 15.6
	Kernel: 5.15
	Compiler: gcc gcc (SUSE Linux) 7.5.0

Red Hat Enterprise Linux 8.10
	Kernel: 5.15
	Compiler: gcc gcc (GCC) 8.5.0 20210514 (Red Hat 8.5.0-22)

Red Hat Enterprise Linux 9.5
	Kernel: 5.15
	Compiler: gcc gcc (GCC) 11.5.0 20240719 (Red Hat 11.5.0-2)

Ubuntu 22.04
	Kernel: 5.15
	Compiler: gcc gcc (Ubuntu 11.4.0-1ubuntu1~22.04) 11.4.0

Ubuntu 24.04
	Kernel: 5.15
	Compiler: gcc gcc (Ubuntu 13.3.0-6ubuntu2~24.04) 13.3.0

Windows Server 2022
	Kernel: 10.0.20348.2031
	Compiler: clang 15.0.7, gcc 14.1.0 (MinGW), and MSVC VS 19.39.33521

To view detailed results, visit:
https://lab.dpdk.org/results/dashboard/tarballs/35051/

UNH-IOL DPDK Community Lab

To manage your email subscriptions, visit: 
https://lab.dpdk.org/results/dashboard/preferences/subscriptions/

             reply	other threads:[~2025-09-30  6:28 UTC|newest]

Thread overview: 181+ messages / expand[flat|nested]  mbox.gz  Atom feed  top
2025-09-30  6:28 dpdklab [this message]
  -- strict thread matches above, loose matches on Subject: below --
2025-10-03  0:15 dpdklab
2025-10-02 14:06 dpdklab
2025-10-02  5:43 dpdklab
2025-10-02  5:26 dpdklab
2025-10-02  4:32 dpdklab
2025-10-02  4:31 dpdklab
2025-10-02  4:25 dpdklab
2025-10-02  4:16 dpdklab
2025-10-02  2:05 dpdklab
2025-10-01 18:29 dpdklab
2025-10-01 14:19 dpdklab
2025-10-01  6:42 dpdklab
2025-10-01  6:29 dpdklab
2025-10-01  5:45 dpdklab
2025-10-01  5:45 dpdklab
2025-10-01  5:07 dpdklab
2025-10-01  5:06 dpdklab
2025-10-01  4:56 dpdklab
2025-10-01  4:53 dpdklab
2025-10-01  4:47 dpdklab
2025-10-01  4:47 dpdklab
2025-10-01  4:40 dpdklab
2025-09-30 17:36 dpdklab
2025-09-30 17:04 dpdklab
2025-09-30  5:29 dpdklab
2025-09-30  5:24 dpdklab
2025-09-30  5:24 dpdklab
2025-09-30  4:42 dpdklab
2025-09-30  4:35 dpdklab
2025-09-30  4:31 dpdklab
2025-09-30  4:20 dpdklab
2025-09-30  4:19 dpdklab
2025-09-30  4:17 dpdklab
2025-09-29  7:11 dpdklab
2025-09-29  7:06 dpdklab
2025-09-29  6:49 dpdklab
2025-09-29  6:11 dpdklab
2025-09-29  6:09 dpdklab
2025-09-29  6:08 dpdklab
2025-09-29  5:52 dpdklab
2025-09-29  5:52 dpdklab
2025-09-29  5:19 dpdklab
2025-09-29  4:52 dpdklab
2025-09-29  4:46 dpdklab
2025-09-29  4:42 dpdklab
2025-09-28  5:38 dpdklab
2025-09-28  5:29 dpdklab
2025-09-28  5:24 dpdklab
2025-09-28  5:24 dpdklab
2025-09-28  5:14 dpdklab
2025-09-28  4:45 dpdklab
2025-09-28  4:29 dpdklab
2025-09-28  4:28 dpdklab
2025-09-28  4:20 dpdklab
2025-09-28  4:17 dpdklab
2025-09-28  4:16 dpdklab
2025-09-27 12:12 dpdklab
2025-09-27  5:58 dpdklab
2025-09-27  5:38 dpdklab
2025-09-27  5:34 dpdklab
2025-09-27  5:27 dpdklab
2025-09-27  5:24 dpdklab
2025-09-27  5:24 dpdklab
2025-09-27  5:19 dpdklab
2025-09-27  5:19 dpdklab
2025-09-27  5:19 dpdklab
2025-09-27  5:18 dpdklab
2025-09-27  4:49 dpdklab
2025-09-27  4:34 dpdklab
2025-09-27  4:31 dpdklab
2025-09-27  0:37 dpdklab
2025-09-26 22:08 dpdklab
2025-09-26  7:15 dpdklab
2025-09-26  5:46 dpdklab
2025-09-26  5:36 dpdklab
2025-09-26  5:36 dpdklab
2025-09-26  5:36 dpdklab
2025-09-26  5:36 dpdklab
2025-09-26  5:36 dpdklab
2025-09-26  5:35 dpdklab
2025-09-26  5:24 dpdklab
2025-09-26  5:17 dpdklab
2025-09-26  4:23 dpdklab
2025-09-26  4:22 dpdklab
2025-09-25 18:04 dpdklab
2025-09-25  8:58 dpdklab
2025-09-25  6:17 dpdklab
2025-09-25  5:53 dpdklab
2025-09-25  5:39 dpdklab
2025-09-25  5:24 dpdklab
2025-09-25  5:24 dpdklab
2025-09-25  5:16 dpdklab
2025-09-25  4:46 dpdklab
2025-09-25  4:21 dpdklab
2025-09-25  4:17 dpdklab
2025-09-25  4:16 dpdklab
2025-09-24  7:06 dpdklab
2025-09-24  5:33 dpdklab
2025-09-24  5:24 dpdklab
2025-09-24  5:23 dpdklab
2025-09-24  5:11 dpdklab
2025-09-24  4:58 dpdklab
2025-09-24  4:29 dpdklab
2025-09-24  4:28 dpdklab
2025-09-24  4:20 dpdklab
2025-09-24  4:17 dpdklab
2025-09-23  7:02 dpdklab
2025-09-23  5:56 dpdklab
2025-09-23  5:52 dpdklab
2025-09-23  5:51 dpdklab
2025-09-23  5:37 dpdklab
2025-09-23  5:33 dpdklab
2025-09-23  5:25 dpdklab
2025-09-23  4:46 dpdklab
2025-09-23  4:43 dpdklab
2025-09-23  4:31 dpdklab
2025-09-23  4:29 dpdklab
2025-09-23  4:19 dpdklab
2025-09-23  4:11 dpdklab
2025-09-22  6:53 dpdklab
2025-09-22  6:15 dpdklab
2025-09-22  5:29 dpdklab
2025-09-22  5:24 dpdklab
2025-09-22  5:24 dpdklab
2025-09-22  5:24 dpdklab
2025-09-22  5:08 dpdklab
2025-09-22  4:42 dpdklab
2025-09-22  4:28 dpdklab
2025-09-22  4:20 dpdklab
2025-09-22  4:17 dpdklab
2025-09-21  7:15 dpdklab
2025-09-21  5:57 dpdklab
2025-09-21  5:49 dpdklab
2025-09-21  5:38 dpdklab
2025-09-21  5:28 dpdklab
2025-09-21  5:24 dpdklab
2025-09-21  5:24 dpdklab
2025-09-21  5:08 dpdklab
2025-09-21  5:07 dpdklab
2025-09-21  4:53 dpdklab
2025-09-21  4:37 dpdklab
2025-09-21  4:31 dpdklab
2025-09-21  4:29 dpdklab
2025-09-20 10:02 dpdklab
2025-09-20  7:59 dpdklab
2025-09-20  6:08 dpdklab
2025-09-20  5:32 dpdklab
2025-09-20  5:30 dpdklab
2025-09-20  5:24 dpdklab
2025-09-20  5:24 dpdklab
2025-09-20  4:45 dpdklab
2025-09-20  4:29 dpdklab
2025-09-20  4:28 dpdklab
2025-09-20  4:20 dpdklab
2025-09-20  4:17 dpdklab
2025-09-20  4:16 dpdklab
2025-09-19 16:45 dpdklab
2025-09-19  8:36 dpdklab
2025-09-19  5:32 dpdklab
2025-09-19  5:24 dpdklab
2025-09-19  5:12 dpdklab
2025-09-19  5:03 dpdklab
2025-09-19  4:52 dpdklab
2025-09-19  4:29 dpdklab
2025-09-19  4:28 dpdklab
2025-09-19  4:20 dpdklab
2025-09-19  4:11 dpdklab
2025-09-18 19:10 dpdklab
2025-09-18 10:47 dpdklab
2025-09-18 10:00 dpdklab
2025-09-18  6:02 dpdklab
2025-09-18  5:33 dpdklab
2025-09-18  5:27 dpdklab
2025-09-18  5:24 dpdklab
2025-09-18  5:24 dpdklab
2025-09-18  4:55 dpdklab
2025-09-18  4:29 dpdklab
2025-09-18  4:21 dpdklab
2025-09-18  4:17 dpdklab
2025-09-18  4:17 dpdklab

Reply instructions:

You may reply publicly to this message via plain-text email
using any one of the following methods:

* Save the following mbox file, import it into your mail client,
  and reply-to-all from there: mbox

  Avoid top-posting and favor interleaved quoting:
  https://en.wikipedia.org/wiki/Posting_style#Interleaved_style

* Reply using the --to, --cc, and --in-reply-to
  switches of git-send-email(1):

  git send-email \
    --in-reply-to=68db78a3.050a0220.13f02b.97b0SMTPIN_ADDED_MISSING@mx.google.com \
    --to=dpdklab@iol.unh.edu \
    --cc=bluca@debian.org \
    --cc=christian.ehrhardt@canonical.com \
    --cc=dpdk-test-reports@iol.unh.edu \
    --cc=ktraynor@redhat.com \
    --cc=test-report@dpdk.org \
    --cc=xuemingl@nvidia.com \
    /path/to/YOUR_REPLY

  https://kernel.org/pub/software/scm/git/docs/git-send-email.html

* If your mail client supports setting the In-Reply-To header
  via mailto: links, try the mailto: link
Be sure your reply has a Subject: header at the top and a blank line before the message body.
This is a public inbox, see mirroring instructions
for how to clone and mirror all data and code used for this inbox;
as well as URLs for NNTP newsgroup(s).