From mboxrd@z Thu Jan 1 00:00:00 1970 Return-Path: Received: from mails.dpdk.org (mails.dpdk.org [217.70.189.124]) by inbox.dpdk.org (Postfix) with ESMTP id 9E6F34886D for ; Tue, 30 Sep 2025 08:28:54 +0200 (CEST) Received: from mails.dpdk.org (localhost [127.0.0.1]) by mails.dpdk.org (Postfix) with ESMTP id 7491B40150; Tue, 30 Sep 2025 08:28:54 +0200 (CEST) Received: from mail-qt1-f226.google.com (mail-qt1-f226.google.com [209.85.160.226]) by mails.dpdk.org (Postfix) with ESMTP id C848C40150 for ; Tue, 30 Sep 2025 08:28:52 +0200 (CEST) Received: by mail-qt1-f226.google.com with SMTP id d75a77b69052e-4db7e5a653cso45398741cf.1 for ; Mon, 29 Sep 2025 23:28:52 -0700 (PDT) DKIM-Signature: v=1; a=rsa-sha256; c=relaxed/relaxed; d=iol.unh.edu; s=unh-iol; t=1759213732; x=1759818532; darn=dpdk.org; h=cc:to:from:subject:message-id:date:from:to:cc:subject:date :message-id:reply-to; bh=PrXngNqE/mQm6w7OBuSl+tMtcooFfr9xNST9Z3nl5nc=; b=dz154o+k6yVBrrA8vS4Uok5UefA4TllvZChwKDLaQ468ElpVPHJYvH0SKEjghnHr+V WlbMPbdekfYvXt1KCapo3kiN3UFGPhUXEfvoz5KID4nnasTmPMbDS94+qp7j285v3k6J azvtOK4AUaLTOKrgTTraOsC0dwxuRHZ7uU32o= X-Google-DKIM-Signature: v=1; a=rsa-sha256; c=relaxed/relaxed; d=1e100.net; s=20230601; t=1759213732; x=1759818532; h=cc:to:from:subject:message-id:date:x-gm-message-state:from:to:cc :subject:date:message-id:reply-to; bh=PrXngNqE/mQm6w7OBuSl+tMtcooFfr9xNST9Z3nl5nc=; b=FSilDS6O3kW8CLq4thYlY1ZeeYpcDcjgfGw40XwK1Ks82NSdQOJsH3kutOLZf7TVEl Jg6wzk+sLDt235JecTSeSxx8GElZq744TTXQIO4UjMur8Xfz1XWKuBlOMtjjh84TjQCk zdcekwpq4XcsNyztO66DvMAAPXFfLu+NdO1/fLWn6/YhFeTHD6xURzMiEaaD0ouWTz6I gw3Lf4/Yz2B9A1RNJcqhoxeCJLlPn/Di7TjKnnyNic0NLUbqjM8Iuv/Qv/Vp1F9FHt8k 9TkGl0yTsEahGtX4hsuTDQVxCJZUssQH+qPKO16RkqtxJJy4o0kBNb7fuP+C8/IqOpgL qSPg== X-Gm-Message-State: AOJu0Yzk0TtCSd223EeYXZBQHsA7Xq1O9FmU8VZOY2oeEebsvfXM7Hp7 uJDC9wzFppFsLygbw3h35/KaPQnzSAKDJ0AJNJKRtAyy/IXvU476jdGROUkVQYWKNooc0AuZhaB xJFpu9wZUKY8sgUdtkyGHvuqTVpKHKXtuwnKI X-Gm-Gg: ASbGncshUOZq2bVjlnUqlL/wE6NyaxkOpF2wUKESm3kVcFYtpqb/f1qCqath0yyWhn3 ECc+IyI011tSAw5J2cmQ6dWsegtEZkXzVzLHHE3gMUEUSmXssLqq9s1Pz5BWn5crmh9tjUF8+jZ k1UcKm8OIwvDuKtqmhGCNveb4fTSveVsyEOWykWOs/foqttB9JmNNuBwAy6XUgAWfS2gUllJY2f TtSwJhNiSrg4G8NYOxvdpge7FkQ8oYE99PNxH1fWq04N+lzCRNljd0gBx5yjaKmZx7yy6i7VRXe vuqLdy+qmUd+6X+w66zse3urKufy9t8b+zjd9uR3pPQNHWUk4TUbUusTyd/AfJbBOxrEvD0PNnY hZg== X-Google-Smtp-Source: AGHT+IGO4JCTPb2+J99QqfNVVizYT/xwoftrZI/pmLSrPmaNz3YkD2zNK+f2OjweF6Ey8W/yCuRS3r/ltvlB X-Received: by 2002:a05:622a:2519:b0:4b5:ec99:7815 with SMTP id d75a77b69052e-4da48c83bf9mr282658501cf.19.1759213731985; Mon, 29 Sep 2025 23:28:51 -0700 (PDT) Received: from postal.iol.unh.edu (postal.iol.unh.edu. [132.177.123.84]) by smtp-relay.gmail.com with ESMTPS id 6a1803df08f44-80132c7b665sm9478646d6.7.2025.09.29.23.28.51 (version=TLS1_2 cipher=ECDHE-ECDSA-AES128-GCM-SHA256 bits=128/128); Mon, 29 Sep 2025 23:28:51 -0700 (PDT) X-Relaying-Domain: iol.unh.edu Date: Mon, 29 Sep 2025 23:28:51 -0700 (PDT) Message-ID: <68db78a3.050a0220.13f02b.97b0SMTPIN_ADDED_MISSING@mx.google.com> Received: from [172.21.0.3] (unknown [172.18.0.240]) by postal.iol.unh.edu (Postfix) with ESMTP id A46A76051830; Tue, 30 Sep 2025 02:28:51 -0400 (EDT) Subject: |SUCCESS| [GIT MASTER] 3b43ce3f4a54468e7ef65760c2fd7b4d6ee6d9fc From: dpdklab@iol.unh.edu To: Test Report Cc: dpdk-test-reports@iol.unh.edu, Xueming Li , Christian Ehrhardt , Kevin Traynor , Luca Boccassi Content-Type: text/plain X-BeenThere: test-report@dpdk.org X-Mailman-Version: 2.1.29 Precedence: list List-Id: automatic DPDK test reports List-Unsubscribe: , List-Archive: List-Post: List-Help: List-Subscribe: , Errors-To: test-report-bounces@dpdk.org _Testing PASS_ Branch: tags/v22.11 3b43ce3f4a54468e7ef65760c2fd7b4d6ee6d9fc --> testing pass Upstream job id: Generic-DPDK-Compile-Meson#429890 Test environment and result as below: +-------------------------------+--------------------+-------------------------+----------------------+ | Environment | dpdk_meson_compile | dpdk_llvm_clang_compile | dpdk_mingw64_compile | +===============================+====================+=========================+======================+ | Ubuntu 20.04 | PASS | SKIPPED | SKIPPED | +-------------------------------+--------------------+-------------------------+----------------------+ | FreeBSD 14.2 | PASS | SKIPPED | SKIPPED | +-------------------------------+--------------------+-------------------------+----------------------+ | CentOS Stream 9 | PASS | SKIPPED | SKIPPED | +-------------------------------+--------------------+-------------------------+----------------------+ | CentOS Stream 10 | PASS | SKIPPED | SKIPPED | +-------------------------------+--------------------+-------------------------+----------------------+ | Debian GNU/Linux 12 | PASS | SKIPPED | SKIPPED | +-------------------------------+--------------------+-------------------------+----------------------+ | Fedora Linux 42 | PASS | SKIPPED | SKIPPED | +-------------------------------+--------------------+-------------------------+----------------------+ | openSUSE Leap 15.6 | PASS | SKIPPED | SKIPPED | +-------------------------------+--------------------+-------------------------+----------------------+ | Red Hat Enterprise Linux 8.10 | PASS | SKIPPED | SKIPPED | +-------------------------------+--------------------+-------------------------+----------------------+ | Red Hat Enterprise Linux 9.5 | PASS | SKIPPED | SKIPPED | +-------------------------------+--------------------+-------------------------+----------------------+ | Ubuntu 22.04 | PASS | SKIPPED | SKIPPED | +-------------------------------+--------------------+-------------------------+----------------------+ | Ubuntu 24.04 | PASS | SKIPPED | SKIPPED | +-------------------------------+--------------------+-------------------------+----------------------+ | Windows Server 2022 | SKIPPED | PASS | PASS | +-------------------------------+--------------------+-------------------------+----------------------+ Ubuntu 20.04 Kernel: 4.19 Compiler: gcc gcc (Ubuntu 9.4.0-1ubuntu1~20.04.2) 9.4.0 FreeBSD 14.2 Kernel: 14.2-RELEASE Compiler: clang 18.1.6 CentOS Stream 9 Kernel: 5.15 Compiler: gcc gcc (GCC) 11.5.0 20240719 (Red Hat 11.5.0-11) CentOS Stream 10 Kernel: 5.15 Compiler: gcc gcc (GCC) 14.2.1 20250110 (Red Hat 14.2.1-8) Debian GNU/Linux 12 Kernel: 5.15 Compiler: gcc gcc (Debian 12.2.0-14+deb12u1) 12.2.0 Fedora Linux 42 Kernel: 5.15 Compiler: clang gcc (GCC) 15.2.1 20250808 (Red Hat 15.2.1-1) openSUSE Leap 15.6 Kernel: 5.15 Compiler: gcc gcc (SUSE Linux) 7.5.0 Red Hat Enterprise Linux 8.10 Kernel: 5.15 Compiler: gcc gcc (GCC) 8.5.0 20210514 (Red Hat 8.5.0-22) Red Hat Enterprise Linux 9.5 Kernel: 5.15 Compiler: gcc gcc (GCC) 11.5.0 20240719 (Red Hat 11.5.0-2) Ubuntu 22.04 Kernel: 5.15 Compiler: gcc gcc (Ubuntu 11.4.0-1ubuntu1~22.04) 11.4.0 Ubuntu 24.04 Kernel: 5.15 Compiler: gcc gcc (Ubuntu 13.3.0-6ubuntu2~24.04) 13.3.0 Windows Server 2022 Kernel: 10.0.20348.2031 Compiler: clang 15.0.7, gcc 14.1.0 (MinGW), and MSVC VS 19.39.33521 To view detailed results, visit: https://lab.dpdk.org/results/dashboard/tarballs/35051/ UNH-IOL DPDK Community Lab To manage your email subscriptions, visit: https://lab.dpdk.org/results/dashboard/preferences/subscriptions/