From mboxrd@z Thu Jan 1 00:00:00 1970 Return-Path: Received: from mails.dpdk.org (mails.dpdk.org [217.70.189.124]) by inbox.dpdk.org (Postfix) with ESMTP id D5EEF4886D for ; Tue, 30 Sep 2025 09:46:57 +0200 (CEST) Received: from mails.dpdk.org (localhost [127.0.0.1]) by mails.dpdk.org (Postfix) with ESMTP id D1186400D7; Tue, 30 Sep 2025 09:46:57 +0200 (CEST) Received: from mail-il1-f228.google.com (mail-il1-f228.google.com [209.85.166.228]) by mails.dpdk.org (Postfix) with ESMTP id A6040400D7 for ; Tue, 30 Sep 2025 09:46:56 +0200 (CEST) Received: by mail-il1-f228.google.com with SMTP id e9e14a558f8ab-42d7b620348so4035885ab.0 for ; Tue, 30 Sep 2025 00:46:56 -0700 (PDT) DKIM-Signature: v=1; a=rsa-sha256; c=relaxed/relaxed; d=iol.unh.edu; s=unh-iol; t=1759218416; x=1759823216; darn=dpdk.org; h=references:in-reply-to:cc:to:from:subject:message-id:date:from:to :cc:subject:date:message-id:reply-to; bh=jR11PkJ24F57mruJkj3tn9vYrvmGBWw5CGGe3dIQmOs=; b=QZ9auVUmNXcSChNsgepcAsl1j/FaKJbvV1vGxibhRF28mpjR7mq4IVODsRK5kEjJuq yTx3cJj50mWnBTObFE2CNXY57OL2v9ztzwAWbO1+gULBilMBgYJhBL718z7DdScvl3fO 4v7/8i0XTOisQTw7cO6uffx72qP8NvzHkFFck= X-Google-DKIM-Signature: v=1; a=rsa-sha256; c=relaxed/relaxed; d=1e100.net; s=20230601; t=1759218416; x=1759823216; h=references:in-reply-to:cc:to:from:subject:message-id:date :x-gm-message-state:from:to:cc:subject:date:message-id:reply-to; bh=jR11PkJ24F57mruJkj3tn9vYrvmGBWw5CGGe3dIQmOs=; b=Dxcz+kit0KCqqzXn2tEGICLBjgxOKRa9ObGsQtDt6Ez+3NsfbPyMKAfdSjpwdnafdM qxC+vqLi7DH3vCYR1MIph/PqS+R9ihg2okwE5izhwq0JHauCaeJCB1tzWhOtyKV628cC VEliJxGAMWtHrz6O9JK0eIcggOTNh7R/3PUKkOku2+pIguq7U3AZqbcf8Ygr9JV7IQRS /0JZS3YT9vf++y6HNm1l0DjFHSvicgr1UUAUP074M5mfFtbE4ItB4jF8LhwGcfaT114X mLjY8082zYsvp6QRIKvg+5sN+hJSeScH0cDtXFRE7LmQVJVvkxW/M3wyvt/One2RHxss Qnbw== X-Gm-Message-State: AOJu0YxL4M83/JksN0fvyNzWv7d/TqsLQ6XELC5vMZAnfQwDd4QmTDtR 705B25Di/2DpOaB4k10DlR0wtYAyOaP0O0ALPryApxlJvWN0XZO+QjdogW2DVhuRKgeStDcDUpQ FK2LmTC07D3HxHvd8MQwVID74mtSFzzFIsZFXvapNkVdxKYMkoevZLF56yH3G X-Gm-Gg: ASbGncugRebxyBM5BHHJOoS7wBRsHeWW3hhdL/MZxby/9ZY/CBUjXqT7NUUBXMJhvjb +I+y0YciEIQ48XpbKDpaqzXQ0KS9orr0bfEkp0fVKunKyFrO0SiIW6zW4KdEsRDXaTjSTArNpRf 6rhTiTATBf24iCwUUlZpcAEt2M8wdhFlv4q3Im2yhXH78aiYVaJI1Ugj2mFfNXLxckXxb/qftNF kaZ7B0kTOT+0BA/7ra1Xm6avDSK1doFwsYaYRaLDAcpwB3sQ3QpfXBVTgkWAw4hhi5NroFyxmtR o9hFoFYSy5w6+tx6reSka6mpUDh+gc/8KJllH7IryXJNPwoUwfda2rU= X-Google-Smtp-Source: AGHT+IELb9myRjVijA4Vet5N7MNYJmckpMjpXx81t3b/Y9rCocBdrZTV96y2nY+CDStV3XG3dJb2iIJrN11v X-Received: by 2002:a05:6e02:1562:b0:42a:1be2:88f1 with SMTP id e9e14a558f8ab-42c6b5bca1bmr76450795ab.26.1759218415997; Tue, 30 Sep 2025 00:46:55 -0700 (PDT) Received: from postal.iol.unh.edu (postal.iol.unh.edu. [2606:4100:3880:1234::84]) by smtp-relay.gmail.com with ESMTPS id 8926c6da1cb9f-5749c96f5cfsm290441173.38.2025.09.30.00.46.55 (version=TLS1_2 cipher=ECDHE-ECDSA-AES128-GCM-SHA256 bits=128/128); Tue, 30 Sep 2025 00:46:55 -0700 (PDT) X-Relaying-Domain: iol.unh.edu Date: Tue, 30 Sep 2025 00:46:55 -0700 (PDT) Message-ID: <68db8aef.050a0220.3777d7.1acfSMTPIN_ADDED_MISSING@mx.google.com> Received: from [172.21.0.2] (unknown [172.18.0.240]) by postal.iol.unh.edu (Postfix) with ESMTP id 93C676051830; Tue, 30 Sep 2025 03:46:55 -0400 (EDT) Subject: |SUCCESS| pw157036-157041 [PATCH] [v2,6/6] doc: update docs for ethd From: dpdklab@iol.unh.edu To: Test Report Cc: dpdk-test-reports@iol.unh.edu In-Reply-To: <20250929150009.1542208-7-bruce.richardson@intel.com> References: <20250929150009.1542208-7-bruce.richardson@intel.com> Content-Type: text/plain X-BeenThere: test-report@dpdk.org X-Mailman-Version: 2.1.29 Precedence: list List-Id: automatic DPDK test reports List-Unsubscribe: , List-Archive: List-Post: List-Help: List-Subscribe: , Errors-To: test-report-bounces@dpdk.org Test-Label: iol-compile-arm64-testing Test-Status: SUCCESS http://dpdk.org/patch/157041 _Testing PASS_ Submitter: Bruce Richardson Date: Monday, September 29 2025 15:00:09 DPDK git baseline: Repo:dpdk Branch: master CommitID:1d627ea13aeec2bcccf27246e6be2508370d171e 157036-157041 --> testing pass Upstream job id: Generic-DPDK-Compile-Meson#429795 Test environment and result as below: +------------------------------+--------------------+ | Environment | dpdk_meson_compile | +==============================+====================+ | Red Hat Enterprise Linux 9.5 | PASS | +------------------------------+--------------------+ | Ubuntu 20.04 | PASS | +------------------------------+--------------------+ | Debian GNU/Linux 12 | PASS | +------------------------------+--------------------+ | Fedora Linux 42 | PASS | +------------------------------+--------------------+ | Ubuntu 22.04 | PASS | +------------------------------+--------------------+ | Ubuntu 24.04 | PASS | +------------------------------+--------------------+ | CentOS Stream 9 | PASS | +------------------------------+--------------------+ | CentOS Stream 10 | PASS | +------------------------------+--------------------+ Red Hat Enterprise Linux 9.5 Kernel: 5.4 Compiler: gcc gcc (GCC) 11.5.0 20240719 (Red Hat 11.5.0-2) Ubuntu 20.04 Kernel: 5.15 Compiler: aarch64-linux-gnu-gcc gcc (Ubuntu 9.4.0-1ubuntu1~20.04.2) 9.4.0 Debian GNU/Linux 12 Kernel: 5.4 Compiler: gcc gcc (Debian 12.2.0-14+deb12u1) 12.2.0 Fedora Linux 42 Kernel: 5.4 Compiler: gcc gcc (GCC) 15.2.1 20250808 (Red Hat 15.2.1-1) Ubuntu 22.04 Kernel: 5.4 Compiler: gcc gcc (Ubuntu 11.4.0-1ubuntu1~22.04) 11.4.0 Ubuntu 24.04 Kernel: 5.4 Compiler: gcc gcc (Ubuntu 13.3.0-6ubuntu2~24.04) 13.3.0 CentOS Stream 9 Kernel: 5.4 Compiler: gcc gcc (GCC) 11.5.0 20240719 (Red Hat 11.5.0-11) CentOS Stream 10 Kernel: 5.4 Compiler: gcc gcc (GCC) 14.2.1 20250110 (Red Hat 14.2.1-8) To view detailed results, visit: https://lab.dpdk.org/results/dashboard/patchsets/34173/ UNH-IOL DPDK Community Lab To manage your email subscriptions, visit: https://lab.dpdk.org/results/dashboard/preferences/subscriptions/