From mboxrd@z Thu Jan 1 00:00:00 1970 Return-Path: Received: from mails.dpdk.org (mails.dpdk.org [217.70.189.124]) by inbox.dpdk.org (Postfix) with ESMTP id E46224886D for ; Tue, 30 Sep 2025 09:47:12 +0200 (CEST) Received: from mails.dpdk.org (localhost [127.0.0.1]) by mails.dpdk.org (Postfix) with ESMTP id DF8F2400D7; Tue, 30 Sep 2025 09:47:12 +0200 (CEST) Received: from mail-io1-f99.google.com (mail-io1-f99.google.com [209.85.166.99]) by mails.dpdk.org (Postfix) with ESMTP id F1DCF400D7 for ; Tue, 30 Sep 2025 09:47:11 +0200 (CEST) Received: by mail-io1-f99.google.com with SMTP id ca18e2360f4ac-92cebee95a8so68774339f.0 for ; Tue, 30 Sep 2025 00:47:11 -0700 (PDT) DKIM-Signature: v=1; a=rsa-sha256; c=relaxed/relaxed; d=iol.unh.edu; s=unh-iol; t=1759218431; x=1759823231; darn=dpdk.org; h=references:in-reply-to:cc:to:from:subject:message-id:date:from:to :cc:subject:date:message-id:reply-to; bh=5JMNXS/qdAAR+Y1AyU6z7w4Fjp88VAl3QSe4Q8v7m1A=; b=e/JtWR3zP448cmc5FH0jZCNjJ9Kq0aBLEG6yp+XBKLgi9xwDlTU4FDfYOWfWI+8zFj iM3Oz9HQxXRAe8gysysV+w9DBLi8c6QRwpMkdG5VVYxXFy4t8fX5EYqEmJ81QoUDiGiF UXQbc2IAX4ihZYuAno9vgEtO9ugR9+VOwGIAM= X-Google-DKIM-Signature: v=1; a=rsa-sha256; c=relaxed/relaxed; d=1e100.net; s=20230601; t=1759218431; x=1759823231; h=references:in-reply-to:cc:to:from:subject:message-id:date :x-gm-message-state:from:to:cc:subject:date:message-id:reply-to; bh=5JMNXS/qdAAR+Y1AyU6z7w4Fjp88VAl3QSe4Q8v7m1A=; b=tNFCmAKBv4aKCtVy9AyvfVd+DgIeLf67igTfyuulT48oBt268lxrG3s+QTJvBDjmuX y0wm2wS4tLj/UUq53xeUOlpobl13k9mO6CDtCAwp4C8l9M5mNmY+TLLLFFagSz2idkAu 1yUEdqnurPxhiOyEsoveNOivGFsndWwc8+azrnrFu+l/TWc343TyqOhVy7Ko8EQ83Yb0 NW+r5GdCNYFXsdLU+r6xNh1lK5/IinekGMtRW7qkMVccI0IpwgAWl6oxkm0j1LGDnYdi 9U9BfqEHAHltF63GnL1baVYNXdxl2J7kuvrrYxBbAkkhoot45HEmJdujq1YyNowrLlf7 zx8g== X-Gm-Message-State: AOJu0YyL+M5XIOZJcxnfZhLhmbtmNX3Tp3nzfMjhNSqB4jUPlbUL3Tc/ Zy3fjP1ETOQA/J62sT8B/4IJSHrvALPECp5oWwRjNRgWzMLNk0VERB9L50st0HvHkSsrpr8zFha 2yI6fSKuy/xYjplKYC8bhZjZ8As6pAPkEafbI1BrPnlptiVw7cQvQvlOVlgLA X-Gm-Gg: ASbGncsWofHw3Uy8QGJg4C4GOJRiL2ivXDIcwEPD/zuEIxyEyqDHDLzz1W/FIglhyAl pGsYxg48Ut6QSkMM0FufvcdM5Km5LwomjkZ1FygS3l65QQ13GSDl/vM6WQsl+U0lAj5izzo7XLJ 8Pn8l6utNfDw8V/ABD3YbxHahWn1fYyYW3K0dfkEhGpOIyOdDCMgZXgj9dL8Ws0wDlrn3Hd56dH 81vE1L71VEeCdRQ08M2lsQh67XpK5vlJKDcz716smdkIXjYjBGZ8yCWoOmVqUKMSKqlgC++H96W gJx9WmF7WrpWTstjBU+3riOj6KrB4uQ0S+8zm5QwcnsRmG/Ogl1RsBY= X-Google-Smtp-Source: AGHT+IH2xGs2iJT/ZAOD3xdYJnBvTK51GOm1JhT+5H72XA1DvwMo3T5Z1i9axHklJPCezpdo1UkE6mXeewHi X-Received: by 2002:a05:6e02:2186:b0:428:d63f:e723 with SMTP id e9e14a558f8ab-428d63fe981mr125463375ab.21.1759218431282; Tue, 30 Sep 2025 00:47:11 -0700 (PDT) Received: from postal.iol.unh.edu (postal.iol.unh.edu. [2606:4100:3880:1234::84]) by smtp-relay.gmail.com with ESMTPS id 8926c6da1cb9f-57553104316sm240621173.25.2025.09.30.00.47.11 (version=TLS1_2 cipher=ECDHE-ECDSA-AES128-GCM-SHA256 bits=128/128); Tue, 30 Sep 2025 00:47:11 -0700 (PDT) X-Relaying-Domain: iol.unh.edu Date: Tue, 30 Sep 2025 00:47:11 -0700 (PDT) Message-ID: <68db8aff.050a0220.32b1b3.e63eSMTPIN_ADDED_MISSING@mx.google.com> Received: from [172.21.0.2] (unknown [172.18.0.240]) by postal.iol.unh.edu (Postfix) with ESMTP id EF0486051830; Tue, 30 Sep 2025 03:47:10 -0400 (EDT) Subject: |SUCCESS| pw157036-157041 [PATCH] [v2,6/6] doc: update docs for ethd From: dpdklab@iol.unh.edu To: Test Report Cc: dpdk-test-reports@iol.unh.edu In-Reply-To: <20250929150009.1542208-7-bruce.richardson@intel.com> References: <20250929150009.1542208-7-bruce.richardson@intel.com> Content-Type: text/plain X-BeenThere: test-report@dpdk.org X-Mailman-Version: 2.1.29 Precedence: list List-Id: automatic DPDK test reports List-Unsubscribe: , List-Archive: List-Post: List-Help: List-Subscribe: , Errors-To: test-report-bounces@dpdk.org Test-Label: iol-compile-arm64-testing Test-Status: SUCCESS http://dpdk.org/patch/157041 _Testing PASS_ Submitter: Bruce Richardson Date: Monday, September 29 2025 15:00:09 DPDK git baseline: Repo:dpdk Branch: master CommitID:1d627ea13aeec2bcccf27246e6be2508370d171e 157036-157041 --> testing pass Upstream job id: Generic-DPDK-Compile-Meson#429797 Test environment and result as below: +------------------------------+--------------------+ | Environment | dpdk_meson_compile | +==============================+====================+ | Red Hat Enterprise Linux 9.5 | PASS | +------------------------------+--------------------+ | Ubuntu 20.04 | PASS | +------------------------------+--------------------+ | Debian GNU/Linux 12 | PASS | +------------------------------+--------------------+ | Fedora Linux 42 | PASS | +------------------------------+--------------------+ | Ubuntu 22.04 | PASS | +------------------------------+--------------------+ | Ubuntu 24.04 | PASS | +------------------------------+--------------------+ | CentOS Stream 9 | PASS | +------------------------------+--------------------+ | CentOS Stream 10 | PASS | +------------------------------+--------------------+ Red Hat Enterprise Linux 9.5 Kernel: 5.4 Compiler: gcc gcc (GCC) 11.5.0 20240719 (Red Hat 11.5.0-2) Ubuntu 20.04 Kernel: 5.15 Compiler: aarch64-linux-gnu-gcc gcc (Ubuntu 9.4.0-1ubuntu1~20.04.2) 9.4.0 Debian GNU/Linux 12 Kernel: 5.4 Compiler: gcc gcc (Debian 12.2.0-14+deb12u1) 12.2.0 Fedora Linux 42 Kernel: 5.4 Compiler: gcc gcc (GCC) 15.2.1 20250808 (Red Hat 15.2.1-1) Ubuntu 22.04 Kernel: 5.4 Compiler: gcc gcc (Ubuntu 11.4.0-1ubuntu1~22.04) 11.4.0 Ubuntu 24.04 Kernel: 5.4 Compiler: gcc gcc (Ubuntu 13.3.0-6ubuntu2~24.04) 13.3.0 CentOS Stream 9 Kernel: 5.4 Compiler: gcc gcc (GCC) 11.5.0 20240719 (Red Hat 11.5.0-11) CentOS Stream 10 Kernel: 5.4 Compiler: gcc gcc (GCC) 14.2.1 20250110 (Red Hat 14.2.1-8) To view detailed results, visit: https://lab.dpdk.org/results/dashboard/patchsets/34173/ UNH-IOL DPDK Community Lab To manage your email subscriptions, visit: https://lab.dpdk.org/results/dashboard/preferences/subscriptions/