From mboxrd@z Thu Jan 1 00:00:00 1970 Return-Path: Received: from mails.dpdk.org (mails.dpdk.org [217.70.189.124]) by inbox.dpdk.org (Postfix) with ESMTP id C06274886F for ; Tue, 30 Sep 2025 10:02:50 +0200 (CEST) Received: from mails.dpdk.org (localhost [127.0.0.1]) by mails.dpdk.org (Postfix) with ESMTP id 9897E400D7; Tue, 30 Sep 2025 10:02:50 +0200 (CEST) Received: from mail-oi1-f226.google.com (mail-oi1-f226.google.com [209.85.167.226]) by mails.dpdk.org (Postfix) with ESMTP id 2BE0F400D7 for ; Tue, 30 Sep 2025 10:02:49 +0200 (CEST) Received: by mail-oi1-f226.google.com with SMTP id 5614622812f47-43f715fb44cso691161b6e.0 for ; Tue, 30 Sep 2025 01:02:49 -0700 (PDT) DKIM-Signature: v=1; a=rsa-sha256; c=relaxed/relaxed; d=iol.unh.edu; s=unh-iol; t=1759219368; x=1759824168; darn=dpdk.org; h=references:in-reply-to:cc:to:from:subject:message-id:date:from:to :cc:subject:date:message-id:reply-to; bh=32HT1KGTUERRFVr++457FVA1gVmRESq4g4fIr0cgN8g=; b=VjSMP8h49U/XyBwV52LL/RipnT7d460uGQk3o1490ZEx5yNN1yIqJ4tZ7JEC9MJfHu fxiNdjJoNdPzm4422UI0ZnHhjzn3hagjo5sG4g5k6QPYdcRj6fBVDCA0bEWo1B0aykAk TFBKdtG0sd3MnfJq7QnnFi/LDnyM7rCBwdUc4= X-Google-DKIM-Signature: v=1; a=rsa-sha256; c=relaxed/relaxed; d=1e100.net; s=20230601; t=1759219368; x=1759824168; h=references:in-reply-to:cc:to:from:subject:message-id:date :x-gm-message-state:from:to:cc:subject:date:message-id:reply-to; bh=32HT1KGTUERRFVr++457FVA1gVmRESq4g4fIr0cgN8g=; b=F5/nNncl+fvZcKrLPxCe/iHjcnBG6dW/pcwlQIJoJSLHb4OdwEFxhZWAaA40npkyza B9QeJ9kyOMdF6tMD2d7hLEEHYUgLrOwEoI4jDrE9koglUtyw+p17rQawzewFpdx9MFto QIKQFJ99Z4kWH4+0AxZKHA6NW6B7tiP4MROHUggVUTfUFDBL7v2JXhsJ1uMEjWjU25lZ 4vQb4ZwaF6Hhd51MBD/UJptIrRbi0vhunt4CtuT7rkn6NZawgc14QZMY+ffPIpf/4+UY LDUpOWSR+SWUY/kQ5fYF8Fz+u5S/z9p5X3Vkw6cnFupFz2BXqJYbBo1PCYD+qnetom2j iMzA== X-Gm-Message-State: AOJu0YyMciAwOvnqffBsHm33eym3oYkBM0OrYYih6rivOodfDTxRLheV tUcENZm/thb8UVjaE4N20eNzVycDG0RDI/KOn9Ja+2uLS3FaGRPpkkr7xeBcoYrTPTMrgoMLN8s 15lzpQzwJfI9gjUAxKQw8dV+DPwmdIAIRvJ0AoXWIvgCBtxeWUrgFGjaDOlIM X-Gm-Gg: ASbGncsHjhS9O/Mf8GmDSuGL6NU8VFZVxQOnYvK+lIfUhfRy9Xm1lnMKHaatBfEFHKA HRHifx2mLh/BWMSEUQMAq4dQNotElpNlbMpnJ0SCy3UnS3PCCHovvJOz/xqZQOnK+H35hS6+dgW 7uFnpfGOqS+b7DAmAzTXgnJYZaUORHXRRrX+tQNJVoOjVfMGA46luTnaMRdedtEgvz2D2xDEzmj 2NrZjf5RJAeg7eWY46UX27kDHxZvUuyIW8HSdbxbUr52s+l0O4YKH9Ud3DNiXVV/seRpCguEU1R PWHNTq0sy++6cuXrBDx92qlMVQFUedtzg/NZOEyikm0l8U/QHPgiCLg= X-Google-Smtp-Source: AGHT+IFAMEo18kV4fsqpjspSlcDXUNjvwUIO+bDwBxMbCFNKDsGgXq/h1C4bHsR/Uy0Beyx8FzM/oJQPsraZ X-Received: by 2002:a05:6808:3510:b0:43f:7a07:44d7 with SMTP id 5614622812f47-43f7a0750e5mr3891807b6e.47.1759219368257; Tue, 30 Sep 2025 01:02:48 -0700 (PDT) Received: from postal.iol.unh.edu (postal.iol.unh.edu. [2606:4100:3880:1234::84]) by smtp-relay.gmail.com with ESMTPS id 006d021491bc7-63fcd1bcda1sm276600eaf.2.2025.09.30.01.02.48 (version=TLS1_2 cipher=ECDHE-ECDSA-AES128-GCM-SHA256 bits=128/128); Tue, 30 Sep 2025 01:02:48 -0700 (PDT) X-Relaying-Domain: iol.unh.edu Date: Tue, 30 Sep 2025 01:02:48 -0700 (PDT) Message-ID: <68db8ea8.050a0220.15470f.06f6SMTPIN_ADDED_MISSING@mx.google.com> Received: from [172.21.0.2] (unknown [172.18.0.240]) by postal.iol.unh.edu (Postfix) with ESMTP id AC02F6051830; Tue, 30 Sep 2025 04:02:47 -0400 (EDT) Subject: |SUCCESS| pw157047-157055 [PATCH] [v6,9/9] power: separate public an From: dpdklab@iol.unh.edu To: Test Report Cc: dpdk-test-reports@iol.unh.edu In-Reply-To: <20250930065740.1838899-10-david.marchand@redhat.com> References: <20250930065740.1838899-10-david.marchand@redhat.com> Content-Type: text/plain X-BeenThere: test-report@dpdk.org X-Mailman-Version: 2.1.29 Precedence: list List-Id: automatic DPDK test reports List-Unsubscribe: , List-Archive: List-Post: List-Help: List-Subscribe: , Errors-To: test-report-bounces@dpdk.org Test-Label: iol-unit-amd64-testing Test-Status: SUCCESS http://dpdk.org/patch/157055 _Testing PASS_ Submitter: David Marchand Date: Tuesday, September 30 2025 06:57:39 DPDK git baseline: Repo:dpdk Branch: master CommitID:1d627ea13aeec2bcccf27246e6be2508370d171e 157047-157055 --> testing pass Upstream job id: Generic-VM-Unit-Test-DPDK#31482 Test environment and result as below: +-------------------------------+----------------+ | Environment | dpdk_unit_test | +===============================+================+ | Fedora Linux 40 | PASS | +-------------------------------+----------------+ | Fedora Linux 42 | PASS | +-------------------------------+----------------+ | Red Hat Enterprise Linux 9.5 | PASS | +-------------------------------+----------------+ | CentOS Stream 10 | PASS | +-------------------------------+----------------+ | Fedora Linux 41 | PASS | +-------------------------------+----------------+ | Red Hat Enterprise Linux 8.10 | PASS | +-------------------------------+----------------+ | Debian GNU/Linux 12 | PASS | +-------------------------------+----------------+ | Ubuntu 24.04 | PASS | +-------------------------------+----------------+ | Windows Server 2022 | PASS | +-------------------------------+----------------+ | CentOS Stream 9 | PASS | +-------------------------------+----------------+ | Ubuntu 22.04 | PASS | +-------------------------------+----------------+ | Ubuntu 20.04 | PASS | +-------------------------------+----------------+ Fedora Linux 40 Kernel: 5.15 Compiler: clang gcc (GCC) 14.2.1 20240912 (Red Hat 14.2.1-3) Fedora Linux 42 Kernel: 5.15 Compiler: gcc gcc (GCC) 15.2.1 20250808 (Red Hat 15.2.1-1) Red Hat Enterprise Linux 9.5 Kernel: 5.15 Compiler: gcc gcc (GCC) 11.5.0 20240719 (Red Hat 11.5.0-2) CentOS Stream 10 Kernel: 5.15 Compiler: gcc gcc (GCC) 14.2.1 20250110 (Red Hat 14.2.1-8) Fedora Linux 41 Kernel: 5.15 Compiler: clang gcc (GCC) 14.3.1 20250523 (Red Hat 14.3.1-1) Red Hat Enterprise Linux 8.10 Kernel: 5.15 Compiler: gcc gcc (GCC) 8.5.0 20210514 (Red Hat 8.5.0-22) Debian GNU/Linux 12 Kernel: 5.15 Compiler: gcc gcc (Debian 12.2.0-14+deb12u1) 12.2.0 Ubuntu 24.04 Kernel: 5.15 Compiler: gcc gcc (Ubuntu 13.3.0-6ubuntu2~24.04) 13.3.0 Windows Server 2022 Kernel: 10.0.20348.2031 Compiler: clang 15.0.7, gcc 14.1.0 (MinGW), and MSVC VS 19.39.33521 CentOS Stream 9 Kernel: 5.15 Compiler: gcc gcc (GCC) 11.5.0 20240719 (Red Hat 11.5.0-11) Ubuntu 22.04 Kernel: 5.15 Compiler: gcc gcc (Ubuntu 11.4.0-1ubuntu1~22.04) 11.4.0 Ubuntu 20.04 Kernel: 5.15 Compiler: gcc gcc (Ubuntu 9.4.0-1ubuntu1~20.04.2) 9.4.0 To view detailed results, visit: https://lab.dpdk.org/results/dashboard/patchsets/34175/ UNH-IOL DPDK Community Lab To manage your email subscriptions, visit: https://lab.dpdk.org/results/dashboard/preferences/subscriptions/