From mboxrd@z Thu Jan 1 00:00:00 1970 Return-Path: Received: from mails.dpdk.org (mails.dpdk.org [217.70.189.124]) by inbox.dpdk.org (Postfix) with ESMTP id C681D4886F for ; Tue, 30 Sep 2025 10:04:11 +0200 (CEST) Received: from mails.dpdk.org (localhost [127.0.0.1]) by mails.dpdk.org (Postfix) with ESMTP id C19B9400D7; Tue, 30 Sep 2025 10:04:11 +0200 (CEST) Received: from mail-il1-f228.google.com (mail-il1-f228.google.com [209.85.166.228]) by mails.dpdk.org (Postfix) with ESMTP id 97A19400D7 for ; Tue, 30 Sep 2025 10:04:10 +0200 (CEST) Received: by mail-il1-f228.google.com with SMTP id e9e14a558f8ab-427e5121313so18969885ab.0 for ; Tue, 30 Sep 2025 01:04:10 -0700 (PDT) DKIM-Signature: v=1; a=rsa-sha256; c=relaxed/relaxed; d=iol.unh.edu; s=unh-iol; t=1759219450; x=1759824250; darn=dpdk.org; h=references:in-reply-to:cc:to:from:subject:message-id:date:from:to :cc:subject:date:message-id:reply-to; bh=sqih8ABRqhJaoy+3YZzkYpQn3a2ePfGl4m+SzRGLKEA=; b=ZK3jTartrHjbJojGp6ZJzP0hUFo0tcQ6YuLNWzFC1OLb3MVRs34laBsNU09YbPpocz KQV1H7qMT6C5K9lfvWlXUohCwzxXOQ2mNcz8eucvU71CFLFjdiFLyvaB37IOnPAl3OUJ Q+yW37ePkU8R/aq5zjmSxh2XSuqSvngdHUCxw= X-Google-DKIM-Signature: v=1; a=rsa-sha256; c=relaxed/relaxed; d=1e100.net; s=20230601; t=1759219450; x=1759824250; h=references:in-reply-to:cc:to:from:subject:message-id:date :x-gm-message-state:from:to:cc:subject:date:message-id:reply-to; bh=sqih8ABRqhJaoy+3YZzkYpQn3a2ePfGl4m+SzRGLKEA=; b=ZLfWTtiJpns279gTC+X5Cl/shN4y3Cp8qiAKLHhDOCqPrZf1bDk45st8mp3nDY5tEM z+OGEwr/+aR2+SovoDIaXMuMbepX1QTEOC2wBLLyf+N0K9Ph+anwXspbaKj4CX5AUJNV uDWz4+Y7xIifWq9IVdLdpKprojcczzP9ak3qeifbGyDBvFAuNZyr6yrbE0J/UqOzADZN Z4d0DFQK6SiKEiAgG0/XFvZTsPsRe0D3cNsXVzY8gwKyDyYrfD1jOfN5o+iN65DZqvE6 hthSUVLW04lLEA4gAA1y/4m3kxRHvV3/J2LLzLuvqPIycA9bgWQ2ZGDYejD8EBYm2Pto nioA== X-Gm-Message-State: AOJu0YxdyNo9OzylB+ydnXt4EzDFmutaUgiMZz5kVsG2ETsY/F3e7Mge Nb/sl62h1iYx5f/FRP/yP75d3ouYkSNu8KfCVbYzGnI7ZG6mRTBZze/ghFxTuX89tnQBial7xCw U+gH5yeX3NcgPqrItylUXklLlraSQIqiVQ9xkXwtOmzsR X-Gm-Gg: ASbGnctKGyROAiJFSxv6kgJpwjEoY0X1aq6rXc/IgYsju1Cpq0AmRI4bd+doDcyDoNT XMM/y+eXGvivg30iO36NBX37vNfoKNdXHQOy2Gv8LTkLV52BdxSt8b328h3eQ7kAf1KWP83OA7r ZvWsj5HQdgv3suYhXY0fBxrHopr32+3uq/Km/0u7WstkZCZVh6g9OR4Wp3TDbvmxtoW3UL6UijZ 8riNTH8i74ecTHYfvc74JJu5NIBF5Z1ZEQVoX7QY4byqKZhlb7YqiwUFQnqkywcZXpdhBzbyUUS gVcbJiOopiBmwYk2MJwZPG/C68NheDA0hbdswofPO1EDqyPl58X8ZtgQZx238W6QDVArG9ygttb +9g== X-Google-Smtp-Source: AGHT+IGZlCa/f2ldSzaxKj5LiRfLqF3enYkFUrNu45cdssrOjP/+WL9C05nEoyNPXRafc7N98vs5SwydEYGj X-Received: by 2002:a05:6e02:1686:b0:428:e746:8201 with SMTP id e9e14a558f8ab-428e7468ae0mr147385255ab.2.1759219449846; Tue, 30 Sep 2025 01:04:09 -0700 (PDT) Received: from postal.iol.unh.edu (postal.iol.unh.edu. [132.177.123.84]) by smtp-relay.gmail.com with ESMTPS id e9e14a558f8ab-425c02654efsm9848935ab.39.2025.09.30.01.04.09 (version=TLS1_2 cipher=ECDHE-ECDSA-AES128-GCM-SHA256 bits=128/128); Tue, 30 Sep 2025 01:04:09 -0700 (PDT) X-Relaying-Domain: iol.unh.edu Date: Tue, 30 Sep 2025 01:04:09 -0700 (PDT) Message-ID: <68db8ef9.050a0220.4f2f6.e23aSMTPIN_ADDED_MISSING@mx.google.com> Received: from [172.21.0.2] (unknown [172.18.0.240]) by postal.iol.unh.edu (Postfix) with ESMTP id 7578B60003E8; Tue, 30 Sep 2025 04:04:08 -0400 (EDT) Subject: |SUCCESS| pw157047-157055 [PATCH] [v6,9/9] power: separate public an From: dpdklab@iol.unh.edu To: Test Report Cc: dpdk-test-reports@iol.unh.edu In-Reply-To: <20250930065740.1838899-10-david.marchand@redhat.com> References: <20250930065740.1838899-10-david.marchand@redhat.com> Content-Type: text/plain X-BeenThere: test-report@dpdk.org X-Mailman-Version: 2.1.29 Precedence: list List-Id: automatic DPDK test reports List-Unsubscribe: , List-Archive: List-Post: List-Help: List-Subscribe: , Errors-To: test-report-bounces@dpdk.org Test-Label: iol-compile-amd64-testing Test-Status: SUCCESS http://dpdk.org/patch/157055 _Testing PASS_ Submitter: David Marchand Date: Tuesday, September 30 2025 06:57:39 DPDK git baseline: Repo:dpdk Branch: master CommitID:1d627ea13aeec2bcccf27246e6be2508370d171e 157047-157055 --> testing pass Upstream job id: Windows-Compile-DPDK-Native#31314 Test environment and result as below: +---------------------+-------------------------+--------------------+-------------------+----------------------+ | Environment | dpdk_llvm_clang_compile | dpdk_meson_compile | dpdk_msvc_compile | dpdk_mingw64_compile | +=====================+=========================+====================+===================+======================+ | Windows Server 2022 | PASS | SKIPPED | PASS | PASS | +---------------------+-------------------------+--------------------+-------------------+----------------------+ | Ubuntu 20.04 | SKIPPED | PASS | SKIPPED | SKIPPED | +---------------------+-------------------------+--------------------+-------------------+----------------------+ | FreeBSD 14.2 | SKIPPED | PASS | SKIPPED | SKIPPED | +---------------------+-------------------------+--------------------+-------------------+----------------------+ Windows Server 2022 Kernel: 10.0.20348.2031 Compiler: clang 15.0.7, gcc 14.1.0 (MinGW), and MSVC VS 19.39.33521 Ubuntu 20.04 Kernel: 4.19 Compiler: gcc gcc (Ubuntu 9.4.0-1ubuntu1~20.04.2) 9.4.0 FreeBSD 14.2 Kernel: 14.2-RELEASE Compiler: clang 18.1.6 To view detailed results, visit: https://lab.dpdk.org/results/dashboard/patchsets/34175/ UNH-IOL DPDK Community Lab To manage your email subscriptions, visit: https://lab.dpdk.org/results/dashboard/preferences/subscriptions/