From mboxrd@z Thu Jan 1 00:00:00 1970 Return-Path: Received: from mails.dpdk.org (mails.dpdk.org [217.70.189.124]) by inbox.dpdk.org (Postfix) with ESMTP id 7AA304886F for ; Tue, 30 Sep 2025 10:09:57 +0200 (CEST) Received: from mails.dpdk.org (localhost [127.0.0.1]) by mails.dpdk.org (Postfix) with ESMTP id 72593400D7; Tue, 30 Sep 2025 10:09:57 +0200 (CEST) Received: from mail-pl1-f226.google.com (mail-pl1-f226.google.com [209.85.214.226]) by mails.dpdk.org (Postfix) with ESMTP id D98EB400D7 for ; Tue, 30 Sep 2025 10:09:55 +0200 (CEST) Received: by mail-pl1-f226.google.com with SMTP id d9443c01a7336-273a0aeed57so76018175ad.1 for ; Tue, 30 Sep 2025 01:09:55 -0700 (PDT) DKIM-Signature: v=1; a=rsa-sha256; c=relaxed/relaxed; d=iol.unh.edu; s=unh-iol; t=1759219795; x=1759824595; darn=dpdk.org; h=references:in-reply-to:cc:to:from:subject:message-id:date:from:to :cc:subject:date:message-id:reply-to; bh=OsAYrIV+PEdOZSQu8h+V3QeWpHOoebMzTaYIQ+j2qjw=; b=f93Y/qkLNyTtuyx9PpT8F1q8HXbcH91Y/MNytssahkpp0+iCnxy7wsH3nHYl5wmEJa BC6ipEuBNvnLZkCY2aCKJE5IgWcq1o0BvR6OfggQA3uvgvIt7gQGqR9hTqxSoijpdvia 3hyKTS6NDUbyizp07HbtyyPM1Tp3nQScGdCCs= X-Google-DKIM-Signature: v=1; a=rsa-sha256; c=relaxed/relaxed; d=1e100.net; s=20230601; t=1759219795; x=1759824595; h=references:in-reply-to:cc:to:from:subject:message-id:date :x-gm-message-state:from:to:cc:subject:date:message-id:reply-to; bh=OsAYrIV+PEdOZSQu8h+V3QeWpHOoebMzTaYIQ+j2qjw=; b=hGk+UYuY4r8KKIMGsceM7MjqP7ZlHa4Jvb4jEAS79mZ6PPIIHuUqChQ2rTmoUYL7dd ksVm84lhGaECggMiz5Oy7EbeSwXlBQNSqpJIq+7n6rV+5UVm2BOhY3qOGR8vgJoZo1YA vRnYnAOCVPRLK52xJEWYrWDfZ3cPmaU9ZG8k9JIKDysEl44HcaNA0caiUHTXTh4bAKQI KW5RkygOBNgyEM38V4k7/W60Rg47AVb47L+0uA0WQLwmKcET4wSiYnbMNXkJHfRkULxt IWEjjH9A9Oo24Yij92AVapd534QyWNLRmIKZRaFwlSuItLXTy+ieFPOvoKurVcW8kHCq XCdw== X-Gm-Message-State: AOJu0YxwOhuWkw+2YigSoOIt49U6BC5bA9Mjw6yUPgYeO9LYifKx2dsh smjIR1/FcLBXOZQfgqx0jnW/0E69xuhzWlTDML0fL1KLo3CjCFY4ie1omZxhAfcjr+AQgAgeoAx entm1siFpRSYeCZ1l193Ti1mTzJrRikkeu2M23RtKJYV0 X-Gm-Gg: ASbGncvnEMiEjCaldiW6QFx92W6c1W9PhzLjOIilP4edR/sp2wFG7xgpnYE9P32VCP8 T+zLUNEPy7i7h1Oy4CRIhimdCEXOWr/Lxq68qVaFHAtKo5I7PaAgjbuqG88oNIL8S2kaPLlDFgO Tn/RZ8Dl9nJ8OQ0Hr/DqeT+Lu1tAUWjr3YfiDook6606MhO3RXDkHg878hzDgQZvqT+sE2eE95v NNFZb0hJQg9fP6/B+fbuH4cvwzpHXqqxiFVvdFe7I1WKs+G41WjqjJjjf4q3gkgPwNSYKPYhbIA 3X1lYymAOKYsRdzaCoKzYKSlnbeKGIK+aSAJf4HIb+8i5DKsLqz5+RBmabz2WzNs8Z8CyamKKuo 14g== X-Google-Smtp-Source: AGHT+IHqk1cnjNX2WbxN5SoIZaV7TCneUpOYbuM8BgYliKwSRahzjsMoDmJK3y6sbDMOgOTEhQwTioun+uYS X-Received: by 2002:a17:903:1ae8:b0:27e:d66e:8729 with SMTP id d9443c01a7336-28d16b25243mr38281545ad.0.1759219795102; Tue, 30 Sep 2025 01:09:55 -0700 (PDT) Received: from postal.iol.unh.edu (postal.iol.unh.edu. [132.177.123.84]) by smtp-relay.gmail.com with ESMTPS id d9443c01a7336-27ed66bb76csm11758515ad.5.2025.09.30.01.09.54 (version=TLS1_2 cipher=ECDHE-ECDSA-AES128-GCM-SHA256 bits=128/128); Tue, 30 Sep 2025 01:09:55 -0700 (PDT) X-Relaying-Domain: iol.unh.edu Date: Tue, 30 Sep 2025 01:09:55 -0700 (PDT) Message-ID: <68db9053.170a0220.345fac.6ed7SMTPIN_ADDED_MISSING@mx.google.com> Received: from [172.21.0.4] (unknown [172.18.0.240]) by postal.iol.unh.edu (Postfix) with ESMTP id 9561A6051830; Tue, 30 Sep 2025 04:09:54 -0400 (EDT) Subject: |SUCCESS| pw157047-157055 [PATCH] [v6,9/9] power: separate public an From: dpdklab@iol.unh.edu To: Test Report Cc: dpdk-test-reports@iol.unh.edu In-Reply-To: <20250930065740.1838899-10-david.marchand@redhat.com> References: <20250930065740.1838899-10-david.marchand@redhat.com> Content-Type: text/plain X-BeenThere: test-report@dpdk.org X-Mailman-Version: 2.1.29 Precedence: list List-Id: automatic DPDK test reports List-Unsubscribe: , List-Archive: List-Post: List-Help: List-Subscribe: , Errors-To: test-report-bounces@dpdk.org Test-Label: iol-unit-amd64-testing Test-Status: SUCCESS http://dpdk.org/patch/157055 _Testing PASS_ Submitter: David Marchand Date: Tuesday, September 30 2025 06:57:39 DPDK git baseline: Repo:dpdk Branch: master CommitID:1d627ea13aeec2bcccf27246e6be2508370d171e 157047-157055 --> testing pass Upstream job id: Generic-VM-Unit-Test-DPDK#31483 Test environment and result as below: +-------------------------------+----------------+ | Environment | dpdk_unit_test | +===============================+================+ | Fedora Linux 40 | PASS | +-------------------------------+----------------+ | Fedora Linux 42 | PASS | +-------------------------------+----------------+ | Red Hat Enterprise Linux 9.5 | PASS | +-------------------------------+----------------+ | CentOS Stream 10 | PASS | +-------------------------------+----------------+ | Fedora Linux 41 | PASS | +-------------------------------+----------------+ | Red Hat Enterprise Linux 8.10 | PASS | +-------------------------------+----------------+ | Debian GNU/Linux 12 | PASS | +-------------------------------+----------------+ | Ubuntu 24.04 | PASS | +-------------------------------+----------------+ | Windows Server 2022 | PASS | +-------------------------------+----------------+ | CentOS Stream 9 | PASS | +-------------------------------+----------------+ | Ubuntu 22.04 | PASS | +-------------------------------+----------------+ | Ubuntu 20.04 | PASS | +-------------------------------+----------------+ Fedora Linux 40 Kernel: 5.15 Compiler: clang gcc (GCC) 14.2.1 20240912 (Red Hat 14.2.1-3) Fedora Linux 42 Kernel: 5.15 Compiler: gcc gcc (GCC) 15.2.1 20250808 (Red Hat 15.2.1-1) Red Hat Enterprise Linux 9.5 Kernel: 5.15 Compiler: gcc gcc (GCC) 11.5.0 20240719 (Red Hat 11.5.0-2) CentOS Stream 10 Kernel: 5.15 Compiler: gcc gcc (GCC) 14.2.1 20250110 (Red Hat 14.2.1-8) Fedora Linux 41 Kernel: 5.15 Compiler: clang gcc (GCC) 14.3.1 20250523 (Red Hat 14.3.1-1) Red Hat Enterprise Linux 8.10 Kernel: 5.15 Compiler: gcc gcc (GCC) 8.5.0 20210514 (Red Hat 8.5.0-22) Debian GNU/Linux 12 Kernel: 5.15 Compiler: gcc gcc (Debian 12.2.0-14+deb12u1) 12.2.0 Ubuntu 24.04 Kernel: 5.15 Compiler: gcc gcc (Ubuntu 13.3.0-6ubuntu2~24.04) 13.3.0 Windows Server 2022 Kernel: 10.0.20348.2031 Compiler: clang 15.0.7, gcc 14.1.0 (MinGW), and MSVC VS 19.39.33521 CentOS Stream 9 Kernel: 5.15 Compiler: gcc gcc (GCC) 11.5.0 20240719 (Red Hat 11.5.0-11) Ubuntu 22.04 Kernel: 5.15 Compiler: gcc gcc (Ubuntu 11.4.0-1ubuntu1~22.04) 11.4.0 Ubuntu 20.04 Kernel: 5.15 Compiler: gcc gcc (Ubuntu 9.4.0-1ubuntu1~20.04.2) 9.4.0 To view detailed results, visit: https://lab.dpdk.org/results/dashboard/patchsets/34175/ UNH-IOL DPDK Community Lab To manage your email subscriptions, visit: https://lab.dpdk.org/results/dashboard/preferences/subscriptions/