From mboxrd@z Thu Jan 1 00:00:00 1970 Return-Path: Received: from mails.dpdk.org (mails.dpdk.org [217.70.189.124]) by inbox.dpdk.org (Postfix) with ESMTP id 767AE4886F for ; Tue, 30 Sep 2025 10:42:29 +0200 (CEST) Received: from mails.dpdk.org (localhost [127.0.0.1]) by mails.dpdk.org (Postfix) with ESMTP id 6E5B7400D7; Tue, 30 Sep 2025 10:42:29 +0200 (CEST) Received: from mail-il1-f227.google.com (mail-il1-f227.google.com [209.85.166.227]) by mails.dpdk.org (Postfix) with ESMTP id 83B6F400D7 for ; Tue, 30 Sep 2025 10:42:27 +0200 (CEST) Received: by mail-il1-f227.google.com with SMTP id e9e14a558f8ab-42480cb42e9so26565625ab.0 for ; Tue, 30 Sep 2025 01:42:27 -0700 (PDT) DKIM-Signature: v=1; a=rsa-sha256; c=relaxed/relaxed; d=iol.unh.edu; s=unh-iol; t=1759221747; x=1759826547; darn=dpdk.org; h=references:in-reply-to:cc:to:from:subject:message-id:date:from:to :cc:subject:date:message-id:reply-to; bh=gLPQ1mpeFZn3f0NSttoANRtIx0mkByyPOh/ZnkIry/A=; b=HgMXUmrEXDffnaWZ7dFm4aMbL6jbRHBImRKMBitRgF9QBmcnUTV/l3KSuapUww0E60 ju0ZBmYt4YmhDl2yHwfe43Gd7SHPNx1oq8PDsD3JtQMDW4InqbDfm0bQKI9Uz17fMybT ZaJ+br4SzhnTXlUFEnSB0c2M7l04qkA7OPDSQ= X-Google-DKIM-Signature: v=1; a=rsa-sha256; c=relaxed/relaxed; d=1e100.net; s=20230601; t=1759221747; x=1759826547; h=references:in-reply-to:cc:to:from:subject:message-id:date :x-gm-message-state:from:to:cc:subject:date:message-id:reply-to; bh=gLPQ1mpeFZn3f0NSttoANRtIx0mkByyPOh/ZnkIry/A=; b=MVz7v895tUsoomMJ1nb9dJ4cEzUKJ+yne8cTEFzhwClP+oWl3wpgx2oZPJwepDLuXO zvLmslUaN0rWOaUNGCrys3jkF0BSD32KKZcP0iN23AsyZ/2Hw6faearivMf4fcDx45Ih amDvfifUTULtLMS50YKQa3A+clZv/0jxWdItfxXYX6JoDx8H4bSo0MWgtkv8IrN4bhQY cT9HjnhX5mGcanKXN/bg7tcjrr/ilukuBoA/MznsCwkorWNUu/PDOTd/XLJOh/Uh2Zmm ynOjk3b3SOtvbc/eUqKJhW9ufgLUvyr2+u68TSYxmOZcJz62W/erAAggIjOb9l2maUJv wQLA== X-Gm-Message-State: AOJu0Yx4R8aaBxwcNlL0EtNMvCDNmKeO89Iwr4Lrh+BVEKmFYOuckO8q 33BK/yHu4typrHUnknoPPrZyQFV5R8jdL4Joz4Ryj4ivr+lEun95pui1Ylu7Ee2xACaSiH2Y7l1 40AoKFOpx34sCulwE0mlNqY9tHRvU35C78W+OPE67yx5A X-Gm-Gg: ASbGncsg5GZflUjR6/lY9AUrz42MEI3WLbxozrn47JKEQy6K9xDtOBz7hFpd4qqDwZU OqUzlMXC1e3RHECLATjDBydz8fLJCcrrnqMipLKAtiUXzOGOoL5sIGEiZuDlDrxBp53mbcR8eOy gStyvqrM33z1EOOt1i2BbFhWsEDIh9fbD/eKuAAhm5BP7b4EZmh4z2ooJrZSHHyKUMoM2PCVnpc IVcVMqAosxPwpGwD6jSywoC7vA7sNnYniFQzVlRPMURL+aj4VCG7C6/HGto79Ke5hzv0sF2ZaoX 0BMTHThjme8jIk1/SG+++Xk5FCMmqZUig1ILHT1X6CpDApX5SvGLNpc6z2jgEB96+Tb2aXiVW7/ H6Q== X-Google-Smtp-Source: AGHT+IGbMcNd8sEss5XHPScrPcP16UrekkNEtejpOZzcNaGuPzm+l5URVBxC4Yxx8ZH+ddcoEyEi/mBHx9xz X-Received: by 2002:a05:6e02:2505:b0:42a:f84b:9e7f with SMTP id e9e14a558f8ab-42af84bac26mr102133405ab.15.1759221746806; Tue, 30 Sep 2025 01:42:26 -0700 (PDT) Received: from postal.iol.unh.edu (postal.iol.unh.edu. [132.177.123.84]) by smtp-relay.gmail.com with ESMTPS id e9e14a558f8ab-425bf6d54b9sm9928675ab.25.2025.09.30.01.42.26 (version=TLS1_2 cipher=ECDHE-ECDSA-AES128-GCM-SHA256 bits=128/128); Tue, 30 Sep 2025 01:42:26 -0700 (PDT) X-Relaying-Domain: iol.unh.edu Date: Tue, 30 Sep 2025 01:42:26 -0700 (PDT) Message-ID: <68db97f2.920a0220.265fe3.b143SMTPIN_ADDED_MISSING@mx.google.com> Received: from [172.21.0.3] (unknown [172.18.0.240]) by postal.iol.unh.edu (Postfix) with ESMTP id 744196051830; Tue, 30 Sep 2025 04:42:26 -0400 (EDT) Subject: |SUCCESS| pw157056 [PATCH] [v4] net/intel: add IDPF PCI class ID sup From: dpdklab@iol.unh.edu To: Test Report Cc: dpdk-test-reports@iol.unh.edu In-Reply-To: <20250929140015.198615-1-venkatesh.vemula@intel.com> References: <20250929140015.198615-1-venkatesh.vemula@intel.com> Content-Type: text/plain X-BeenThere: test-report@dpdk.org X-Mailman-Version: 2.1.29 Precedence: list List-Id: automatic DPDK test reports List-Unsubscribe: , List-Archive: List-Post: List-Help: List-Subscribe: , Errors-To: test-report-bounces@dpdk.org Test-Label: iol-compile-amd64-testing Test-Status: SUCCESS http://dpdk.org/patch/157056 _Testing PASS_ Submitter: Vemula Venkatesh Date: Monday, September 29 2025 14:00:15 DPDK git baseline: Repo:dpdk Branch: master CommitID:1d627ea13aeec2bcccf27246e6be2508370d171e 157056 --> testing pass Upstream job id: Windows-Compile-DPDK-Native#31315 Test environment and result as below: +---------------------+--------------------+-------------------+-------------------------+ | Environment | dpdk_meson_compile | dpdk_msvc_compile | dpdk_llvm_clang_compile | +=====================+====================+===================+=========================+ | Ubuntu 20.04 | PASS | SKIPPED | SKIPPED | +---------------------+--------------------+-------------------+-------------------------+ | FreeBSD 14.2 | PASS | SKIPPED | SKIPPED | +---------------------+--------------------+-------------------+-------------------------+ | Windows Server 2022 | SKIPPED | PASS | PASS | +---------------------+--------------------+-------------------+-------------------------+ Ubuntu 20.04 Kernel: 4.19 Compiler: gcc gcc (Ubuntu 9.4.0-1ubuntu1~20.04.2) 9.4.0 FreeBSD 14.2 Kernel: 14.2-RELEASE Compiler: clang 18.1.6 Windows Server 2022 Kernel: 10.0.20348.2031 Compiler: clang 15.0.7, gcc 14.1.0 (MinGW), and MSVC VS 19.39.33521 To view detailed results, visit: https://lab.dpdk.org/results/dashboard/patchsets/34176/ UNH-IOL DPDK Community Lab To manage your email subscriptions, visit: https://lab.dpdk.org/results/dashboard/preferences/subscriptions/