From mboxrd@z Thu Jan 1 00:00:00 1970 Return-Path: Received: from mails.dpdk.org (mails.dpdk.org [217.70.189.124]) by inbox.dpdk.org (Postfix) with ESMTP id B094A4886F for ; Tue, 30 Sep 2025 10:51:31 +0200 (CEST) Received: from mails.dpdk.org (localhost [127.0.0.1]) by mails.dpdk.org (Postfix) with ESMTP id 964A7400D7; Tue, 30 Sep 2025 10:51:31 +0200 (CEST) Received: from mail-pl1-f228.google.com (mail-pl1-f228.google.com [209.85.214.228]) by mails.dpdk.org (Postfix) with ESMTP id 07014400D7 for ; Tue, 30 Sep 2025 10:51:29 +0200 (CEST) Received: by mail-pl1-f228.google.com with SMTP id d9443c01a7336-2697899a202so47241115ad.0 for ; Tue, 30 Sep 2025 01:51:29 -0700 (PDT) DKIM-Signature: v=1; a=rsa-sha256; c=relaxed/relaxed; d=iol.unh.edu; s=unh-iol; t=1759222289; x=1759827089; darn=dpdk.org; h=references:in-reply-to:cc:to:from:subject:message-id:date:from:to :cc:subject:date:message-id:reply-to; bh=szk1V6y+lZp+XurLIokdE2P1mSgO3UqQVIfKyA5NOlw=; b=O/9Y0eCUYigwzNWMHs8vPI6qGt/TbPlI6bVlTdfHlWjds7d5njr0EZytGabD/ptd0e 3NM5ptGI0VBTgJpGfS9jVHjWPICuYl8N8FxCo1+J8ukNrnrOEYOJi47AkRTkrmhM7/8y iu9FMPAQuDbNvwatfRBEYC8nUzQSYyNYgapUY= X-Google-DKIM-Signature: v=1; a=rsa-sha256; c=relaxed/relaxed; d=1e100.net; s=20230601; t=1759222289; x=1759827089; h=references:in-reply-to:cc:to:from:subject:message-id:date :x-gm-message-state:from:to:cc:subject:date:message-id:reply-to; bh=szk1V6y+lZp+XurLIokdE2P1mSgO3UqQVIfKyA5NOlw=; b=OZ1FgUQ734BB9cYUxCapUXwtGsplbyTaVlTtoId8JiMuv/CwAcy4rC52o4LUjDIiAA Xoug1ecH9IamflgudM47c0/cF5wnXEhswzrjDGpGM6Gk4qhAPnGOCxl/1DQlXm57t05/ BMzPd0bPpOE4d+1Y/3HYM9AQXSwqckUQBLKUE7qK+7D2UZ8XdwTzsySwhBPOLW6BtOVS 2mX+w26XrHuQ4dvlaUW7E576z9VS4CCVDBJY1XBq8cbw3nK8vQDwN1Ua+XUj5Qylol6a gVL7afL4xoSp8ffltJe9O2/o/ssv2ZRNOb1of+7VhgOBefgvGHscdInm5+r+Irwb7/I6 DzeQ== X-Gm-Message-State: AOJu0YxpP3OZLIRMWqKI3Tt4eR+eI6FO+8ZxWKmy0v6Wy5FB+Pf0hUk+ NppkCTA8nuqaj+pjWMamzuMaHzTk4nFk5MsSdUn1phkKw1v14jgnl23ocOCZZwFsHP+9xe3TPr4 EaLNaxptyAvql4qYIyn4JBjQ3pyt5wON+7hVaP8WwMhULdgvDuRnD0YfPwZv7 X-Gm-Gg: ASbGncssNmKnJwoDiH1TLGo+PqTWmShrWij4XVmMevAqdaviJdI2Ku6v7VKA0dkmwk0 HvJTQwCVXmJ1dtgEbWA3CG7br98bItohn+rMpvLNplAqds98ht3PiWBq/3vli+kPrdxueo5bgxr QhxqGOj2fO2DVdASslPVsmQJkssMAkMGcigAoHhu5Cd7Ma7eSuHWHL9ZAbR5CgsRHxjIRghc8xt BqKbBjwugoD1oXyqcqrZs1emHlKvJARIrqBXoKDdgNNm+8wG5DIUhVpiqAnxRoqFTe5wvgkuFAr S7zlUWPuZDp2cUWoe+UWWRNmCM01lsTU384MBgztvmhbwwmelThL2V4= X-Google-Smtp-Source: AGHT+IG0ZCiZLoXVppo7xkETfX3cNg5+KMMePQWE3DCHrpY2Ny1mPLEgj5PYR2O9AEuEsvaZ9J6XJMlW8sEQ X-Received: by 2002:a17:903:3806:b0:267:99be:628e with SMTP id d9443c01a7336-28d16d723fdmr43499315ad.2.1759222288991; Tue, 30 Sep 2025 01:51:28 -0700 (PDT) Received: from postal.iol.unh.edu (postal.iol.unh.edu. [2606:4100:3880:1234::84]) by smtp-relay.gmail.com with ESMTPS id d9443c01a7336-27ed6816df9sm11854775ad.60.2025.09.30.01.51.28 (version=TLS1_2 cipher=ECDHE-ECDSA-AES128-GCM-SHA256 bits=128/128); Tue, 30 Sep 2025 01:51:28 -0700 (PDT) X-Relaying-Domain: iol.unh.edu Date: Tue, 30 Sep 2025 01:51:28 -0700 (PDT) Message-ID: <68db9a10.170a0220.210e87.a561SMTPIN_ADDED_MISSING@mx.google.com> Received: from [172.21.0.2] (unknown [172.18.0.240]) by postal.iol.unh.edu (Postfix) with ESMTP id 325016051830; Tue, 30 Sep 2025 04:51:28 -0400 (EDT) Subject: |SUCCESS| pw157056 [PATCH] [v4] net/intel: add IDPF PCI class ID sup From: dpdklab@iol.unh.edu To: Test Report Cc: dpdk-test-reports@iol.unh.edu In-Reply-To: <20250929140015.198615-1-venkatesh.vemula@intel.com> References: <20250929140015.198615-1-venkatesh.vemula@intel.com> Content-Type: text/plain X-BeenThere: test-report@dpdk.org X-Mailman-Version: 2.1.29 Precedence: list List-Id: automatic DPDK test reports List-Unsubscribe: , List-Archive: List-Post: List-Help: List-Subscribe: , Errors-To: test-report-bounces@dpdk.org Test-Label: iol-unit-amd64-testing Test-Status: SUCCESS http://dpdk.org/patch/157056 _Testing PASS_ Submitter: Vemula Venkatesh Date: Monday, September 29 2025 14:00:15 DPDK git baseline: Repo:dpdk Branch: master CommitID:1d627ea13aeec2bcccf27246e6be2508370d171e 157056 --> testing pass Upstream job id: Generic-VM-Unit-Test-DPDK#31484 Test environment and result as below: +-------------------------------+----------------+ | Environment | dpdk_unit_test | +===============================+================+ | CentOS Stream 9 | PASS | +-------------------------------+----------------+ | CentOS Stream 10 | PASS | +-------------------------------+----------------+ | Fedora Linux 40 | PASS | +-------------------------------+----------------+ | Debian GNU/Linux 12 | PASS | +-------------------------------+----------------+ | Fedora Linux 41 | PASS | +-------------------------------+----------------+ | Fedora Linux 42 | PASS | +-------------------------------+----------------+ | Ubuntu 22.04 | PASS | +-------------------------------+----------------+ | Red Hat Enterprise Linux 8.10 | PASS | +-------------------------------+----------------+ | Red Hat Enterprise Linux 9.5 | PASS | +-------------------------------+----------------+ | Ubuntu 20.04 | PASS | +-------------------------------+----------------+ | Ubuntu 24.04 | PASS | +-------------------------------+----------------+ | Windows Server 2022 | PASS | +-------------------------------+----------------+ CentOS Stream 9 Kernel: 5.15 Compiler: gcc gcc (GCC) 11.5.0 20240719 (Red Hat 11.5.0-11) CentOS Stream 10 Kernel: 5.15 Compiler: gcc gcc (GCC) 14.2.1 20250110 (Red Hat 14.2.1-8) Fedora Linux 40 Kernel: 5.15 Compiler: gcc gcc (GCC) 14.2.1 20240912 (Red Hat 14.2.1-3) Debian GNU/Linux 12 Kernel: 5.15 Compiler: gcc gcc (Debian 12.2.0-14+deb12u1) 12.2.0 Fedora Linux 41 Kernel: 5.15 Compiler: clang gcc (GCC) 14.3.1 20250523 (Red Hat 14.3.1-1) Fedora Linux 42 Kernel: 5.15 Compiler: gcc gcc (GCC) 15.2.1 20250808 (Red Hat 15.2.1-1) Ubuntu 22.04 Kernel: 5.15 Compiler: gcc gcc (Ubuntu 11.4.0-1ubuntu1~22.04) 11.4.0 Red Hat Enterprise Linux 8.10 Kernel: 5.15 Compiler: gcc gcc (GCC) 8.5.0 20210514 (Red Hat 8.5.0-22) Red Hat Enterprise Linux 9.5 Kernel: 5.15 Compiler: gcc gcc (GCC) 11.5.0 20240719 (Red Hat 11.5.0-2) Ubuntu 20.04 Kernel: 5.15 Compiler: gcc gcc (Ubuntu 9.4.0-1ubuntu1~20.04.2) 9.4.0 Ubuntu 24.04 Kernel: 5.15 Compiler: gcc gcc (Ubuntu 13.3.0-6ubuntu2~24.04) 13.3.0 Windows Server 2022 Kernel: 10.0.20348.2031 Compiler: clang 15.0.7, gcc 14.1.0 (MinGW), and MSVC VS 19.39.33521 To view detailed results, visit: https://lab.dpdk.org/results/dashboard/patchsets/34176/ UNH-IOL DPDK Community Lab To manage your email subscriptions, visit: https://lab.dpdk.org/results/dashboard/preferences/subscriptions/