From mboxrd@z Thu Jan 1 00:00:00 1970 Return-Path: Received: from mails.dpdk.org (mails.dpdk.org [217.70.189.124]) by inbox.dpdk.org (Postfix) with ESMTP id 76F834886F for ; Tue, 30 Sep 2025 10:56:50 +0200 (CEST) Received: from mails.dpdk.org (localhost [127.0.0.1]) by mails.dpdk.org (Postfix) with ESMTP id 545C9400D7; Tue, 30 Sep 2025 10:56:50 +0200 (CEST) Received: from mail-pf1-f226.google.com (mail-pf1-f226.google.com [209.85.210.226]) by mails.dpdk.org (Postfix) with ESMTP id AE615400D7 for ; Tue, 30 Sep 2025 10:56:49 +0200 (CEST) Received: by mail-pf1-f226.google.com with SMTP id d2e1a72fcca58-76e2ea933b7so5007880b3a.1 for ; Tue, 30 Sep 2025 01:56:49 -0700 (PDT) DKIM-Signature: v=1; a=rsa-sha256; c=relaxed/relaxed; d=iol.unh.edu; s=unh-iol; t=1759222609; x=1759827409; darn=dpdk.org; h=references:in-reply-to:cc:to:from:subject:message-id:date:from:to :cc:subject:date:message-id:reply-to; bh=hcJKY5UE/Rgj6UgdmgXSc825ilD6DpbPQgxPvszD7QA=; b=GyiBq/VQXj4pHT2HcouPXN8TEHlOpaR879yBXIsi2nbVi2s1Md0EJyTIMG1AfpsPyW UiQ823t5eCkJAXhI/zZMCCl5BIKu0SaM4fcfps9VStdnsrvJB3wwy0tETYBl9pT9nf0Z kgY1evibvIcyDTkM1yhzhXM8l7K1feZaR7/QA= X-Google-DKIM-Signature: v=1; a=rsa-sha256; c=relaxed/relaxed; d=1e100.net; s=20230601; t=1759222609; x=1759827409; h=references:in-reply-to:cc:to:from:subject:message-id:date :x-gm-message-state:from:to:cc:subject:date:message-id:reply-to; bh=hcJKY5UE/Rgj6UgdmgXSc825ilD6DpbPQgxPvszD7QA=; b=S7WK3sddY6Kxl+AB6ZlyJBql7Dc10ERPiYSG8bRJtTnpAfSGf7ZGwrpxyADxv5zBcg b2UWpKOgMV0400EmhZqoa3r8Q8EP8tQHOFWnYydsED7Gl98WHzBuhCmc33yr7fzrE+LB Zen9u3XA/b6sy9D6pA56Flm4DC16eM1lOOoZjohKW756mDMq8hi8QajFcdaYAmjvTP1x saS1ubz7U5sU3l80GYf6la233CiUCNvUMU5Cu65FMzvJqWGuawE73dq7Qnm4QCd/aw6q eqt4yKb1IUzr4dt7VUSFV1ZtQeniACAzFQPuHq+CDH+/EhWbNXvR0TT853wV8YCpD8Fj a3FQ== X-Gm-Message-State: AOJu0Yy1/NH6uNeYkeB2ydzHhfj2cR03dxwX30C5WhYVjtq+A1++5qU9 cf5oAnW6gULVh3RuFo6sY7Vy41SKoyFz1XZy59LYpw3WfPJDj07XC4fvaLn8i40oyxG+qPRRqup s9gN4bEBUATnOk67du6GpjM4mnlXv4f4XtKYyJROccs1R X-Gm-Gg: ASbGncu5QLvuutdZC0/ZVU3nnnwwSde/mGmSepD/SmUaFlP/4inOkaFwTNvQuAvuyHI hc3Sj2fDJWQyMqgQXCCQWrNbiMFIJtwmWcc3cM7RQDZdGOyIIpWVtK3aAgLt1YFAsdasvo3tHIe e3gNXxtPMI6Reru229gpywx4/sPPhdlmcFlrqwHG+W+tzARiaE4lkmeSRGO01uWBVigJ1sM6M55 yl/7pPsH9olWIrmGqFnJelITNYstoRWMUmM5Wd2LNlkX0LZnR0lxQdL3Nyb22p/1ZHijEdCwAvA numXJ/UVuBzePC6CQ5QSmGkBR2McKPN6RFCM3OIFDtk6bKAfDxxPMDNHL3IRzvOnlAzijgAK7YB Bnw== X-Google-Smtp-Source: AGHT+IFKO35Nhn3pNoKKXSI4f8yLfPs543pfDXO7nrVreuR4auI7nvviOG2K+ho1+W7IzsGI9adHrs2Lf0rk X-Received: by 2002:a17:902:d54c:b0:25b:e5a2:fb29 with SMTP id d9443c01a7336-28d171384e8mr41802265ad.12.1759222608774; Tue, 30 Sep 2025 01:56:48 -0700 (PDT) Received: from postal.iol.unh.edu (postal.iol.unh.edu. [132.177.123.84]) by smtp-relay.gmail.com with ESMTPS id d9443c01a7336-27eec81e1f8sm9398695ad.50.2025.09.30.01.56.48 (version=TLS1_2 cipher=ECDHE-ECDSA-AES128-GCM-SHA256 bits=128/128); Tue, 30 Sep 2025 01:56:48 -0700 (PDT) X-Relaying-Domain: iol.unh.edu Date: Tue, 30 Sep 2025 01:56:48 -0700 (PDT) Message-ID: <68db9b50.170a0220.332186.77efSMTPIN_ADDED_MISSING@mx.google.com> Received: from [172.21.0.2] (unknown [172.18.0.240]) by postal.iol.unh.edu (Postfix) with ESMTP id 0642E6051830; Tue, 30 Sep 2025 04:56:48 -0400 (EDT) Subject: |SUCCESS| pw157056 [PATCH] [v4] net/intel: add IDPF PCI class ID sup From: dpdklab@iol.unh.edu To: Test Report Cc: dpdk-test-reports@iol.unh.edu In-Reply-To: <20250929140015.198615-1-venkatesh.vemula@intel.com> References: <20250929140015.198615-1-venkatesh.vemula@intel.com> Content-Type: text/plain X-BeenThere: test-report@dpdk.org X-Mailman-Version: 2.1.29 Precedence: list List-Id: automatic DPDK test reports List-Unsubscribe: , List-Archive: List-Post: List-Help: List-Subscribe: , Errors-To: test-report-bounces@dpdk.org Test-Label: iol-unit-amd64-testing Test-Status: SUCCESS http://dpdk.org/patch/157056 _Testing PASS_ Submitter: Vemula Venkatesh Date: Monday, September 29 2025 14:00:15 DPDK git baseline: Repo:dpdk Branch: master CommitID:1d627ea13aeec2bcccf27246e6be2508370d171e 157056 --> testing pass Upstream job id: Generic-VM-Unit-Test-DPDK#31485 Test environment and result as below: +-------------------------------+----------------+ | Environment | dpdk_unit_test | +===============================+================+ | CentOS Stream 9 | PASS | +-------------------------------+----------------+ | CentOS Stream 10 | PASS | +-------------------------------+----------------+ | Fedora Linux 40 | PASS | +-------------------------------+----------------+ | Debian GNU/Linux 12 | PASS | +-------------------------------+----------------+ | Fedora Linux 41 | PASS | +-------------------------------+----------------+ | Fedora Linux 42 | PASS | +-------------------------------+----------------+ | Ubuntu 22.04 | PASS | +-------------------------------+----------------+ | Red Hat Enterprise Linux 8.10 | PASS | +-------------------------------+----------------+ | Red Hat Enterprise Linux 9.5 | PASS | +-------------------------------+----------------+ | Ubuntu 20.04 | PASS | +-------------------------------+----------------+ | Ubuntu 24.04 | PASS | +-------------------------------+----------------+ | Windows Server 2022 | PASS | +-------------------------------+----------------+ CentOS Stream 9 Kernel: 5.15 Compiler: gcc gcc (GCC) 11.5.0 20240719 (Red Hat 11.5.0-11) CentOS Stream 10 Kernel: 5.15 Compiler: gcc gcc (GCC) 14.2.1 20250110 (Red Hat 14.2.1-8) Fedora Linux 40 Kernel: 5.15 Compiler: gcc gcc (GCC) 14.2.1 20240912 (Red Hat 14.2.1-3) Debian GNU/Linux 12 Kernel: 5.15 Compiler: gcc gcc (Debian 12.2.0-14+deb12u1) 12.2.0 Fedora Linux 41 Kernel: 5.15 Compiler: clang gcc (GCC) 14.3.1 20250523 (Red Hat 14.3.1-1) Fedora Linux 42 Kernel: 5.15 Compiler: gcc gcc (GCC) 15.2.1 20250808 (Red Hat 15.2.1-1) Ubuntu 22.04 Kernel: 5.15 Compiler: gcc gcc (Ubuntu 11.4.0-1ubuntu1~22.04) 11.4.0 Red Hat Enterprise Linux 8.10 Kernel: 5.15 Compiler: gcc gcc (GCC) 8.5.0 20210514 (Red Hat 8.5.0-22) Red Hat Enterprise Linux 9.5 Kernel: 5.15 Compiler: gcc gcc (GCC) 11.5.0 20240719 (Red Hat 11.5.0-2) Ubuntu 20.04 Kernel: 5.15 Compiler: gcc gcc (Ubuntu 9.4.0-1ubuntu1~20.04.2) 9.4.0 Ubuntu 24.04 Kernel: 5.15 Compiler: gcc gcc (Ubuntu 13.3.0-6ubuntu2~24.04) 13.3.0 Windows Server 2022 Kernel: 10.0.20348.2031 Compiler: clang 15.0.7, gcc 14.1.0 (MinGW), and MSVC VS 19.39.33521 To view detailed results, visit: https://lab.dpdk.org/results/dashboard/patchsets/34176/ UNH-IOL DPDK Community Lab To manage your email subscriptions, visit: https://lab.dpdk.org/results/dashboard/preferences/subscriptions/