From mboxrd@z Thu Jan 1 00:00:00 1970 Return-Path: Received: from mails.dpdk.org (mails.dpdk.org [217.70.189.124]) by inbox.dpdk.org (Postfix) with ESMTP id D9B1F4886F for ; Tue, 30 Sep 2025 11:00:39 +0200 (CEST) Received: from mails.dpdk.org (localhost [127.0.0.1]) by mails.dpdk.org (Postfix) with ESMTP id B520B400D7; Tue, 30 Sep 2025 11:00:39 +0200 (CEST) Received: from mail-qv1-f97.google.com (mail-qv1-f97.google.com [209.85.219.97]) by mails.dpdk.org (Postfix) with ESMTP id 95986400D7 for ; Tue, 30 Sep 2025 11:00:38 +0200 (CEST) Received: by mail-qv1-f97.google.com with SMTP id 6a1803df08f44-78e9f48da30so44205176d6.1 for ; Tue, 30 Sep 2025 02:00:38 -0700 (PDT) DKIM-Signature: v=1; a=rsa-sha256; c=relaxed/relaxed; d=iol.unh.edu; s=unh-iol; t=1759222838; x=1759827638; darn=dpdk.org; h=cc:to:from:subject:message-id:date:from:to:cc:subject:date :message-id:reply-to; bh=xTidgOsW3eaKBA+Q92nQ5Ttbrs1CaQIqSdXVkvtZGB4=; b=S7XfWa4JTE42O+alq0rym5ZMYhf3YRmnKfqYQKHXMn4zBxrEDqP5jRt9KH1TREyXJT bqVVXzAWICg6O2wDgA7C8Ry73c91j2v+++XbQekbioRM3B2qXrYSKkxMk8/274snVRVU 2yLfcEe/zJ3NRmeGLmAXXzjZ8uurmc7kkvc8k= X-Google-DKIM-Signature: v=1; a=rsa-sha256; c=relaxed/relaxed; d=1e100.net; s=20230601; t=1759222838; x=1759827638; h=cc:to:from:subject:message-id:date:x-gm-message-state:from:to:cc :subject:date:message-id:reply-to; bh=xTidgOsW3eaKBA+Q92nQ5Ttbrs1CaQIqSdXVkvtZGB4=; b=kjhWn4eCAclzjhVd80BVHrAnpRnzo7AVpwpmIONCqdaWXUog8EtzKG1C1RGr7VlhOn xAYkr2anWi5+OLHW2sAFEYIjblDiZ4Ucm/UzhjPs/G8XSIQMVGia/USfy+5Xe5JYBAZa Ktj7s6omS5TyOOFkHJFTh/Yzo6sPv5HgRm6cT7s4ze8TAYhmmCaMTNO+vuRii6PpOW5a 2JjRjDzsmSDBaBXFKW1Sel9Gy7wk4U5w94gzQo85GHP1TD+i1j9jUdBWt+hqTnE2MwbX YCsVkHqwuuExZgBC5sxj+pEQjuKAJhxii7DCuO3MCpFW/HOSione++ZmlzHi1qm3dY60 6U7Q== X-Gm-Message-State: AOJu0YwvDTY4CbVuayBYddNg5ChNg4BsaGnDfCCLM5XPLq2kE95dTRlz r2AXBxFWo+kjcEAmwvv68/RNu3GocFpBi9lSRYEbhp4FzuOdK8UEQtqMz61wfA/U5DNqAIweF46 wKD5wdxrt1+tITrT1KmZoD6lIXZjDMm7JTyIo X-Gm-Gg: ASbGnct8xo56NI9torGDF6lTelgH8OzXAy0Q7bZRqSEpd+yvKFYl9P40sVBN48cSk2t +YvX+6SeNOUnU8hx27n3QNrr6MtMpRM0hBGZKifDGFmnkae+J3wWIr1qcTd7WcwiFeZgetJKrcd BDxfSyqn5suejH31mnEUiWWYdrIRE77SaxaugLhn4KfZsjLeboEDVhSt+FcAXWVfTo5Irr7rMhq 9s05nNS8kh8vWrg5+iV2cBnhekuE0LTdo8/PfGuMS8+ctEt018K277cSzvbwHivIBwdaPQyziyN pJaS1PaLJR1hUXinPEViXW4S+QV9reMd32d5UK4r9hsA594QYp/+4x2OW2gejGCAE83rOsDiffH UXA== X-Google-Smtp-Source: AGHT+IGIhd5p0U6IBG7y8U5TUfyY0BWquWXv82qhwF5sz3TOJmNKd5LD/D71l8y1A6pNJGG4+ou182o2DBDk X-Received: by 2002:a05:6214:29c1:b0:782:3caf:668e with SMTP id 6a1803df08f44-7fc3ed8ca21mr226540636d6.40.1759222837827; Tue, 30 Sep 2025 02:00:37 -0700 (PDT) Received: from postal.iol.unh.edu (postal.iol.unh.edu. [132.177.123.84]) by smtp-relay.gmail.com with ESMTPS id 6a1803df08f44-80168db0ad0sm10197746d6.30.2025.09.30.02.00.37 (version=TLS1_2 cipher=ECDHE-ECDSA-AES128-GCM-SHA256 bits=128/128); Tue, 30 Sep 2025 02:00:37 -0700 (PDT) X-Relaying-Domain: iol.unh.edu Date: Tue, 30 Sep 2025 02:00:37 -0700 (PDT) Message-ID: <68db9c35.d40a0220.37540.e0c6SMTPIN_ADDED_MISSING@mx.google.com> Received: from [172.21.0.3] (unknown [172.18.0.240]) by postal.iol.unh.edu (Postfix) with ESMTP id 46ACF6051830; Tue, 30 Sep 2025 05:00:37 -0400 (EDT) Subject: |SUCCESS| [GIT MASTER] b287e404643aeab5bb5db084c142789df187844e From: dpdklab@iol.unh.edu To: Test Report Cc: dpdk-test-reports@iol.unh.edu, Xueming Li , Christian Ehrhardt , Kevin Traynor , Luca Boccassi Content-Type: text/plain X-BeenThere: test-report@dpdk.org X-Mailman-Version: 2.1.29 Precedence: list List-Id: automatic DPDK test reports List-Unsubscribe: , List-Archive: List-Post: List-Help: List-Subscribe: , Errors-To: test-report-bounces@dpdk.org _Testing PASS_ Branch: tags/v24.11 b287e404643aeab5bb5db084c142789df187844e --> testing pass Upstream job id: Generic-DPDK-Compile-Meson#429914 Test environment and result as below: +-------------------------------+--------------------+-------------------+-------------------------+----------------------+-------------------+------------------+ | Environment | dpdk_meson_compile | dpdk_msvc_compile | dpdk_llvm_clang_compile | dpdk_mingw64_compile | dpdk_compile_spdk | dpdk_compile_ovs | +===============================+====================+===================+=========================+======================+===================+==================+ | Ubuntu 20.04 | PASS | SKIPPED | SKIPPED | SKIPPED | SKIPPED | SKIPPED | +-------------------------------+--------------------+-------------------+-------------------------+----------------------+-------------------+------------------+ | FreeBSD 14.2 | PASS | SKIPPED | SKIPPED | SKIPPED | SKIPPED | SKIPPED | +-------------------------------+--------------------+-------------------+-------------------------+----------------------+-------------------+------------------+ | CentOS Stream 9 | PASS | SKIPPED | SKIPPED | SKIPPED | PASS | SKIPPED | +-------------------------------+--------------------+-------------------+-------------------------+----------------------+-------------------+------------------+ | CentOS Stream 10 | PASS | SKIPPED | SKIPPED | SKIPPED | SKIPPED | SKIPPED | +-------------------------------+--------------------+-------------------+-------------------------+----------------------+-------------------+------------------+ | Debian GNU/Linux 12 | PASS | SKIPPED | SKIPPED | SKIPPED | PASS | SKIPPED | +-------------------------------+--------------------+-------------------+-------------------------+----------------------+-------------------+------------------+ | Fedora Linux 42 | PASS | SKIPPED | SKIPPED | SKIPPED | PASS | PASS | +-------------------------------+--------------------+-------------------+-------------------------+----------------------+-------------------+------------------+ | openSUSE Leap 15.6 | PASS | SKIPPED | SKIPPED | SKIPPED | SKIPPED | SKIPPED | +-------------------------------+--------------------+-------------------+-------------------------+----------------------+-------------------+------------------+ | Red Hat Enterprise Linux 8.10 | PASS | SKIPPED | SKIPPED | SKIPPED | SKIPPED | SKIPPED | +-------------------------------+--------------------+-------------------+-------------------------+----------------------+-------------------+------------------+ | Red Hat Enterprise Linux 9.5 | PASS | SKIPPED | SKIPPED | SKIPPED | SKIPPED | SKIPPED | +-------------------------------+--------------------+-------------------+-------------------------+----------------------+-------------------+------------------+ | Ubuntu 22.04 | PASS | SKIPPED | SKIPPED | SKIPPED | PASS | SKIPPED | +-------------------------------+--------------------+-------------------+-------------------------+----------------------+-------------------+------------------+ | Ubuntu 24.04 | PASS | SKIPPED | SKIPPED | SKIPPED | PASS | PASS | +-------------------------------+--------------------+-------------------+-------------------------+----------------------+-------------------+------------------+ | Alpine Linux 3.22.0 | PASS | SKIPPED | SKIPPED | SKIPPED | SKIPPED | SKIPPED | +-------------------------------+--------------------+-------------------+-------------------------+----------------------+-------------------+------------------+ | Windows Server 2022 | SKIPPED | PASS | PASS | PASS | SKIPPED | SKIPPED | +-------------------------------+--------------------+-------------------+-------------------------+----------------------+-------------------+------------------+ Ubuntu 20.04 Kernel: 4.19 Compiler: gcc gcc (Ubuntu 9.4.0-1ubuntu1~20.04.2) 9.4.0 FreeBSD 14.2 Kernel: 14.2-RELEASE Compiler: clang 18.1.6 CentOS Stream 9 Kernel: 5.15 Compiler: gcc gcc (GCC) 11.5.0 20240719 (Red Hat 11.5.0-11) CentOS Stream 10 Kernel: 5.15 Compiler: gcc gcc (GCC) 14.2.1 20250110 (Red Hat 14.2.1-8) Debian GNU/Linux 12 Kernel: 5.15 Compiler: gcc gcc (Debian 12.2.0-14+deb12u1) 12.2.0 Fedora Linux 42 Kernel: 5.15 Compiler: clang gcc (GCC) 15.2.1 20250808 (Red Hat 15.2.1-1) openSUSE Leap 15.6 Kernel: 5.15 Compiler: gcc gcc (SUSE Linux) 7.5.0 Red Hat Enterprise Linux 8.10 Kernel: 5.15 Compiler: gcc gcc (GCC) 8.5.0 20210514 (Red Hat 8.5.0-22) Red Hat Enterprise Linux 9.5 Kernel: 5.15 Compiler: gcc gcc (GCC) 11.5.0 20240719 (Red Hat 11.5.0-2) Ubuntu 22.04 Kernel: 5.15 Compiler: gcc gcc (Ubuntu 11.4.0-1ubuntu1~22.04) 11.4.0 Ubuntu 24.04 Kernel: 5.15 Compiler: gcc gcc (Ubuntu 13.3.0-6ubuntu2~24.04) 13.3.0 Alpine Linux 3.22.0 Kernel: 5.15 Compiler: gcc gcc (Alpine 14.2.0) 14.2.0 Windows Server 2022 Kernel: 10.0.20348.2031 Compiler: clang 15.0.7, gcc 14.1.0 (MinGW), and MSVC VS 19.39.33521 To view detailed results, visit: https://lab.dpdk.org/results/dashboard/tarballs/35053/ UNH-IOL DPDK Community Lab To manage your email subscriptions, visit: https://lab.dpdk.org/results/dashboard/preferences/subscriptions/