From mboxrd@z Thu Jan 1 00:00:00 1970 Return-Path: Received: from mails.dpdk.org (mails.dpdk.org [217.70.189.124]) by inbox.dpdk.org (Postfix) with ESMTP id 88A1D4886F for ; Tue, 30 Sep 2025 11:17:58 +0200 (CEST) Received: from mails.dpdk.org (localhost [127.0.0.1]) by mails.dpdk.org (Postfix) with ESMTP id 82D7D400D7; Tue, 30 Sep 2025 11:17:58 +0200 (CEST) Received: from mail-ot1-f99.google.com (mail-ot1-f99.google.com [209.85.210.99]) by mails.dpdk.org (Postfix) with ESMTP id 2CD12400D7 for ; Tue, 30 Sep 2025 11:17:57 +0200 (CEST) Received: by mail-ot1-f99.google.com with SMTP id 46e09a7af769-7bcfafec537so310244a34.0 for ; Tue, 30 Sep 2025 02:17:57 -0700 (PDT) DKIM-Signature: v=1; a=rsa-sha256; c=relaxed/relaxed; d=iol.unh.edu; s=unh-iol; t=1759223876; x=1759828676; darn=dpdk.org; h=references:in-reply-to:cc:to:from:subject:message-id:date:from:to :cc:subject:date:message-id:reply-to; bh=WqunHlMxsJ12d/u7ORrng50F6gvVG+AUytv/5LgsVkI=; b=Jh/PbReDLBDNRaZyHBYWN2Zzu6HHQGQUKn19DYEw6C7hqVAkQRfA045j4bKXxK6v92 awXqquoiBn6NZWTbJXQhnW3PijfJtO+7vwjMw6wtJBrvY0kNTxISffjA+2hLvrHg8VRN 8A5pWWE8AzsrmjEuQMoHXxEIxqLa8ZDNPm9ok= X-Google-DKIM-Signature: v=1; a=rsa-sha256; c=relaxed/relaxed; d=1e100.net; s=20230601; t=1759223876; x=1759828676; h=references:in-reply-to:cc:to:from:subject:message-id:date :x-gm-message-state:from:to:cc:subject:date:message-id:reply-to; bh=WqunHlMxsJ12d/u7ORrng50F6gvVG+AUytv/5LgsVkI=; b=e88f4UfjOsYzOPoJB5HSxBKftfQ3CswIZNZ7JTXqDLIM6Eqv5Q5/s5SFP3+lYMJglN mbg3d4Z3f/XGgElDRKgj66uOGJvfEph8ybJZ7ZjFthVge+ZYrA/34ANiXaRBG0nXYKQY a/4MA/KxzD8Rqfc4E5ro+EJNwbXtSFxD/VVHf7Wdwt65zMnAqQVZv5iC4agC7bY4eJy5 5wloVWWRLHEp4/lPVuJ/2tK2j17YUYmMjLoXAOt5JybL0YTYTqeh7U3GSbQ8779SHGZW wEc/jUFUk1ZgsfBkL7h9vX6ZbnxHwb/Om1TguR2aFimeoUEXuGVAdZ4HWtUqo5zqAZ/i Tv9w== X-Gm-Message-State: AOJu0YzvvY7S9Onfy7hetNT+SbtNKa6kWzfy6nT/JucANgdOhIdxfHjt SAKGjmzBexCWCPG1vLki/VxjWXdLjsJBULEY4C5+0JR3oKjW9zEo2icraCpfv5dHTaFm1fYSTma pCxdrO0PchTucwDHe596KB6EHBiWC4BDNI3141LSTDpcGPww+2tTU4uGADUGx X-Gm-Gg: ASbGncsoK8s7CrJ4h68eqzBzKaJLtGumidgVxnL6JCAbOxg0mdDhB/E4pt5JzNkxsSd BAAhKcgqrRN9yTitOgPV0ES1++tfdXf+E8MgzNlYFOz7IHV6CONGCYBDlaxkRVvMIcWTVYtw4ny g3HtXKknhkXSrCzRHP/eqJY3D/Ntnlpxw1vVdt2V5qIxITRZviot5AGx37j+Hi2Gn5eyHKcweBO uhwY8e0ttxi/IsOPTiHTFmgHGQo6biuYfb04rOd54pQU5vq6tluksoi4I+843XINokjkaA5HCBV n+NxbQ69cW8JsFfK1E/mT4/M6QSqy7zQunY0j6dLiOZ1uaewzpkMWws= X-Google-Smtp-Source: AGHT+IH9igikWO0cwZKwOh0NvOwpdtj4olD3q96eFbuzWm1MZLhzBFubfEn8xCKoIzuNlq5WRa6ImEaGHLg7 X-Received: by 2002:a05:6830:d1a:b0:7bc:f0f0:a0b7 with SMTP id 46e09a7af769-7bcf0f0a466mr890287a34.35.1759223876413; Tue, 30 Sep 2025 02:17:56 -0700 (PDT) Received: from postal.iol.unh.edu (postal.iol.unh.edu. [2606:4100:3880:1234::84]) by smtp-relay.gmail.com with ESMTPS id 46e09a7af769-7a237a04669sm517406a34.4.2025.09.30.02.17.56 (version=TLS1_2 cipher=ECDHE-ECDSA-AES128-GCM-SHA256 bits=128/128); Tue, 30 Sep 2025 02:17:56 -0700 (PDT) X-Relaying-Domain: iol.unh.edu Date: Tue, 30 Sep 2025 02:17:56 -0700 (PDT) Message-ID: <68dba044.050a0220.caf9e.f247SMTPIN_ADDED_MISSING@mx.google.com> Received: from [172.21.0.2] (unknown [172.18.0.240]) by postal.iol.unh.edu (Postfix) with ESMTP id D8C0A6051830; Tue, 30 Sep 2025 05:17:55 -0400 (EDT) Subject: |SUCCESS| pw157111 [PATCH] net/mlx5: fix IPv6 DSCP offset in NT HWS From: dpdklab@iol.unh.edu To: Test Report Cc: dpdk-test-reports@iol.unh.edu In-Reply-To: <20250930072827.9630-1-gavinl@nvidia.com> References: <20250930072827.9630-1-gavinl@nvidia.com> Content-Type: text/plain X-BeenThere: test-report@dpdk.org X-Mailman-Version: 2.1.29 Precedence: list List-Id: automatic DPDK test reports List-Unsubscribe: , List-Archive: List-Post: List-Help: List-Subscribe: , Errors-To: test-report-bounces@dpdk.org Test-Label: iol-compile-amd64-testing Test-Status: SUCCESS http://dpdk.org/patch/157111 _Testing PASS_ Submitter: Gavin Li Date: Tuesday, September 30 2025 07:28:27 DPDK git baseline: Repo:dpdk-next-net-mlx Branch: master CommitID:2374f33e1d964e100895fd294966380c46f0886d 157111 --> testing pass Upstream job id: Windows-Compile-DPDK-VS#7057 Test environment and result as below: +---------------------+--------------------+-------------------+ | Environment | dpdk_meson_compile | dpdk_msvc_compile | +=====================+====================+===================+ | Ubuntu 20.04 | PASS | SKIPPED | +---------------------+--------------------+-------------------+ | FreeBSD 14.2 | PASS | SKIPPED | +---------------------+--------------------+-------------------+ | Windows Server 2022 | SKIPPED | PASS | +---------------------+--------------------+-------------------+ Ubuntu 20.04 Kernel: 4.19 Compiler: gcc gcc (Ubuntu 9.4.0-1ubuntu1~20.04.2) 9.4.0 FreeBSD 14.2 Kernel: 14.2-RELEASE Compiler: clang 18.1.6 Windows Server 2022 Kernel: 10.0.20348.2031 Compiler: clang 15.0.7, gcc 14.1.0 (MinGW), and MSVC VS 19.39.33521 To view detailed results, visit: https://lab.dpdk.org/results/dashboard/patchsets/34178/ UNH-IOL DPDK Community Lab To manage your email subscriptions, visit: https://lab.dpdk.org/results/dashboard/preferences/subscriptions/