From mboxrd@z Thu Jan 1 00:00:00 1970 Return-Path: Received: from mails.dpdk.org (mails.dpdk.org [217.70.189.124]) by inbox.dpdk.org (Postfix) with ESMTP id A7C1A4886F for ; Tue, 30 Sep 2025 11:18:48 +0200 (CEST) Received: from mails.dpdk.org (localhost [127.0.0.1]) by mails.dpdk.org (Postfix) with ESMTP id A258C400D7; Tue, 30 Sep 2025 11:18:48 +0200 (CEST) Received: from mail-pl1-f227.google.com (mail-pl1-f227.google.com [209.85.214.227]) by mails.dpdk.org (Postfix) with ESMTP id 66E08400D7 for ; Tue, 30 Sep 2025 11:18:48 +0200 (CEST) Received: by mail-pl1-f227.google.com with SMTP id d9443c01a7336-271d1305ad7so74341745ad.2 for ; Tue, 30 Sep 2025 02:18:48 -0700 (PDT) DKIM-Signature: v=1; a=rsa-sha256; c=relaxed/relaxed; d=iol.unh.edu; s=unh-iol; t=1759223927; x=1759828727; darn=dpdk.org; h=references:in-reply-to:cc:to:from:subject:message-id:date:from:to :cc:subject:date:message-id:reply-to; bh=uAMQNu62qDaGFmdISfHMS+U3KHNI4v4Pr+qsBXIqeEQ=; b=BrWwKOmIH4p+Zp6XKUP2Zp4pJhavg1VegjShN5knb/RcJY49pWKLYcnPS0PnHtkCNY zziIIedc/Y5mc7dprOatlb/C+Z8wrdH1GP4cHmjC5SBtKZyXzSMMp4kBb8HKovvpABhI 5CB5C3gi3a3ahEuzfQ9PQBi84as+0RAhDtFq4= X-Google-DKIM-Signature: v=1; a=rsa-sha256; c=relaxed/relaxed; d=1e100.net; s=20230601; t=1759223927; x=1759828727; h=references:in-reply-to:cc:to:from:subject:message-id:date :x-gm-message-state:from:to:cc:subject:date:message-id:reply-to; bh=uAMQNu62qDaGFmdISfHMS+U3KHNI4v4Pr+qsBXIqeEQ=; b=OsvByTvCjIVnr81N3kE09ULzZ8/WQEPiy2Lur9M+FGbBCZWeTQqfOf2FZVr019RWLw zgrirguOD4841XOG+/lp41o9NtuDYAACef5qZAA2A2B9gNU4mu0XSO5X3MLdCIn+sQbO XAiaYO9T7cr5empwNngOQOh9va8m5aM4ci+RUjJ8GnqULGzXD07qHhHYIIy2sIMRJVce sw7ZGG1zMi5GCqAaLaieKqB6C+AB2lvz1+Ce6IZ6pgOkHne41i7IVIQsrsK386ZI7MmM 6la6s1MgSKK31QdVGECBrZ67hyqMf2cbcICzSznjr41017IpCc7iUgDxLXUbC3AfBUHW 372g== X-Gm-Message-State: AOJu0YwV2CzsGXSLQD+8h9Q4SwwSMn8t4KTopq1uB1YDA/GMrx9BmLJB g2B5s2j8OWQjJnbVIzngcm28ABJhv3k12oQan1wftMswE4qSs6eNqJZ0w2ZkJdUgoM4eDQdwaBw B9XBetpfcD7WW+EiXa4YSWhlPpVm8hsjnrAOywBtsbRrt X-Gm-Gg: ASbGncs71HdHVX0dULkRnEVLFL/g0C5xwy0z/W3JmvJTWDWXogyOxcQtifHYf1kImzf /rH30ldbsaBdq395z9EfQ/IN8/eDmJtTR7eTJdaHDSBd7mnm0F/1loyBJxByer6nKCJfAs68brM e3oH17y+kTLojVvu4olXYMoLEECP1/vBJ+Jh2k0UUvxNVXcoOvC4mPmEQ5Jij5BiSl02hzEuYUG YeUH/Ki9z0ehTPdshiNUmxtyj8fm39Y7F4WFHwI1sPvHqI4XQPcNp1U439qPv8E6rpVLji2l2d3 s4GQJvZeD3FoAlz5l0IVsZSnWuiDTt+H+Omi0xde/Py9hYQgf/dUxCQSK8W587GXoDgFs+27/1f Vnw== X-Google-Smtp-Source: AGHT+IEkm4o+hFxJEm7EhbmS4Tii5t6WaRg8Yy9syF2QmLFFgxoH4SXTTXQY442zOstIBXhX8ZIbtxtp59Bb X-Received: by 2002:a17:903:2c08:b0:28e:7567:3c4b with SMTP id d9443c01a7336-28e75673cc8mr11848625ad.16.1759223927650; Tue, 30 Sep 2025 02:18:47 -0700 (PDT) Received: from postal.iol.unh.edu (postal.iol.unh.edu. [132.177.123.84]) by smtp-relay.gmail.com with ESMTPS id d9443c01a7336-27ed66df723sm11335855ad.24.2025.09.30.02.18.47 (version=TLS1_2 cipher=ECDHE-ECDSA-AES128-GCM-SHA256 bits=128/128); Tue, 30 Sep 2025 02:18:47 -0700 (PDT) X-Relaying-Domain: iol.unh.edu Date: Tue, 30 Sep 2025 02:18:47 -0700 (PDT) Message-ID: <68dba077.170a0220.3dbfbd.3850SMTPIN_ADDED_MISSING@mx.google.com> Received: from [172.21.0.2] (unknown [172.18.0.240]) by postal.iol.unh.edu (Postfix) with ESMTP id E96A96051830; Tue, 30 Sep 2025 05:18:46 -0400 (EDT) Subject: |SUCCESS| pw157056 [PATCH] [v4] net/intel: add IDPF PCI class ID sup From: dpdklab@iol.unh.edu To: Test Report Cc: dpdk-test-reports@iol.unh.edu In-Reply-To: <20250929140015.198615-1-venkatesh.vemula@intel.com> References: <20250929140015.198615-1-venkatesh.vemula@intel.com> Content-Type: text/plain X-BeenThere: test-report@dpdk.org X-Mailman-Version: 2.1.29 Precedence: list List-Id: automatic DPDK test reports List-Unsubscribe: , List-Archive: List-Post: List-Help: List-Subscribe: , Errors-To: test-report-bounces@dpdk.org Test-Label: iol-compile-amd64-testing Test-Status: SUCCESS http://dpdk.org/patch/157056 _Testing PASS_ Submitter: Vemula Venkatesh Date: Monday, September 29 2025 14:00:15 DPDK git baseline: Repo:dpdk Branch: master CommitID:1d627ea13aeec2bcccf27246e6be2508370d171e 157056 --> testing pass Upstream job id: Windows-Compile-DPDK-Native#31316 Test environment and result as below: +---------------------+--------------------+-------------------+-------------------------+----------------------+ | Environment | dpdk_meson_compile | dpdk_msvc_compile | dpdk_llvm_clang_compile | dpdk_mingw64_compile | +=====================+====================+===================+=========================+======================+ | Ubuntu 20.04 | PASS | SKIPPED | SKIPPED | SKIPPED | +---------------------+--------------------+-------------------+-------------------------+----------------------+ | FreeBSD 14.2 | PASS | SKIPPED | SKIPPED | SKIPPED | +---------------------+--------------------+-------------------+-------------------------+----------------------+ | Windows Server 2022 | SKIPPED | PASS | PASS | PASS | +---------------------+--------------------+-------------------+-------------------------+----------------------+ Ubuntu 20.04 Kernel: 4.19 Compiler: gcc gcc (Ubuntu 9.4.0-1ubuntu1~20.04.2) 9.4.0 FreeBSD 14.2 Kernel: 14.2-RELEASE Compiler: clang 18.1.6 Windows Server 2022 Kernel: 10.0.20348.2031 Compiler: clang 15.0.7, gcc 14.1.0 (MinGW), and MSVC VS 19.39.33521 To view detailed results, visit: https://lab.dpdk.org/results/dashboard/patchsets/34176/ UNH-IOL DPDK Community Lab To manage your email subscriptions, visit: https://lab.dpdk.org/results/dashboard/preferences/subscriptions/