From mboxrd@z Thu Jan 1 00:00:00 1970 Return-Path: Received: from mails.dpdk.org (mails.dpdk.org [217.70.189.124]) by inbox.dpdk.org (Postfix) with ESMTP id 777074886F for ; Tue, 30 Sep 2025 11:27:03 +0200 (CEST) Received: from mails.dpdk.org (localhost [127.0.0.1]) by mails.dpdk.org (Postfix) with ESMTP id 6E155400D7; Tue, 30 Sep 2025 11:27:03 +0200 (CEST) Received: from mail-pg1-f226.google.com (mail-pg1-f226.google.com [209.85.215.226]) by mails.dpdk.org (Postfix) with ESMTP id 3F8DA400D7 for ; Tue, 30 Sep 2025 11:27:02 +0200 (CEST) Received: by mail-pg1-f226.google.com with SMTP id 41be03b00d2f7-b57f08e88bcso3290487a12.0 for ; Tue, 30 Sep 2025 02:27:02 -0700 (PDT) DKIM-Signature: v=1; a=rsa-sha256; c=relaxed/relaxed; d=iol.unh.edu; s=unh-iol; t=1759224421; x=1759829221; darn=dpdk.org; h=references:in-reply-to:cc:to:from:subject:message-id:date:from:to :cc:subject:date:message-id:reply-to; bh=TA3i1pkwlts7IgZ1CGfMDAgJS50tsQyNJCQeZw5gEiM=; b=BdoigI3uGI14tcmY2tRt1/EJJ0f/Yl1Ot4KJheGBwkr+OODnqm318y+lVli08B4B5S uqcpbLZO8s/dBplfXtDVsBzjPPAmG9FNKtg+8aMOOlcwBWJIdc0hunBRi/1hr25g2zKI BFa9vR9vy6oUSErNd4lNevAUG/XC68DajIv9s= X-Google-DKIM-Signature: v=1; a=rsa-sha256; c=relaxed/relaxed; d=1e100.net; s=20230601; t=1759224421; x=1759829221; h=references:in-reply-to:cc:to:from:subject:message-id:date :x-gm-message-state:from:to:cc:subject:date:message-id:reply-to; bh=TA3i1pkwlts7IgZ1CGfMDAgJS50tsQyNJCQeZw5gEiM=; b=jhbf9T78uJSA8yR763sNuciSleR42Xi+BuA3eqw5BDv6Y5DaNry8Q0ubWJqalQivJo TvsGEvBWgZeYtrBnTtRmlmx2qT0YE7Vo8NuKWSFMNYxVugMGI9pAmzRjtRLhLTXFRyKq ES/mLqNAK49EG6OYbLXdQYNTpZ633YBtimPz1LhupGAQlFb4CKKNONb2071sxNQmyYti xSOrsWHIrGs5gO2jtbUawIIMsWWHGmxXLWFINfzWigosiPF1Qj6Zb/XLnSCYIZmUY9m8 I93/CWVIqjI+YWR196q9Qvqoy6haUQcOinyEzUv49lJAU7TOCKDJA4Y+2KScEwkH511v q+mg== X-Gm-Message-State: AOJu0YwEEezuLfpFrgwZn+k/wiKIi8qNJEPUCmunqJmY71MX7cP8aDW2 /bbLzz9BOkVFFDjsI2emxpJYfa7+V3YKxfLV3pzeaoPLX/nJ5i0X40Hev4q8ljDtr02mYbNLXL8 sUBOHBb4QG+v/s62FO7JBAKdQS13Mj/los+96ggp6WEKIC3Xw3rfFsYu93cbd X-Gm-Gg: ASbGncuq9HZGP1iCIjhzE+q2RFoiKLyDrS/l2JwCMcU8B9qztZWzRafsNb/FvxV5I/6 /Vm3sxEfax+XmD/lW7jJq0Zb3aFqOOxAfZkxflLSSTXzYJ0bwsSCMzif2SJM7zwZgd7yUVCRCE4 zzOEED1fhKaKLx7KlOutRhc0cnzCVgDuaiZRSuduycgXj4MJ1apznWzaxdS+pS9GAaq3OG4Atcw pvNLmmO8od0GOxh7uo4u8wpabTxUKUlpiaCMWPX8P5nsSRERqyjsaCRA017lUePsSe9vMLMa+EW R7kQ0T3otCr39h1vEMAiCtlyyThIKgTnPLaiNY5610ZpRsTm0Wv20dU= X-Google-Smtp-Source: AGHT+IGNl8ViupTOvh5S0Nw+q9zW5CkEeKhwSZRVuYyiPYK5PMBb3q2PetYDzktaIbknw7QpVnUE7gy7HD2P X-Received: by 2002:a17:902:c94f:b0:24c:7b94:2f87 with SMTP id d9443c01a7336-27ed49d0885mr215893695ad.14.1759224421341; Tue, 30 Sep 2025 02:27:01 -0700 (PDT) Received: from postal.iol.unh.edu (postal.iol.unh.edu. [2606:4100:3880:1234::84]) by smtp-relay.gmail.com with ESMTPS id d9443c01a7336-27ed66dc6fcsm11603645ad.16.2025.09.30.02.27.01 (version=TLS1_2 cipher=ECDHE-ECDSA-AES128-GCM-SHA256 bits=128/128); Tue, 30 Sep 2025 02:27:01 -0700 (PDT) X-Relaying-Domain: iol.unh.edu Date: Tue, 30 Sep 2025 02:27:01 -0700 (PDT) Message-ID: <68dba265.170a0220.5fffb.5109SMTPIN_ADDED_MISSING@mx.google.com> Received: from [172.21.0.2] (unknown [172.18.0.240]) by postal.iol.unh.edu (Postfix) with ESMTP id CC42B6051830; Tue, 30 Sep 2025 05:27:00 -0400 (EDT) Subject: |SUCCESS| pw157111 [PATCH] net/mlx5: fix IPv6 DSCP offset in NT HWS From: dpdklab@iol.unh.edu To: Test Report Cc: dpdk-test-reports@iol.unh.edu In-Reply-To: <20250930072827.9630-1-gavinl@nvidia.com> References: <20250930072827.9630-1-gavinl@nvidia.com> Content-Type: text/plain X-BeenThere: test-report@dpdk.org X-Mailman-Version: 2.1.29 Precedence: list List-Id: automatic DPDK test reports List-Unsubscribe: , List-Archive: List-Post: List-Help: List-Subscribe: , Errors-To: test-report-bounces@dpdk.org Test-Label: iol-unit-amd64-testing Test-Status: SUCCESS http://dpdk.org/patch/157111 _Testing PASS_ Submitter: Gavin Li Date: Tuesday, September 30 2025 07:28:27 DPDK git baseline: Repo:dpdk-next-net-mlx Branch: master CommitID:2374f33e1d964e100895fd294966380c46f0886d 157111 --> testing pass Upstream job id: Generic-VM-Unit-Test-DPDK#31486 Test environment and result as below: +-------------------------------+----------------+ | Environment | dpdk_unit_test | +===============================+================+ | CentOS Stream 10 | PASS | +-------------------------------+----------------+ | CentOS Stream 9 | PASS | +-------------------------------+----------------+ | Debian GNU/Linux 12 | PASS | +-------------------------------+----------------+ | Fedora Linux 40 | PASS | +-------------------------------+----------------+ | Fedora Linux 41 | PASS | +-------------------------------+----------------+ | Fedora Linux 42 | PASS | +-------------------------------+----------------+ | Red Hat Enterprise Linux 9.5 | PASS | +-------------------------------+----------------+ | Ubuntu 20.04 | PASS | +-------------------------------+----------------+ | Ubuntu 22.04 | PASS | +-------------------------------+----------------+ | Red Hat Enterprise Linux 8.10 | PASS | +-------------------------------+----------------+ | Ubuntu 24.04 | PASS | +-------------------------------+----------------+ | Windows Server 2022 | PASS | +-------------------------------+----------------+ CentOS Stream 10 Kernel: 5.15 Compiler: gcc gcc (GCC) 14.2.1 20250110 (Red Hat 14.2.1-8) CentOS Stream 9 Kernel: 5.15 Compiler: gcc gcc (GCC) 11.5.0 20240719 (Red Hat 11.5.0-11) Debian GNU/Linux 12 Kernel: 5.15 Compiler: gcc gcc (Debian 12.2.0-14+deb12u1) 12.2.0 Fedora Linux 40 Kernel: 5.15 Compiler: gcc gcc (GCC) 14.2.1 20240912 (Red Hat 14.2.1-3) Fedora Linux 41 Kernel: 5.15 Compiler: gcc gcc (GCC) 14.3.1 20250523 (Red Hat 14.3.1-1) Fedora Linux 42 Kernel: 5.15 Compiler: clang gcc (GCC) 15.2.1 20250808 (Red Hat 15.2.1-1) Red Hat Enterprise Linux 9.5 Kernel: 5.15 Compiler: gcc gcc (GCC) 11.5.0 20240719 (Red Hat 11.5.0-2) Ubuntu 20.04 Kernel: 5.15 Compiler: gcc gcc (Ubuntu 9.4.0-1ubuntu1~20.04.2) 9.4.0 Ubuntu 22.04 Kernel: 5.15 Compiler: gcc gcc (Ubuntu 11.4.0-1ubuntu1~22.04) 11.4.0 Red Hat Enterprise Linux 8.10 Kernel: 5.15 Compiler: gcc gcc (GCC) 8.5.0 20210514 (Red Hat 8.5.0-22) Ubuntu 24.04 Kernel: 5.15 Compiler: gcc gcc (Ubuntu 13.3.0-6ubuntu2~24.04) 13.3.0 Windows Server 2022 Kernel: 10.0.20348.2031 Compiler: clang 15.0.7, gcc 14.1.0 (MinGW), and MSVC VS 19.39.33521 To view detailed results, visit: https://lab.dpdk.org/results/dashboard/patchsets/34178/ UNH-IOL DPDK Community Lab To manage your email subscriptions, visit: https://lab.dpdk.org/results/dashboard/preferences/subscriptions/