From mboxrd@z Thu Jan 1 00:00:00 1970 Return-Path: Received: from mails.dpdk.org (mails.dpdk.org [217.70.189.124]) by inbox.dpdk.org (Postfix) with ESMTP id E8E6A4886F for ; Tue, 30 Sep 2025 11:30:52 +0200 (CEST) Received: from mails.dpdk.org (localhost [127.0.0.1]) by mails.dpdk.org (Postfix) with ESMTP id E1CFD400D7; Tue, 30 Sep 2025 11:30:52 +0200 (CEST) Received: from mail-il1-f228.google.com (mail-il1-f228.google.com [209.85.166.228]) by mails.dpdk.org (Postfix) with ESMTP id 08997400D7 for ; Tue, 30 Sep 2025 11:30:52 +0200 (CEST) Received: by mail-il1-f228.google.com with SMTP id e9e14a558f8ab-42861442ec5so30899845ab.0 for ; Tue, 30 Sep 2025 02:30:51 -0700 (PDT) DKIM-Signature: v=1; a=rsa-sha256; c=relaxed/relaxed; d=iol.unh.edu; s=unh-iol; t=1759224651; x=1759829451; darn=dpdk.org; h=references:in-reply-to:cc:to:from:subject:message-id:date:from:to :cc:subject:date:message-id:reply-to; bh=iU0XwnLNB78j6IttfsJZsxfvXQe7MLhaCLqEzZ1DUeM=; b=jiNbb2UXzxJroINtAbFbkAvWn4XwFMSp33+iMR1CWm1lqLuEuKrnazp7OkBqxtBLrv +7OjrSuw6MlNZWXAdgxZeY02RmiilfFllMm2jvDFYfjTT7oomMim0ma7yzfYO2hYN4Uc CPtZyos69EaTAmF7W2jtPYIW44eDU2VhCDET4= X-Google-DKIM-Signature: v=1; a=rsa-sha256; c=relaxed/relaxed; d=1e100.net; s=20230601; t=1759224651; x=1759829451; h=references:in-reply-to:cc:to:from:subject:message-id:date :x-gm-message-state:from:to:cc:subject:date:message-id:reply-to; bh=iU0XwnLNB78j6IttfsJZsxfvXQe7MLhaCLqEzZ1DUeM=; b=XI6nMOuqHlFsjf+PlhRZ04m+/U1LdjStsKoYBCPPucjvl4P/BJ5R9OzCPEwkP+G7V2 LrcMHO+M2x/ArZpU7C6YcWzfipxJp33STwUPTHUTXW7FUvmGc2/ASWkcDC+Qw86U10Gu NyNHmPGcV6KhtaMrklHv7a81YFONI0rjzh6N58zL9d/9nd2lGipSFj6jvH2wwdrACNke 6lGbBBecpn+EBGde5YpnNVrsV+XV4+oEvDmWPD4lJ3v+8vr5Nz1rQGQWgdNuScRhK1ZC qk7SW2H3tPMToHI02AsEDQyxXD+rnJVmEIvFCykXe4zB06KgEtxkIuMw3AI1q2jiXgJA pGMw== X-Gm-Message-State: AOJu0YxvpymWANAMBb78mv7vz707Gm331cQFUmhA8hyIm2hK0OsDrz9S BTeHf1CaN+LrlusXOb2Gbp/cmyhXH7jb4UGFMaGGysgPLaLGlIJL5xJTx1lwpODb6h2bzBfwzyC ICRRYEt2EScFSZlHFZxurPpHHK5K/fO42it/jgWwukLp4 X-Gm-Gg: ASbGncv9lOaGq6wT7EchKtwnC38vqmwzJbYuVqYQbdLOnpPpJkHxp7pjNtG17EF260q XC98KBJZFQohGq/Ug4X7S5YlLdXhQZ0X/cfFS1yU8p71sVcQ6YiJttKdRNpxEc7lHqXkwrPuaH9 hJ3KnZOET0JYxstCqwPyIK8F86t11+x0lRlqIcF+h/YfJuQ9nv3lFxaxaTcgEM+vLIqqBTV4bR1 6SRMObccGRA7pplLeM+dVHc+Z8rFRt85SQuKlHI4djgPHwooqOlcrdsKl4xLjXr2i6GbsFYMXWW LwFNtrAhmiJmQ0MCdexpZ9Na6ScR6ASHsOZieujciyk8EqHbXt8N9zSdPKIM3+NAzLfxPf3r6Ne XZA== X-Google-Smtp-Source: AGHT+IEQX2FB1y/NvTPWLdEmInfTvgmAdAiaXUpnECx3XZmSsP0meRMqzb8jzGFHDiF0bcIeggGPc7h40/hy X-Received: by 2002:a05:6e02:b23:b0:427:cfe3:4dbc with SMTP id e9e14a558f8ab-427cfe350a4mr234371325ab.14.1759224651280; Tue, 30 Sep 2025 02:30:51 -0700 (PDT) Received: from postal.iol.unh.edu (postal.iol.unh.edu. [132.177.123.84]) by smtp-relay.gmail.com with ESMTPS id 8926c6da1cb9f-578225efcecsm63156173.27.2025.09.30.02.30.51 (version=TLS1_2 cipher=ECDHE-ECDSA-AES128-GCM-SHA256 bits=128/128); Tue, 30 Sep 2025 02:30:51 -0700 (PDT) X-Relaying-Domain: iol.unh.edu Date: Tue, 30 Sep 2025 02:30:51 -0700 (PDT) Message-ID: <68dba34b.050a0220.3827b8.3778SMTPIN_ADDED_MISSING@mx.google.com> Received: from [172.21.0.2] (unknown [172.18.0.240]) by postal.iol.unh.edu (Postfix) with ESMTP id D073A6051830; Tue, 30 Sep 2025 05:30:50 -0400 (EDT) Subject: |SUCCESS| pw157111 [PATCH] net/mlx5: fix IPv6 DSCP offset in NT HWS From: dpdklab@iol.unh.edu To: Test Report Cc: dpdk-test-reports@iol.unh.edu In-Reply-To: <20250930072827.9630-1-gavinl@nvidia.com> References: <20250930072827.9630-1-gavinl@nvidia.com> Content-Type: text/plain X-BeenThere: test-report@dpdk.org X-Mailman-Version: 2.1.29 Precedence: list List-Id: automatic DPDK test reports List-Unsubscribe: , List-Archive: List-Post: List-Help: List-Subscribe: , Errors-To: test-report-bounces@dpdk.org Test-Label: iol-compile-amd64-testing Test-Status: SUCCESS http://dpdk.org/patch/157111 _Testing PASS_ Submitter: Gavin Li Date: Tuesday, September 30 2025 07:28:27 DPDK git baseline: Repo:dpdk-next-net-mlx Branch: master CommitID:2374f33e1d964e100895fd294966380c46f0886d 157111 --> testing pass Upstream job id: Windows-Compile-DPDK-Native#31317 Test environment and result as below: +---------------------+--------------------+-------------------+-------------------------+ | Environment | dpdk_meson_compile | dpdk_msvc_compile | dpdk_llvm_clang_compile | +=====================+====================+===================+=========================+ | Ubuntu 20.04 | PASS | SKIPPED | SKIPPED | +---------------------+--------------------+-------------------+-------------------------+ | FreeBSD 14.2 | PASS | SKIPPED | SKIPPED | +---------------------+--------------------+-------------------+-------------------------+ | Windows Server 2022 | SKIPPED | PASS | PASS | +---------------------+--------------------+-------------------+-------------------------+ Ubuntu 20.04 Kernel: 4.19 Compiler: gcc gcc (Ubuntu 9.4.0-1ubuntu1~20.04.2) 9.4.0 FreeBSD 14.2 Kernel: 14.2-RELEASE Compiler: clang 18.1.6 Windows Server 2022 Kernel: 10.0.20348.2031 Compiler: clang 15.0.7, gcc 14.1.0 (MinGW), and MSVC VS 19.39.33521 To view detailed results, visit: https://lab.dpdk.org/results/dashboard/patchsets/34178/ UNH-IOL DPDK Community Lab To manage your email subscriptions, visit: https://lab.dpdk.org/results/dashboard/preferences/subscriptions/